BEGIN:VCALENDAR
VERSION:2.0
PRODID:-//Early Music Diary - ECPv6.15.20//NONSGML v1.0//EN
CALSCALE:GREGORIAN
METHOD:PUBLISH
X-WR-CALNAME:Early Music Diary
X-ORIGINAL-URL:https://earlymusicdiary.org.uk
X-WR-CALDESC:Events for Early Music Diary
REFRESH-INTERVAL;VALUE=DURATION:PT1H
X-Robots-Tag:noindex
X-PUBLISHED-TTL:PT1H
BEGIN:VTIMEZONE
TZID:Europe/London
BEGIN:DAYLIGHT
TZOFFSETFROM:+0000
TZOFFSETTO:+0100
TZNAME:BST
DTSTART:20250330T010000
END:DAYLIGHT
BEGIN:STANDARD
TZOFFSETFROM:+0100
TZOFFSETTO:+0000
TZNAME:GMT
DTSTART:20251026T010000
END:STANDARD
BEGIN:DAYLIGHT
TZOFFSETFROM:+0000
TZOFFSETTO:+0100
TZNAME:BST
DTSTART:20260329T010000
END:DAYLIGHT
BEGIN:STANDARD
TZOFFSETFROM:+0100
TZOFFSETTO:+0000
TZNAME:GMT
DTSTART:20261025T010000
END:STANDARD
BEGIN:DAYLIGHT
TZOFFSETFROM:+0000
TZOFFSETTO:+0100
TZNAME:BST
DTSTART:20270328T010000
END:DAYLIGHT
BEGIN:STANDARD
TZOFFSETFROM:+0100
TZOFFSETTO:+0000
TZNAME:GMT
DTSTART:20271031T010000
END:STANDARD
END:VTIMEZONE
BEGIN:VEVENT
DTSTART;VALUE=DATE:20260418
DTEND;VALUE=DATE:20260419
DTSTAMP:20260420T100806
CREATED:20250710T100945Z
LAST-MODIFIED:20260204T153759Z
UID:4824-1776470400-1776556799@earlymusicdiary.org.uk
SUMMARY:NWEMF Workshop with Rory Wainwright Johnston
DESCRIPTION:Missa Ave Virgo Sanctissima by Gery de Ghersem\, and other pieces from 17th century Iberia\, a workshop for voices with Rory Wainwright Johnston.
URL:https://earlymusicdiary.org.uk/event/4824/
LOCATION:The Harris\, Preston\, PR1 2PP
CATEGORIES:Singers,Workshops
END:VEVENT
BEGIN:VEVENT
DTSTART;VALUE=DATE:20260418
DTEND;VALUE=DATE:20260419
DTSTAMP:20260420T100806
CREATED:20260204T170456Z
LAST-MODIFIED:20260204T170456Z
UID:5315-1776470400-1776556799@earlymusicdiary.org.uk
SUMMARY:MEMF Workshop with Katy Silverman
DESCRIPTION:Composers of the English Reformation. \nKaty will concentrate on John Sheppard and Robert Parsons who both composed in both English and Latin\, in the traditions of Catholic polyphony and then wrote music for the new Protestant reforms.
URL:https://earlymusicdiary.org.uk/event/5315/
LOCATION:St Faith and St Laurence Church\, Harborne\, Birmingham\, B17 8RD
CATEGORIES:Singers,Workshops
END:VEVENT
BEGIN:VEVENT
DTSTART;TZID=Europe/London:20260418T133000
DTEND;TZID=Europe/London:20260418T173000
DTSTAMP:20260420T100806
CREATED:20260203T172302Z
LAST-MODIFIED:20260203T172302Z
UID:5298-1776519000-1776533400@earlymusicdiary.org.uk
SUMMARY:Instrumental Workshop: "Cover Story" with Blondel
DESCRIPTION:Explore some of the most popular tunes of the 14th-16th centuries with members of Blondel Medieval & Renaissance wind band.
URL:https://earlymusicdiary.org.uk/event/5298/
LOCATION:Saint Andrew’s Church Hall\, Marks Tey\, Colchester\, CO6 1LW
CATEGORIES:Instruments,Workshops
END:VEVENT
END:VCALENDAR