BEGIN:VCALENDAR
VERSION:2.0
PRODID:-//Early Music Diary - ECPv6.15.20//NONSGML v1.0//EN
CALSCALE:GREGORIAN
METHOD:PUBLISH
X-ORIGINAL-URL:https://earlymusicdiary.org.uk
X-WR-CALDESC:Events for Early Music Diary
REFRESH-INTERVAL;VALUE=DURATION:PT1H
X-Robots-Tag:noindex
X-PUBLISHED-TTL:PT1H
BEGIN:VTIMEZONE
TZID:Europe/London
BEGIN:DAYLIGHT
TZOFFSETFROM:+0000
TZOFFSETTO:+0100
TZNAME:BST
DTSTART:20240331T010000
END:DAYLIGHT
BEGIN:STANDARD
TZOFFSETFROM:+0100
TZOFFSETTO:+0000
TZNAME:GMT
DTSTART:20241027T010000
END:STANDARD
BEGIN:DAYLIGHT
TZOFFSETFROM:+0000
TZOFFSETTO:+0100
TZNAME:BST
DTSTART:20250330T010000
END:DAYLIGHT
BEGIN:STANDARD
TZOFFSETFROM:+0100
TZOFFSETTO:+0000
TZNAME:GMT
DTSTART:20251026T010000
END:STANDARD
BEGIN:DAYLIGHT
TZOFFSETFROM:+0000
TZOFFSETTO:+0100
TZNAME:BST
DTSTART:20260329T010000
END:DAYLIGHT
BEGIN:STANDARD
TZOFFSETFROM:+0100
TZOFFSETTO:+0000
TZNAME:GMT
DTSTART:20261025T010000
END:STANDARD
END:VTIMEZONE
BEGIN:VEVENT
DTSTART;VALUE=DATE:20250106
DTEND;VALUE=DATE:20250110
DTSTAMP:20260424T053600
CREATED:20241105T102410Z
LAST-MODIFIED:20241105T102437Z
UID:4218-1736121600-1736467199@earlymusicdiary.org.uk
SUMMARY:Baroque String Band
DESCRIPTION:Explore the rich repertoire of the 17th-century string band. For baroque instruments at A=415. \nTutors: Judy Tarling\, Rachel Stott\, Kinga Gaborjani.
URL:https://earlymusicdiary.org.uk/event/4218/
LOCATION:Benslow Music\, Benslow Lane\, Hitchin\, Hertfordshire\, SG4 9RB
CATEGORIES:Courses,Instruments,Workshops
END:VEVENT
BEGIN:VEVENT
DTSTART;VALUE=DATE:20250107
DTEND;VALUE=DATE:20250110
DTSTAMP:20260424T053600
CREATED:20240920T083238Z
LAST-MODIFIED:20240920T083238Z
UID:4130-1736208000-1736467199@earlymusicdiary.org.uk
SUMMARY:Rondo Viol Academy
DESCRIPTION:Elementary\, Lower Intermediate\, Pre-formed Consorts.
URL:https://earlymusicdiary.org.uk/event/4130/
LOCATION:St. Katharine’s\, Henley-on-Thames\, RG9 6NN
CATEGORIES:Courses,Instruments
END:VEVENT
BEGIN:VEVENT
DTSTART;VALUE=DATE:20250127
DTEND;VALUE=DATE:20250131
DTSTAMP:20260424T053600
CREATED:20241105T111119Z
LAST-MODIFIED:20241105T111119Z
UID:4227-1737936000-1738281599@earlymusicdiary.org.uk
SUMMARY:Consorting Viols
DESCRIPTION:Three days of viol consort playing in a variety of group sizes. \nTutors: Alison Crum\, Peter Wendland.
URL:https://earlymusicdiary.org.uk/event/4227/
LOCATION:Benslow Music\, Benslow Lane\, Hitchin\, Hertfordshire\, SG4 9RB
CATEGORIES:Courses,Instruments
END:VEVENT
BEGIN:VEVENT
DTSTART;VALUE=DATE:20250130
DTEND;VALUE=DATE:20250203
DTSTAMP:20260424T053600
CREATED:20241105T111135Z
LAST-MODIFIED:20241105T111135Z
UID:4228-1738195200-1738540799@earlymusicdiary.org.uk
SUMMARY:Baroque Chamber Music at A=415
DESCRIPTION:For pre-formed chamber groups on period instruments. \nTutors: Theresa Caudle\, Mark Caudle\, Claire Williams\, Stephen Preston.
URL:https://earlymusicdiary.org.uk/event/4228/
LOCATION:Benslow Music\, Benslow Lane\, Hitchin\, Hertfordshire\, SG4 9RB
CATEGORIES:Courses,Instruments
END:VEVENT
BEGIN:VEVENT
DTSTART;VALUE=DATE:20250131
DTEND;VALUE=DATE:20250203
DTSTAMP:20260424T053600
CREATED:20240829T085753Z
LAST-MODIFIED:20241213T100739Z
UID:4048-1738281600-1738540799@earlymusicdiary.org.uk
SUMMARY:Recorder Orchestra Weekend 2025
DESCRIPTION:Recorders@Plymouth are back for their annual visit to Halsway Manor\, offering an opportunity to explore the huge diversity of recorder orchestra repertoire.
URL:https://earlymusicdiary.org.uk/event/4048/
LOCATION:Halsway Manor\, Halsway Lane\, Crowcombe\, Taunton\, TA4 4BD
CATEGORIES:Courses,Instruments
END:VEVENT
END:VCALENDAR