BEGIN:VCALENDAR
VERSION:2.0
PRODID:-//Early Music Diary - ECPv6.15.20//NONSGML v1.0//EN
CALSCALE:GREGORIAN
METHOD:PUBLISH
X-ORIGINAL-URL:https://earlymusicdiary.org.uk
X-WR-CALDESC:Events for Early Music Diary
REFRESH-INTERVAL;VALUE=DURATION:PT1H
X-Robots-Tag:noindex
X-PUBLISHED-TTL:PT1H
BEGIN:VTIMEZONE
TZID:Europe/London
BEGIN:DAYLIGHT
TZOFFSETFROM:+0000
TZOFFSETTO:+0100
TZNAME:BST
DTSTART:20240331T010000
END:DAYLIGHT
BEGIN:STANDARD
TZOFFSETFROM:+0100
TZOFFSETTO:+0000
TZNAME:GMT
DTSTART:20241027T010000
END:STANDARD
BEGIN:DAYLIGHT
TZOFFSETFROM:+0000
TZOFFSETTO:+0100
TZNAME:BST
DTSTART:20250330T010000
END:DAYLIGHT
BEGIN:STANDARD
TZOFFSETFROM:+0100
TZOFFSETTO:+0000
TZNAME:GMT
DTSTART:20251026T010000
END:STANDARD
BEGIN:DAYLIGHT
TZOFFSETFROM:+0000
TZOFFSETTO:+0100
TZNAME:BST
DTSTART:20260329T010000
END:DAYLIGHT
BEGIN:STANDARD
TZOFFSETFROM:+0100
TZOFFSETTO:+0000
TZNAME:GMT
DTSTART:20261025T010000
END:STANDARD
END:VTIMEZONE
BEGIN:VEVENT
DTSTART;VALUE=DATE:20250403
DTEND;VALUE=DATE:20250410
DTSTAMP:20260424T014419
CREATED:20241105T121427Z
LAST-MODIFIED:20241105T121448Z
UID:4241-1743638400-1744243199@earlymusicdiary.org.uk
SUMMARY:Easter Early Music Course 2025
DESCRIPTION:This popular and highly acclaimed course provides an excellent opportunity for experienced players of viols and recorders to work on early music in a chamber setting.
URL:https://earlymusicdiary.org.uk/event/4241/
LOCATION:Haberdashers’ School\, Monmouth\, NP25 5XT
CATEGORIES:Courses,Instruments
END:VEVENT
BEGIN:VEVENT
DTSTART;VALUE=DATE:20250404
DTEND;VALUE=DATE:20250407
DTSTAMP:20260424T014419
CREATED:20241105T111214Z
LAST-MODIFIED:20241105T111214Z
UID:4230-1743724800-1743983999@earlymusicdiary.org.uk
SUMMARY:Voices and Viols
DESCRIPTION:A weekend of 16th and 17th century vocal music ‘apt for voyces and vyalls’\, playing mainly in small groups. \nTutors: Emma Kirkby\, Alison Crum.
URL:https://earlymusicdiary.org.uk/event/4230/
LOCATION:Benslow Music\, Benslow Lane\, Hitchin\, Hertfordshire\, SG4 9RB
CATEGORIES:Courses,Instruments,Singers
END:VEVENT
BEGIN:VEVENT
DTSTART;VALUE=DATE:20250407
DTEND;VALUE=DATE:20250410
DTSTAMP:20260424T014419
CREATED:20241105T111236Z
LAST-MODIFIED:20241105T111236Z
UID:4231-1743984000-1744243199@earlymusicdiary.org.uk
SUMMARY:Revelry and Refinement: Medieval Band Camp
DESCRIPTION:A fun and inclusive introduction to playing and singing medieval repertoire for all instrumentalists and singers. \nTutors: Emily Baines\, Arngeir Hauksson (Amyas).
URL:https://earlymusicdiary.org.uk/event/4231/
LOCATION:Benslow Music\, Benslow Lane\, Hitchin\, Hertfordshire\, SG4 9RB
CATEGORIES:Courses,Instruments,Singers
END:VEVENT
BEGIN:VEVENT
DTSTART;VALUE=DATE:20250421
DTEND;VALUE=DATE:20250427
DTSTAMP:20260424T014419
CREATED:20241105T111251Z
LAST-MODIFIED:20241105T111251Z
UID:4232-1745193600-1745711999@earlymusicdiary.org.uk
SUMMARY:Baroque Oratorio
DESCRIPTION:Perform Charpentier’s sacred masterpiece Messe pour MrMauroy. \nTutors: Miguel Jaloto\, Nick Shaw\, Kinga Gaborjani\, Gail Hennessy\, Judy Tarling.
URL:https://earlymusicdiary.org.uk/event/4232/
LOCATION:Benslow Music\, Benslow Lane\, Hitchin\, Hertfordshire\, SG4 9RB
CATEGORIES:Courses,Instruments,Singers
END:VEVENT
BEGIN:VEVENT
DTSTART;VALUE=DATE:20250425
DTEND;VALUE=DATE:20250428
DTSTAMP:20260424T014419
CREATED:20240923T143157Z
LAST-MODIFIED:20240923T143157Z
UID:4143-1745539200-1745798399@earlymusicdiary.org.uk
SUMMARY:Singing Weekend with Tim Knight
DESCRIPTION:Music will be taken from ‘The Oxford Book of Tudor Anthems’ and ‘The Oxford Book of English Madrigals’.
URL:https://earlymusicdiary.org.uk/event/4143/
LOCATION:Whalley Abbey\, Clitheroe\, BB7 9SS
CATEGORIES:Courses,Singers
END:VEVENT
BEGIN:VEVENT
DTSTART;VALUE=DATE:20250427
DTEND;VALUE=DATE:20250430
DTSTAMP:20260424T014419
CREATED:20250210T171937Z
LAST-MODIFIED:20250210T171937Z
UID:4541-1745712000-1745971199@earlymusicdiary.org.uk
SUMMARY:Viol and Recorder Consort Playing
DESCRIPTION:Two parallel\, friendly courses for players at any level\, though not beginners.
URL:https://earlymusicdiary.org.uk/event/4541/
LOCATION:Higham Hall\, Bassenthwaite Lake\, Cockermouth\, Cumbria\, CA13 9SH
CATEGORIES:Courses,Instruments
END:VEVENT
BEGIN:VEVENT
DTSTART;VALUE=DATE:20250427
DTEND;VALUE=DATE:20250503
DTSTAMP:20260424T014419
CREATED:20240906T135459Z
LAST-MODIFIED:20241213T100923Z
UID:4096-1745712000-1746230399@earlymusicdiary.org.uk
SUMMARY:Tenby: A Portuguese Requiem 2025
DESCRIPTION:A course directed by Patrick Craig in the historic Pembrokeshire port\, centred on the six-part Requiem of the Portuguese composer Manuel Cardoso (c. 1566-1650)\, interspersed with funerary motets by other Portuguese composers
URL:https://earlymusicdiary.org.uk/event/4096/
LOCATION:St Mary’s Church\, Tenby\, Pembrokeshire\, SA70 8AP
CATEGORIES:Courses,Singers,Workshops
END:VEVENT
END:VCALENDAR