BEGIN:VCALENDAR
VERSION:2.0
PRODID:-//Early Music Diary - ECPv6.15.20//NONSGML v1.0//EN
CALSCALE:GREGORIAN
METHOD:PUBLISH
X-ORIGINAL-URL:https://earlymusicdiary.org.uk
X-WR-CALDESC:Events for Early Music Diary
REFRESH-INTERVAL;VALUE=DURATION:PT1H
X-Robots-Tag:noindex
X-PUBLISHED-TTL:PT1H
BEGIN:VTIMEZONE
TZID:Europe/London
BEGIN:DAYLIGHT
TZOFFSETFROM:+0000
TZOFFSETTO:+0100
TZNAME:BST
DTSTART:20240331T010000
END:DAYLIGHT
BEGIN:STANDARD
TZOFFSETFROM:+0100
TZOFFSETTO:+0000
TZNAME:GMT
DTSTART:20241027T010000
END:STANDARD
BEGIN:DAYLIGHT
TZOFFSETFROM:+0000
TZOFFSETTO:+0100
TZNAME:BST
DTSTART:20250330T010000
END:DAYLIGHT
BEGIN:STANDARD
TZOFFSETFROM:+0100
TZOFFSETTO:+0000
TZNAME:GMT
DTSTART:20251026T010000
END:STANDARD
BEGIN:DAYLIGHT
TZOFFSETFROM:+0000
TZOFFSETTO:+0100
TZNAME:BST
DTSTART:20260329T010000
END:DAYLIGHT
BEGIN:STANDARD
TZOFFSETFROM:+0100
TZOFFSETTO:+0000
TZNAME:GMT
DTSTART:20261025T010000
END:STANDARD
END:VTIMEZONE
BEGIN:VEVENT
DTSTART;VALUE=DATE:20250802
DTEND;VALUE=DATE:20250810
DTSTAMP:20260423T210116
CREATED:20250306T094449Z
LAST-MODIFIED:20250306T094525Z
UID:4574-1754092800-1754783999@earlymusicdiary.org.uk
SUMMARY:NORVIS 2025
DESCRIPTION:The 53rd NORVIS summer school – a week-long early music summer school in County Durham.
URL:https://earlymusicdiary.org.uk/event/4574/
LOCATION:Barnard Castle School\, Newgate\, Barnard Castle\, DL12 8UN
CATEGORIES:Courses,Instruments,Singers
END:VEVENT
BEGIN:VEVENT
DTSTART;VALUE=DATE:20250802
DTEND;VALUE=DATE:20250810
DTSTAMP:20260423T210116
CREATED:20250128T152108Z
LAST-MODIFIED:20250128T152148Z
UID:4449-1754092800-1754783999@earlymusicdiary.org.uk
SUMMARY:Stile Antico Summer School & Festival
DESCRIPTION:The group will teach two courses: \nVocal Ensembles – a course designed to improve ensemble singing skills.  Participants will be divided into small groups\, normally with just one or two voices per part\, and will explore a wealth of 16th and early 17th century gems. \nSing with Stile – singing alongside members of Stile Antico\, participants on this course will explore some of the wonderful verse anthems and motets written by Henry Purcell and his contemporaries in late seventeenth century London.
URL:https://earlymusicdiary.org.uk/event/4449/
LOCATION:Gresham’s School\, Norfolk\, NR25 6EA
CATEGORIES:Courses,Festivals,Singers
END:VEVENT
BEGIN:VEVENT
DTSTART;VALUE=DATE:20250803
DTEND;VALUE=DATE:20250811
DTSTAMP:20260423T210116
CREATED:20250124T154456Z
LAST-MODIFIED:20250124T154456Z
UID:4444-1754179200-1754870399@earlymusicdiary.org.uk
SUMMARY:Assisi Summer School
DESCRIPTION:Assisi 2025 – Palestrina\, Prince of Music\, with Musical Director Rory McCleery.
URL:https://earlymusicdiary.org.uk/event/4444/
LOCATION:Piazza del Comune\, Assisi\, Italy 06081
CATEGORIES:Courses,Singers
END:VEVENT
BEGIN:VEVENT
DTSTART;VALUE=DATE:20250808
DTEND;VALUE=DATE:20250812
DTSTAMP:20260423T210116
CREATED:20250210T172026Z
LAST-MODIFIED:20250210T172026Z
UID:4543-1754611200-1754956799@earlymusicdiary.org.uk
SUMMARY:Baroque Buffet
DESCRIPTION:An increasingly popular course for those interested in Baroque performance practice using modern instruments.
URL:https://earlymusicdiary.org.uk/event/4543/
LOCATION:Benslow Music\, Benslow Lane\, Hitchin\, Hertfordshire\, SG4 9RB
CATEGORIES:Courses,Instruments
END:VEVENT
BEGIN:VEVENT
DTSTART;VALUE=DATE:20250810
DTEND;VALUE=DATE:20250817
DTSTAMP:20260423T210116
CREATED:20250210T172057Z
LAST-MODIFIED:20250210T172057Z
UID:4542-1754784000-1755388799@earlymusicdiary.org.uk
SUMMARY:Early Music Summer School
DESCRIPTION:For competent singers\, viol and recorder players\, covering music c1450-c1650.
URL:https://earlymusicdiary.org.uk/event/4542/
LOCATION:Higham Hall\, Bassenthwaite Lake\, Cockermouth\, Cumbria\, CA13 9SH
CATEGORIES:Courses,Instruments,Singers
END:VEVENT
BEGIN:VEVENT
DTSTART;VALUE=DATE:20250816
DTEND;VALUE=DATE:20250824
DTSTAMP:20260423T210116
CREATED:20241118T094820Z
LAST-MODIFIED:20241118T094820Z
UID:4263-1755302400-1755993599@earlymusicdiary.org.uk
SUMMARY:Irish Recorder and Viol Course 2025
DESCRIPTION:A course designed for players of recorders\, viols and other early instruments\, covering a wide repertoire from ancient to modern. Sessions include one-to-a-part groups\, consort songs\, trio sonatas\, choir\, large and small ensembles. Tutors: Ibi Aziz\, Caoimhe de Paor\, Pamela Flanagan\, Philip Thorby\, Peter Wendland.
URL:https://earlymusicdiary.org.uk/event/4263/
LOCATION:An Grianán\, Co. Louth\, A92 X9TF
CATEGORIES:Courses,Instruments
END:VEVENT
BEGIN:VEVENT
DTSTART;VALUE=DATE:20250818
DTEND;VALUE=DATE:20250822
DTSTAMP:20260423T210116
CREATED:20250210T172122Z
LAST-MODIFIED:20250210T172122Z
UID:4544-1755475200-1755820799@earlymusicdiary.org.uk
SUMMARY:Baroque Trios with Zarek Trio
DESCRIPTION:Join Zarek Trio in a course focused on the baroque trio sonata.
URL:https://earlymusicdiary.org.uk/event/4544/
LOCATION:Benslow Music\, Benslow Lane\, Hitchin\, Hertfordshire\, SG4 9RB
CATEGORIES:Courses,Instruments
END:VEVENT
BEGIN:VEVENT
DTSTART;VALUE=DATE:20250818
DTEND;VALUE=DATE:20250823
DTSTAMP:20260423T210116
CREATED:20250128T152551Z
LAST-MODIFIED:20250128T152551Z
UID:4452-1755475200-1755907199@earlymusicdiary.org.uk
SUMMARY:HISS 2025
DESCRIPTION:The Historically Informed Summer School – where folk\, traditional and early music meet.
URL:https://earlymusicdiary.org.uk/event/4452/
LOCATION:Bishop Burton College\, York Road\, Bishop Burton\, HU17 8QG
CATEGORIES:Courses,Instruments,Singers
END:VEVENT
BEGIN:VEVENT
DTSTART;VALUE=DATE:20250831
DTEND;VALUE=DATE:20250908
DTSTAMP:20260423T210116
CREATED:20250124T153120Z
LAST-MODIFIED:20250124T153120Z
UID:4434-1756598400-1757289599@earlymusicdiary.org.uk
SUMMARY:Parma and the Court of Mantua
DESCRIPTION:This course is for experienced singers who want to improve their choral technique and enjoy exploring a rich mix of repertoire in a convivial social setting.  Repertoire includes works by Cipriano De Rore\, Jacquet De Mantua\, and Claudio Monteverdi.
URL:https://earlymusicdiary.org.uk/event/4434/
LOCATION:Mercure Parma Centro Stendhal\, 43121\, Italy
CATEGORIES:Courses,Singers
END:VEVENT
END:VCALENDAR