BEGIN:VCALENDAR
VERSION:2.0
PRODID:-//Early Music Diary - ECPv6.15.20//NONSGML v1.0//EN
CALSCALE:GREGORIAN
METHOD:PUBLISH
X-ORIGINAL-URL:https://earlymusicdiary.org.uk
X-WR-CALDESC:Events for Early Music Diary
REFRESH-INTERVAL;VALUE=DURATION:PT1H
X-Robots-Tag:noindex
X-PUBLISHED-TTL:PT1H
BEGIN:VTIMEZONE
TZID:Europe/London
BEGIN:DAYLIGHT
TZOFFSETFROM:+0000
TZOFFSETTO:+0100
TZNAME:BST
DTSTART:20240331T010000
END:DAYLIGHT
BEGIN:STANDARD
TZOFFSETFROM:+0100
TZOFFSETTO:+0000
TZNAME:GMT
DTSTART:20241027T010000
END:STANDARD
BEGIN:DAYLIGHT
TZOFFSETFROM:+0000
TZOFFSETTO:+0100
TZNAME:BST
DTSTART:20250330T010000
END:DAYLIGHT
BEGIN:STANDARD
TZOFFSETFROM:+0100
TZOFFSETTO:+0000
TZNAME:GMT
DTSTART:20251026T010000
END:STANDARD
BEGIN:DAYLIGHT
TZOFFSETFROM:+0000
TZOFFSETTO:+0100
TZNAME:BST
DTSTART:20260329T010000
END:DAYLIGHT
BEGIN:STANDARD
TZOFFSETFROM:+0100
TZOFFSETTO:+0000
TZNAME:GMT
DTSTART:20261025T010000
END:STANDARD
END:VTIMEZONE
BEGIN:VEVENT
DTSTART;VALUE=DATE:20250831
DTEND;VALUE=DATE:20250908
DTSTAMP:20260423T194111
CREATED:20250124T153120Z
LAST-MODIFIED:20250124T153120Z
UID:4434-1756598400-1757289599@earlymusicdiary.org.uk
SUMMARY:Parma and the Court of Mantua
DESCRIPTION:This course is for experienced singers who want to improve their choral technique and enjoy exploring a rich mix of repertoire in a convivial social setting.  Repertoire includes works by Cipriano De Rore\, Jacquet De Mantua\, and Claudio Monteverdi.
URL:https://earlymusicdiary.org.uk/event/4434/
LOCATION:Mercure Parma Centro Stendhal\, 43121\, Italy
CATEGORIES:Courses,Singers
END:VEVENT
BEGIN:VEVENT
DTSTART;VALUE=DATE:20250905
DTEND;VALUE=DATE:20250908
DTSTAMP:20260423T194111
CREATED:20250709T110750Z
LAST-MODIFIED:20250709T110750Z
UID:4807-1757030400-1757289599@earlymusicdiary.org.uk
SUMMARY:Country Choral Weekend - an Elizabethan Songbook
DESCRIPTION:Rory Wainwright Johnston will be leading this weekend workshop in the glorious\, peaceful setting of Malham Moor in the Yorkshire Dales. \nCovering pieces by Campion\, Dowland\, Gibbons\, Wilbye\, Pilkington and Morley\, exploring both lute songs and madrigals\, honing ensemble singing skills and delving into the techniques that bring this repertoire to life. \nWhether you’re passionate about Renaissance music or curious to explore its world\, or just love ensemble singing\, this course offers a practical and enriching experience. \nPlease email Anne Lowe (Country Choral) on anne_lowe54@hotmail.com for full details.
URL:https://earlymusicdiary.org.uk/event/4807/
LOCATION:High Trenhouse\, Yorkshire Dales\, BD24 9PR
CATEGORIES:Courses,Singers
END:VEVENT
BEGIN:VEVENT
DTSTART;VALUE=DATE:20250905
DTEND;VALUE=DATE:20250908
DTSTAMP:20260423T194111
CREATED:20250814T103552Z
LAST-MODIFIED:20250821T073521Z
UID:4922-1757030400-1757289599@earlymusicdiary.org.uk
SUMMARY:Early Music in the Marches Early Music Weekend
DESCRIPTION:A Friday night concert given by early music professionals and a two day workshop for vocalists and instrumentalists. \nGeorg Philipp Telemann’s ‘Paris Quartets’ \nThis year focusses on Telemann’s famous collection of music for flute\, violin\, viola da gamba and continuo (cello and harpsichord). \nFriday night concert: Marches Baroque Ensemble\, playing on period instruments\, will present a programme of music which will include several pieces from the collection of twelve Paris Quartets. \nWeekend workshop: for three groups\, tutored by David Hatcher and Sharon Lindo\, who will work on a selection of the pieces – from facsimile or from modern editions as preferred. \nContact: info@earlymusicinthemarches.com.
URL:https://earlymusicdiary.org.uk/event/4922/
LOCATION:Discoed\, Powys\, LD8 2NW
CATEGORIES:Courses,Instruments,Singers
END:VEVENT
BEGIN:VEVENT
DTSTART;VALUE=DATE:20250908
DTEND;VALUE=DATE:20251209
DTSTAMP:20260423T194111
CREATED:20250821T085454Z
LAST-MODIFIED:20250821T085548Z
UID:4940-1757289600-1765238399@earlymusicdiary.org.uk
SUMMARY:The Gonzaga Legacy with Platinum Consort
DESCRIPTION:This season of Early Nights traces the far-reaching influence of the Gonzaga court in shaping sacred music at the turn of the 17th century.
URL:https://earlymusicdiary.org.uk/event/4940/
LOCATION:St Barnabas\, Pimlico\, London\, SW1W 8PF
CATEGORIES:Courses,Singers,Workshops
END:VEVENT
BEGIN:VEVENT
DTSTART;VALUE=DATE:20250911
DTEND;VALUE=DATE:20250915
DTSTAMP:20260423T194111
CREATED:20250210T172146Z
LAST-MODIFIED:20250210T172146Z
UID:4545-1757548800-1757894399@earlymusicdiary.org.uk
SUMMARY:Madrigals and Partsongs
DESCRIPTION:Chamber choir and consort singing of madrigals and Partsongs.
URL:https://earlymusicdiary.org.uk/event/4545/
LOCATION:Benslow Music\, Benslow Lane\, Hitchin\, Hertfordshire\, SG4 9RB
CATEGORIES:Courses,Singers
END:VEVENT
BEGIN:VEVENT
DTSTART;VALUE=DATE:20250922
DTEND;VALUE=DATE:20250927
DTSTAMP:20260423T194111
CREATED:20250314T124841Z
LAST-MODIFIED:20250314T124841Z
UID:4611-1758499200-1758931199@earlymusicdiary.org.uk
SUMMARY:Renaissance Viol and Recorder Course with Linarol Consort
DESCRIPTION:The Linarol Consort’s Renaissance Viol and Recorder course is for experienced viol and recorder players with an interest in improving their technique on Renaissance instruments and in reading from facsimile. \nTutors: David Hatcher and Alison Kinder\, assisted by Claire Horacek and Timothy Lin.
URL:https://earlymusicdiary.org.uk/event/4611/
LOCATION:Holland House\, nr Pershore\, WR10 3NB
CATEGORIES:Courses,Instruments
END:VEVENT
BEGIN:VEVENT
DTSTART;VALUE=DATE:20250927
DTEND;VALUE=DATE:20250929
DTSTAMP:20260423T194111
CREATED:20250710T093745Z
LAST-MODIFIED:20250710T093745Z
UID:4812-1758931200-1759103999@earlymusicdiary.org.uk
SUMMARY:Banbury Early Music Festival
DESCRIPTION:Banbury Early Music Festival is for early music fans and newcomers alike\, to come and participate in inspiring workshops\, listen to world class concerts\, leaf through a myriad of music and try out early ​instruments until their heart’s content!
URL:https://earlymusicdiary.org.uk/event/4812/
LOCATION:St Mary’s Church\, Banbury\, OX16 0AA
CATEGORIES:Courses,Festivals,Instruments,Singers
END:VEVENT
BEGIN:VEVENT
DTSTART;VALUE=DATE:20250927
DTEND;VALUE=DATE:20250929
DTSTAMP:20260423T194111
CREATED:20250821T085801Z
LAST-MODIFIED:20250821T085832Z
UID:4943-1758931200-1759103999@earlymusicdiary.org.uk
SUMMARY:Handel in Arcadia with Platinum Consort
DESCRIPTION:An upper voices Chamber Weekender immersed in the beauty of Handel’s Italian duets.  Directed by Scott Inglis-Kidger.
URL:https://earlymusicdiary.org.uk/event/4943/
LOCATION:St Barnabas\, Pimlico\, London\, SW1W 8PF
CATEGORIES:Courses,Singers,Workshops
END:VEVENT
BEGIN:VEVENT
DTSTART;VALUE=DATE:20250929
DTEND;VALUE=DATE:20251003
DTSTAMP:20260423T194111
CREATED:20250210T172207Z
LAST-MODIFIED:20250210T172213Z
UID:4546-1759104000-1759449599@earlymusicdiary.org.uk
SUMMARY:Purcell for Singers & Continuo
DESCRIPTION:An opportunity for singers and continuo players to explore Purcell’s solo songs and ensemble works in detail with Emily Owen and Satoko Doi-Luck.
URL:https://earlymusicdiary.org.uk/event/4546/
LOCATION:Benslow Music\, Benslow Lane\, Hitchin\, Hertfordshire\, SG4 9RB
CATEGORIES:Courses,Instruments,Singers
END:VEVENT
END:VCALENDAR