BEGIN:VCALENDAR
VERSION:2.0
PRODID:-//Early Music Diary - ECPv6.15.20//NONSGML v1.0//EN
CALSCALE:GREGORIAN
METHOD:PUBLISH
X-ORIGINAL-URL:https://earlymusicdiary.org.uk
X-WR-CALDESC:Events for Early Music Diary
REFRESH-INTERVAL;VALUE=DURATION:PT1H
X-Robots-Tag:noindex
X-PUBLISHED-TTL:PT1H
BEGIN:VTIMEZONE
TZID:Europe/London
BEGIN:DAYLIGHT
TZOFFSETFROM:+0000
TZOFFSETTO:+0100
TZNAME:BST
DTSTART:20240331T010000
END:DAYLIGHT
BEGIN:STANDARD
TZOFFSETFROM:+0100
TZOFFSETTO:+0000
TZNAME:GMT
DTSTART:20241027T010000
END:STANDARD
BEGIN:DAYLIGHT
TZOFFSETFROM:+0000
TZOFFSETTO:+0100
TZNAME:BST
DTSTART:20250330T010000
END:DAYLIGHT
BEGIN:STANDARD
TZOFFSETFROM:+0100
TZOFFSETTO:+0000
TZNAME:GMT
DTSTART:20251026T010000
END:STANDARD
BEGIN:DAYLIGHT
TZOFFSETFROM:+0000
TZOFFSETTO:+0100
TZNAME:BST
DTSTART:20260329T010000
END:DAYLIGHT
BEGIN:STANDARD
TZOFFSETFROM:+0100
TZOFFSETTO:+0000
TZNAME:GMT
DTSTART:20261025T010000
END:STANDARD
END:VTIMEZONE
BEGIN:VEVENT
DTSTART;VALUE=DATE:20250908
DTEND;VALUE=DATE:20251209
DTSTAMP:20260423T183112
CREATED:20250821T085454Z
LAST-MODIFIED:20250821T085548Z
UID:4940-1757289600-1765238399@earlymusicdiary.org.uk
SUMMARY:The Gonzaga Legacy with Platinum Consort
DESCRIPTION:This season of Early Nights traces the far-reaching influence of the Gonzaga court in shaping sacred music at the turn of the 17th century.
URL:https://earlymusicdiary.org.uk/event/4940/
LOCATION:St Barnabas\, Pimlico\, London\, SW1W 8PF
CATEGORIES:Courses,Singers,Workshops
END:VEVENT
BEGIN:VEVENT
DTSTART;VALUE=DATE:20250929
DTEND;VALUE=DATE:20251003
DTSTAMP:20260423T183112
CREATED:20250210T172207Z
LAST-MODIFIED:20250210T172213Z
UID:4546-1759104000-1759449599@earlymusicdiary.org.uk
SUMMARY:Purcell for Singers & Continuo
DESCRIPTION:An opportunity for singers and continuo players to explore Purcell’s solo songs and ensemble works in detail with Emily Owen and Satoko Doi-Luck.
URL:https://earlymusicdiary.org.uk/event/4546/
LOCATION:Benslow Music\, Benslow Lane\, Hitchin\, Hertfordshire\, SG4 9RB
CATEGORIES:Courses,Instruments,Singers
END:VEVENT
BEGIN:VEVENT
DTSTART;VALUE=DATE:20251008
DTEND;VALUE=DATE:20251013
DTSTAMP:20260423T183112
CREATED:20250306T115139Z
LAST-MODIFIED:20250306T115139Z
UID:4584-1759881600-1760313599@earlymusicdiary.org.uk
SUMMARY:The Glory of Venice - Singing Holiday
DESCRIPTION:Internationally acclaimed conductor Andrea Brown will direct another splendid program of Venetian music.
URL:https://earlymusicdiary.org.uk/event/4584/
LOCATION:San Trovaso Church\, Venice\, Italy 30123
CATEGORIES:Courses,Singers
END:VEVENT
BEGIN:VEVENT
DTSTART;VALUE=DATE:20251010
DTEND;VALUE=DATE:20251013
DTSTAMP:20260423T183112
CREATED:20250324T101023Z
LAST-MODIFIED:20250324T101023Z
UID:4626-1760054400-1760313599@earlymusicdiary.org.uk
SUMMARY:Singing Baroque: From Monteverdi to Bach
DESCRIPTION:Discover the exquisite world of early music in Singing Baroque: From Monteverdi to Bach\, with Jonathan Peter Kenny.
URL:https://earlymusicdiary.org.uk/event/4626/
LOCATION:Jackdaws Music\, Great Elm\, Frome\, Somerset\, BA11 3NY
CATEGORIES:Courses,Singers
END:VEVENT
BEGIN:VEVENT
DTSTART;VALUE=DATE:20251011
DTEND;VALUE=DATE:20251013
DTSTAMP:20260423T183112
CREATED:20250814T084702Z
LAST-MODIFIED:20250814T084759Z
UID:4916-1760140800-1760313599@earlymusicdiary.org.uk
SUMMARY:Dorset Bach Cantata Club
DESCRIPTION:Non-residential study weekend directed by Philip Walsh.
URL:https://earlymusicdiary.org.uk/event/4916/
LOCATION:Sturminster Newton High School\, Bath Road\, Sturminster Newton\, DT10 1DT
CATEGORIES:Courses,Singers
END:VEVENT
BEGIN:VEVENT
DTSTART;VALUE=DATE:20251013
DTEND;VALUE=DATE:20251017
DTSTAMP:20260423T183112
CREATED:20250630T141623Z
LAST-MODIFIED:20250630T141623Z
UID:4777-1760313600-1760659199@earlymusicdiary.org.uk
SUMMARY:Rondo Viol Academy
DESCRIPTION:Intermediate and Upper Intermediate.  Run by Jacqui Robertson-Wade and Alison Kinder.
URL:https://earlymusicdiary.org.uk/event/4777/
LOCATION:St. Katharine’s\, Henley-on-Thames\, RG9 6NN
CATEGORIES:Courses,Instruments
END:VEVENT
BEGIN:VEVENT
DTSTART;VALUE=DATE:20251019
DTEND;VALUE=DATE:20251025
DTSTAMP:20260423T183112
CREATED:20250306T094859Z
LAST-MODIFIED:20250306T094859Z
UID:4576-1760832000-1761350399@earlymusicdiary.org.uk
SUMMARY:The Music of Florence 2025
DESCRIPTION:This course\, directed by Rory Wainwright Johnston\, celebrates the musical achievements of renaissance Florence\, both by its native composers and those drawn by the city’s dazzling éclat.
URL:https://earlymusicdiary.org.uk/event/4576/
LOCATION:St Mark’s English Church\, Florence\, 50125\, Italy
CATEGORIES:Courses,Singers
END:VEVENT
BEGIN:VEVENT
DTSTART;VALUE=DATE:20251020
DTEND;VALUE=DATE:20251023
DTSTAMP:20260423T183112
CREATED:20250408T091604Z
LAST-MODIFIED:20250408T091643Z
UID:4648-1760918400-1761177599@earlymusicdiary.org.uk
SUMMARY:Lute Songs from England\, France & Germany
DESCRIPTION:An immersive exploration of lute songs from around 1600 in Northern Europe – centred on John Dowland’s best-beloved “First Book of Songes”\, but also welcoming repertoire from lands that he visited. Open to singers of all ranges as well as lutenists. \nFacilitators: Emma Kirkby\, Florian Franke & Sam Brown.
URL:https://earlymusicdiary.org.uk/event/4648/
LOCATION:Hawkwood College\, Stroud\, GL6 7QW
CATEGORIES:Courses,Instruments,Singers
END:VEVENT
BEGIN:VEVENT
DTSTART;VALUE=DATE:20251024
DTEND;VALUE=DATE:20251028
DTSTAMP:20260423T183113
CREATED:20250210T172235Z
LAST-MODIFIED:20250210T172235Z
UID:4547-1761264000-1761609599@earlymusicdiary.org.uk
SUMMARY:Flute\, Lute and Cello Baroque Weekend
DESCRIPTION:A friendly introduction for flute\, lute and cello players to the rich but sometimes forbidding world of baroque chamber music.
URL:https://earlymusicdiary.org.uk/event/4547/
LOCATION:Benslow Music\, Benslow Lane\, Hitchin\, Hertfordshire\, SG4 9RB
CATEGORIES:Courses,Instruments
END:VEVENT
BEGIN:VEVENT
DTSTART;VALUE=DATE:20251025
DTEND;VALUE=DATE:20251027
DTSTAMP:20260423T183113
CREATED:20250821T090626Z
LAST-MODIFIED:20250821T090626Z
UID:4949-1761350400-1761523199@earlymusicdiary.org.uk
SUMMARY:Spanish Vespers with Platinum Consort
DESCRIPTION:This Chamber Weekender brings together a reconstructed Vespers drawn from the works of Spain’s most distinguished Renaissance composers\, many of whom knew\, influenced\, or were aware of each other’s music.  Directed by Scott Inglis-Kidger.
URL:https://earlymusicdiary.org.uk/event/4949/
LOCATION:St Barnabas\, Pimlico\, London\, SW1W 8PF
CATEGORIES:Courses,Singers,Workshops
END:VEVENT
BEGIN:VEVENT
DTSTART;VALUE=DATE:20251031
DTEND;VALUE=DATE:20251103
DTSTAMP:20260423T183113
CREATED:20250122T151422Z
LAST-MODIFIED:20250122T151422Z
UID:4414-1761868800-1762127999@earlymusicdiary.org.uk
SUMMARY:Viol Consorts with Fretwork
DESCRIPTION:This course offers viol players the chance to explore consort repertoire from the viol’s Golden Age and to improve their technique along the way. Composers studied will include Jenkins\, Purcell\, Holborne\, Lawes and Coperario.
URL:https://earlymusicdiary.org.uk/event/4414/
LOCATION:Hawkwood College\, Stroud\, GL6 7QW
CATEGORIES:Courses,Instruments
END:VEVENT
END:VCALENDAR