BEGIN:VCALENDAR
VERSION:2.0
PRODID:-//Early Music Diary - ECPv6.15.20//NONSGML v1.0//EN
CALSCALE:GREGORIAN
METHOD:PUBLISH
X-ORIGINAL-URL:https://earlymusicdiary.org.uk
X-WR-CALDESC:Events for Early Music Diary
REFRESH-INTERVAL;VALUE=DURATION:PT1H
X-Robots-Tag:noindex
X-PUBLISHED-TTL:PT1H
BEGIN:VTIMEZONE
TZID:Europe/London
BEGIN:DAYLIGHT
TZOFFSETFROM:+0000
TZOFFSETTO:+0100
TZNAME:BST
DTSTART:20240331T010000
END:DAYLIGHT
BEGIN:STANDARD
TZOFFSETFROM:+0100
TZOFFSETTO:+0000
TZNAME:GMT
DTSTART:20241027T010000
END:STANDARD
BEGIN:DAYLIGHT
TZOFFSETFROM:+0000
TZOFFSETTO:+0100
TZNAME:BST
DTSTART:20250330T010000
END:DAYLIGHT
BEGIN:STANDARD
TZOFFSETFROM:+0100
TZOFFSETTO:+0000
TZNAME:GMT
DTSTART:20251026T010000
END:STANDARD
BEGIN:DAYLIGHT
TZOFFSETFROM:+0000
TZOFFSETTO:+0100
TZNAME:BST
DTSTART:20260329T010000
END:DAYLIGHT
BEGIN:STANDARD
TZOFFSETFROM:+0100
TZOFFSETTO:+0000
TZNAME:GMT
DTSTART:20261025T010000
END:STANDARD
BEGIN:DAYLIGHT
TZOFFSETFROM:+0000
TZOFFSETTO:+0100
TZNAME:BST
DTSTART:20270328T010000
END:DAYLIGHT
BEGIN:STANDARD
TZOFFSETFROM:+0100
TZOFFSETTO:+0000
TZNAME:GMT
DTSTART:20271031T010000
END:STANDARD
END:VTIMEZONE
BEGIN:VEVENT
DTSTART;VALUE=DATE:20250908
DTEND;VALUE=DATE:20251209
DTSTAMP:20260423T171559
CREATED:20250821T085454Z
LAST-MODIFIED:20250821T085548Z
UID:4940-1757289600-1765238399@earlymusicdiary.org.uk
SUMMARY:The Gonzaga Legacy with Platinum Consort
DESCRIPTION:This season of Early Nights traces the far-reaching influence of the Gonzaga court in shaping sacred music at the turn of the 17th century.
URL:https://earlymusicdiary.org.uk/event/4940/
LOCATION:St Barnabas\, Pimlico\, London\, SW1W 8PF
CATEGORIES:Courses,Singers,Workshops
END:VEVENT
BEGIN:VEVENT
DTSTART;VALUE=DATE:20251031
DTEND;VALUE=DATE:20251103
DTSTAMP:20260423T171559
CREATED:20250122T151422Z
LAST-MODIFIED:20250122T151422Z
UID:4414-1761868800-1762127999@earlymusicdiary.org.uk
SUMMARY:Viol Consorts with Fretwork
DESCRIPTION:This course offers viol players the chance to explore consort repertoire from the viol’s Golden Age and to improve their technique along the way. Composers studied will include Jenkins\, Purcell\, Holborne\, Lawes and Coperario.
URL:https://earlymusicdiary.org.uk/event/4414/
LOCATION:Hawkwood College\, Stroud\, GL6 7QW
CATEGORIES:Courses,Instruments
END:VEVENT
BEGIN:VEVENT
DTSTART;VALUE=DATE:20251108
DTEND;VALUE=DATE:20260111
DTSTAMP:20260423T171559
CREATED:20250821T091956Z
LAST-MODIFIED:20250821T092110Z
UID:4951-1762560000-1768089599@earlymusicdiary.org.uk
SUMMARY:Bach Christmas Oratorio
DESCRIPTION:A series of three workshops exploring the rich tapestry of choruses\, chorales and select solo movements from J.S. Bach’s Weinachtsoratorium (Christmas Oratorio).  Directed by Scott Inglis-Kidger. \nThese workshops can be booked individually\, or as a bundle. \n8th November (Parts I & II) \n6th December (Parts III & IV) \n10th January (Parts V & VI) \nThree Workshop Bundle
URL:https://earlymusicdiary.org.uk/event/4951/
LOCATION:St Mary’s Church\, Battersea\, London\, SW11 3NA
CATEGORIES:Courses,Singers,Workshops
END:VEVENT
BEGIN:VEVENT
DTSTART;VALUE=DATE:20251117
DTEND;VALUE=DATE:20251121
DTSTAMP:20260423T171559
CREATED:20250630T142233Z
LAST-MODIFIED:20250630T142233Z
UID:4779-1763337600-1763683199@earlymusicdiary.org.uk
SUMMARY:Rondo Viol Academy
DESCRIPTION:Preformed Consorts.  Run by Jacqui Robertson-Wade and Alison Kinder.
URL:https://earlymusicdiary.org.uk/event/4779/
LOCATION:Foxhill House\, Frodsham\, Cheshire\, WA6 6XB
CATEGORIES:Courses,Instruments
END:VEVENT
BEGIN:VEVENT
DTSTART;VALUE=DATE:20251120
DTEND;VALUE=DATE:20251124
DTSTAMP:20260423T171559
CREATED:20250210T172302Z
LAST-MODIFIED:20250210T172302Z
UID:4548-1763596800-1763942399@earlymusicdiary.org.uk
SUMMARY:Consorted Viols
DESCRIPTION:Three days of viol consort playing in preformed groups of any level\, studying in depth any music chosen by the group\, coached by members of the Rose Consort of Viols.
URL:https://earlymusicdiary.org.uk/event/4548/
LOCATION:Benslow Music\, Benslow Lane\, Hitchin\, Hertfordshire\, SG4 9RB
CATEGORIES:Courses,Instruments
END:VEVENT
END:VCALENDAR