BEGIN:VCALENDAR
VERSION:2.0
PRODID:-//Early Music Diary - ECPv6.15.20//NONSGML v1.0//EN
CALSCALE:GREGORIAN
METHOD:PUBLISH
X-ORIGINAL-URL:https://earlymusicdiary.org.uk
X-WR-CALDESC:Events for Early Music Diary
REFRESH-INTERVAL;VALUE=DURATION:PT1H
X-Robots-Tag:noindex
X-PUBLISHED-TTL:PT1H
BEGIN:VTIMEZONE
TZID:Europe/London
BEGIN:DAYLIGHT
TZOFFSETFROM:+0000
TZOFFSETTO:+0100
TZNAME:BST
DTSTART:20240331T010000
END:DAYLIGHT
BEGIN:STANDARD
TZOFFSETFROM:+0100
TZOFFSETTO:+0000
TZNAME:GMT
DTSTART:20241027T010000
END:STANDARD
BEGIN:DAYLIGHT
TZOFFSETFROM:+0000
TZOFFSETTO:+0100
TZNAME:BST
DTSTART:20250330T010000
END:DAYLIGHT
BEGIN:STANDARD
TZOFFSETFROM:+0100
TZOFFSETTO:+0000
TZNAME:GMT
DTSTART:20251026T010000
END:STANDARD
BEGIN:DAYLIGHT
TZOFFSETFROM:+0000
TZOFFSETTO:+0100
TZNAME:BST
DTSTART:20260329T010000
END:DAYLIGHT
BEGIN:STANDARD
TZOFFSETFROM:+0100
TZOFFSETTO:+0000
TZNAME:GMT
DTSTART:20261025T010000
END:STANDARD
BEGIN:DAYLIGHT
TZOFFSETFROM:+0000
TZOFFSETTO:+0100
TZNAME:BST
DTSTART:20270328T010000
END:DAYLIGHT
BEGIN:STANDARD
TZOFFSETFROM:+0100
TZOFFSETTO:+0000
TZNAME:GMT
DTSTART:20271031T010000
END:STANDARD
END:VTIMEZONE
BEGIN:VEVENT
DTSTART;VALUE=DATE:20251108
DTEND;VALUE=DATE:20260111
DTSTAMP:20260423T142444
CREATED:20250821T091956Z
LAST-MODIFIED:20250821T092110Z
UID:4951-1762560000-1768089599@earlymusicdiary.org.uk
SUMMARY:Bach Christmas Oratorio
DESCRIPTION:A series of three workshops exploring the rich tapestry of choruses\, chorales and select solo movements from J.S. Bach’s Weinachtsoratorium (Christmas Oratorio).  Directed by Scott Inglis-Kidger. \nThese workshops can be booked individually\, or as a bundle. \n8th November (Parts I & II) \n6th December (Parts III & IV) \n10th January (Parts V & VI) \nThree Workshop Bundle
URL:https://earlymusicdiary.org.uk/event/4951/
LOCATION:St Mary’s Church\, Battersea\, London\, SW11 3NA
CATEGORIES:Courses,Singers,Workshops
END:VEVENT
BEGIN:VEVENT
DTSTART;VALUE=DATE:20260124
DTEND;VALUE=DATE:20260125
DTSTAMP:20260423T142444
CREATED:20251117T145035Z
LAST-MODIFIED:20251117T145035Z
UID:5111-1769212800-1769299199@earlymusicdiary.org.uk
SUMMARY:Come & Sing/Play Handel & Bach
DESCRIPTION:Come and Sing/Play Handel: Dixit Dominus and C P E Bach: Magnificat with Director: Richard Roddis\, Répétiteur: Michael Overbury\, and Instrumental Specialist: Kelly McCusker.
URL:https://earlymusicdiary.org.uk/event/5111/
LOCATION:St. Michael and All Angels\, Nottingham\, NG9 3HD
CATEGORIES:Courses,Instruments,Singers
END:VEVENT
BEGIN:VEVENT
DTSTART;VALUE=DATE:20260126
DTEND;VALUE=DATE:20260130
DTSTAMP:20260423T142444
CREATED:20250801T111906Z
LAST-MODIFIED:20250801T111906Z
UID:4874-1769385600-1769731199@earlymusicdiary.org.uk
SUMMARY:Consorting Viols
DESCRIPTION:Three days of viol consort playing in a variety of group sizes and exploring some lesser-known repertoire in addition to ‘old favourites’. \nTutors: Alison Crum\, Peter Wendland.
URL:https://earlymusicdiary.org.uk/event/4874/
LOCATION:Benslow Music\, Benslow Lane\, Hitchin\, Hertfordshire\, SG4 9RB
CATEGORIES:Courses,Instruments
END:VEVENT
BEGIN:VEVENT
DTSTART;VALUE=DATE:20260129
DTEND;VALUE=DATE:20260202
DTSTAMP:20260423T142444
CREATED:20250801T112349Z
LAST-MODIFIED:20250801T112349Z
UID:4875-1769644800-1769990399@earlymusicdiary.org.uk
SUMMARY:Baroque Chamber Music at A=415
DESCRIPTION:Inspirational and encouraging instruction in baroque style from expert tutors. For pre-formed chamber groups on period instruments. \nTutors: Rachel Beckett\, Theresa Caudle\, Mark Caudle\, Claire Williams\, Oliver John Ruthven.
URL:https://earlymusicdiary.org.uk/event/4875/
LOCATION:Benslow Music\, Benslow Lane\, Hitchin\, Hertfordshire\, SG4 9RB
CATEGORIES:Courses,Instruments
END:VEVENT
END:VCALENDAR