BEGIN:VCALENDAR
VERSION:2.0
PRODID:-//Early Music Diary - ECPv6.15.20//NONSGML v1.0//EN
CALSCALE:GREGORIAN
METHOD:PUBLISH
X-ORIGINAL-URL:https://earlymusicdiary.org.uk
X-WR-CALDESC:Events for Early Music Diary
REFRESH-INTERVAL;VALUE=DURATION:PT1H
X-Robots-Tag:noindex
X-PUBLISHED-TTL:PT1H
BEGIN:VTIMEZONE
TZID:Europe/London
BEGIN:DAYLIGHT
TZOFFSETFROM:+0000
TZOFFSETTO:+0100
TZNAME:BST
DTSTART:20250330T010000
END:DAYLIGHT
BEGIN:STANDARD
TZOFFSETFROM:+0100
TZOFFSETTO:+0000
TZNAME:GMT
DTSTART:20251026T010000
END:STANDARD
BEGIN:DAYLIGHT
TZOFFSETFROM:+0000
TZOFFSETTO:+0100
TZNAME:BST
DTSTART:20260329T010000
END:DAYLIGHT
BEGIN:STANDARD
TZOFFSETFROM:+0100
TZOFFSETTO:+0000
TZNAME:GMT
DTSTART:20261025T010000
END:STANDARD
BEGIN:DAYLIGHT
TZOFFSETFROM:+0000
TZOFFSETTO:+0100
TZNAME:BST
DTSTART:20270328T010000
END:DAYLIGHT
BEGIN:STANDARD
TZOFFSETFROM:+0100
TZOFFSETTO:+0000
TZNAME:GMT
DTSTART:20271031T010000
END:STANDARD
END:VTIMEZONE
BEGIN:VEVENT
DTSTART;VALUE=DATE:20260227
DTEND;VALUE=DATE:20260302
DTSTAMP:20260423T113122
CREATED:20250324T101052Z
LAST-MODIFIED:20250324T101052Z
UID:4625-1772150400-1772409599@earlymusicdiary.org.uk
SUMMARY:Viol Consorts with Fretwork
DESCRIPTION:This course offers viol players the chance to explore consort repertoire from the viol’s Golden Age and to improve their technique along the way\, with Joanna Levine and Richard Boothby of Fretwork.
URL:https://earlymusicdiary.org.uk/event/4625/
LOCATION:Jackdaws Music\, Great Elm\, Frome\, Somerset\, BA11 3NY
CATEGORIES:Courses,Instruments
END:VEVENT
BEGIN:VEVENT
DTSTART;VALUE=DATE:20260227
DTEND;VALUE=DATE:20260302
DTSTAMP:20260423T113122
CREATED:20251117T143429Z
LAST-MODIFIED:20251117T143429Z
UID:5103-1772150400-1772409599@earlymusicdiary.org.uk
SUMMARY:17th & 18th Century Chamber Music Workshop
DESCRIPTION:For pre-formed chamber groups (with or without singer) who should bring at least 4 pieces to work on which can be at varying stages of readiness.
URL:https://earlymusicdiary.org.uk/event/5103/
LOCATION:Higham Hall\, Bassenthwaite Lake\, Cockermouth\, Cumbria\, CA13 9SH
CATEGORIES:Courses,Instruments,Singers
END:VEVENT
BEGIN:VEVENT
DTSTART;VALUE=DATE:20260305
DTEND;VALUE=DATE:20260309
DTSTAMP:20260423T113122
CREATED:20250630T143222Z
LAST-MODIFIED:20250630T143222Z
UID:4788-1772668800-1773014399@earlymusicdiary.org.uk
SUMMARY:Rondo Viol Academy
DESCRIPTION:Advanced.  Run by Jacqui Robertson-Wade and Alison Kinder.
URL:https://earlymusicdiary.org.uk/event/4788/
LOCATION:The Grange\, Bury St Edmunds\, Suffolk\, IP31 3PQ
CATEGORIES:Courses,Instruments
END:VEVENT
BEGIN:VEVENT
DTSTART;VALUE=DATE:20260305
DTEND;VALUE=DATE:20260309
DTSTAMP:20260423T113122
CREATED:20250801T112430Z
LAST-MODIFIED:20250801T112430Z
UID:4876-1772668800-1773014399@earlymusicdiary.org.uk
SUMMARY:Lute Fest in association with The Lute Society
DESCRIPTION:Plenty of opportunities to play at all levels of ability\, and to socialise with like-minded early music enthusiasts. \nTutors: Bor Zuljan\, Peter Croton\, Jacob Herringman\, Lynda Sayce\, Matthew Spring\, Sara Stowe.
URL:https://earlymusicdiary.org.uk/event/4876/
LOCATION:Benslow Music\, Benslow Lane\, Hitchin\, Hertfordshire\, SG4 9RB
CATEGORIES:Courses,Instruments
END:VEVENT
BEGIN:VEVENT
DTSTART;VALUE=DATE:20260308
DTEND;VALUE=DATE:20260314
DTSTAMP:20260423T113122
CREATED:20250626T141754Z
LAST-MODIFIED:20250626T141856Z
UID:4768-1772928000-1773446399@earlymusicdiary.org.uk
SUMMARY:Cádiz Lamentations with Bruno Campelo Muñíz
DESCRIPTION:Alonso Lobo ~ De lamentatione Ieremiæ Prophetæ\nDuarte Lobo ~ Missa pro defunctis 8 vocibus \nA week of study and rehearsal leading to a public performance in Cádiz.
URL:https://earlymusicdiary.org.uk/event/4768/
LOCATION:Convento de las Reparadoras\, Cádiz\, Spain 11003
CATEGORIES:Courses,Singers
END:VEVENT
END:VCALENDAR