BEGIN:VCALENDAR
VERSION:2.0
PRODID:-//Early Music Diary - ECPv6.15.20//NONSGML v1.0//EN
CALSCALE:GREGORIAN
METHOD:PUBLISH
X-ORIGINAL-URL:https://earlymusicdiary.org.uk
X-WR-CALDESC:Events for Early Music Diary
REFRESH-INTERVAL;VALUE=DURATION:PT1H
X-Robots-Tag:noindex
X-PUBLISHED-TTL:PT1H
BEGIN:VTIMEZONE
TZID:Europe/London
BEGIN:DAYLIGHT
TZOFFSETFROM:+0000
TZOFFSETTO:+0100
TZNAME:BST
DTSTART:20250330T010000
END:DAYLIGHT
BEGIN:STANDARD
TZOFFSETFROM:+0100
TZOFFSETTO:+0000
TZNAME:GMT
DTSTART:20251026T010000
END:STANDARD
BEGIN:DAYLIGHT
TZOFFSETFROM:+0000
TZOFFSETTO:+0100
TZNAME:BST
DTSTART:20260329T010000
END:DAYLIGHT
BEGIN:STANDARD
TZOFFSETFROM:+0100
TZOFFSETTO:+0000
TZNAME:GMT
DTSTART:20261025T010000
END:STANDARD
BEGIN:DAYLIGHT
TZOFFSETFROM:+0000
TZOFFSETTO:+0100
TZNAME:BST
DTSTART:20270328T010000
END:DAYLIGHT
BEGIN:STANDARD
TZOFFSETFROM:+0100
TZOFFSETTO:+0000
TZNAME:GMT
DTSTART:20271031T010000
END:STANDARD
END:VTIMEZONE
BEGIN:VEVENT
DTSTART;VALUE=DATE:20260501
DTEND;VALUE=DATE:20260504
DTSTAMP:20260421T124139
CREATED:20250801T112643Z
LAST-MODIFIED:20250801T112643Z
UID:4880-1777593600-1777852799@earlymusicdiary.org.uk
SUMMARY:Gregorian Chant: The Joys of Singing
DESCRIPTION:An inclusive course for all to experience Gregorian chant in a friendly\, entertaining\, informative and enjoyable context. A shared exploration of its music and cultural history\, works towards daily performances of a meditative chant sequence. \nTutor: John Rowlands-Pritchard.
URL:https://earlymusicdiary.org.uk/event/4880/
LOCATION:Benslow Music\, Benslow Lane\, Hitchin\, Hertfordshire\, SG4 9RB
CATEGORIES:Courses,Singers
END:VEVENT
BEGIN:VEVENT
DTSTART;VALUE=DATE:20260501
DTEND;VALUE=DATE:20260504
DTSTAMP:20260421T124139
CREATED:20250801T112708Z
LAST-MODIFIED:20250801T112708Z
UID:4881-1777593600-1777852799@earlymusicdiary.org.uk
SUMMARY:Baroque Solo Sonatas: Melody and Continuo
DESCRIPTION:This course will explore the early history of the solo Sonata\, from the era of Merula and Fontana through to Bach and Handel. Participants will study the arts of melody\, accompaniment and the interface between them. \nTutors: Naomi Burrell\, Gavin Kibble\, Satoko Doi-Luck.
URL:https://earlymusicdiary.org.uk/event/4881/
LOCATION:Benslow Music\, Benslow Lane\, Hitchin\, Hertfordshire\, SG4 9RB
CATEGORIES:Courses,Instruments
END:VEVENT
BEGIN:VEVENT
DTSTART;VALUE=DATE:20260503
DTEND;VALUE=DATE:20260509
DTSTAMP:20260421T124139
CREATED:20250626T141520Z
LAST-MODIFIED:20250626T141520Z
UID:4763-1777766400-1778284799@earlymusicdiary.org.uk
SUMMARY:Stirling Music Party with Rory McCleery
DESCRIPTION:A course in one of Scotland’s most famous churches\, centred on the music of Vincente Lusitano (c.1520-1561)\, a Portuguese composer of African descent.
URL:https://earlymusicdiary.org.uk/event/4763/
LOCATION:Church of the Holy Rude\, Stirling\, FK8 1ED
CATEGORIES:Courses,Singers
END:VEVENT
BEGIN:VEVENT
DTSTART;VALUE=DATE:20260508
DTEND;VALUE=DATE:20260511
DTSTAMP:20260421T124139
CREATED:20260114T121628Z
LAST-MODIFIED:20260114T121708Z
UID:5204-1778198400-1778457599@earlymusicdiary.org.uk
SUMMARY:Lute Songs from England\, France and Germany
DESCRIPTION:An immersive exploration of lute songs from around 1600 in Northern Europe – centred on John Dowland’s best-beloved “First Book of Songes”\, but also welcoming repertoire from lands that he visited\, finding great acclaim in music-loving courts. \nOpen to singers of all ranges – soloists and ensemble voices – as well as lutenists\, this course welcomes both seasoned performers and newcomers to the lute song tradition. With expert guidance from Emma Kirkby\, Florian Franke\, and Sam Brown.
URL:https://earlymusicdiary.org.uk/event/5204/
LOCATION:Hawkwood College\, Stroud\, GL6 7QW
CATEGORIES:Courses,Instruments,Singers
END:VEVENT
BEGIN:VEVENT
DTSTART;VALUE=DATE:20260508
DTEND;VALUE=DATE:20260511
DTSTAMP:20260421T124139
CREATED:20260119T114433Z
LAST-MODIFIED:20260119T114510Z
UID:5222-1778198400-1778457599@earlymusicdiary.org.uk
SUMMARY:Country Choral Upper Voices Weekend
DESCRIPTION:This upper-voice (SSA/SSAA) ensemble singing weekend\, led by Rory Wainwright Johnston\, is built around detailed\, small-ensemble choral work\, drawing on repertoire from the early Baroque through to the present day.
URL:https://earlymusicdiary.org.uk/event/5222/
LOCATION:High Trenhouse\, Yorkshire Dales\, BD24 9PR
CATEGORIES:Courses,Singers
END:VEVENT
BEGIN:VEVENT
DTSTART;VALUE=DATE:20260509
DTEND;VALUE=DATE:20260511
DTSTAMP:20260421T124139
CREATED:20250814T085552Z
LAST-MODIFIED:20250814T085552Z
UID:4920-1778284800-1778457599@earlymusicdiary.org.uk
SUMMARY:Dorset Bach Cantata Club
DESCRIPTION:Non-residential study weekend directed by Philip Walsh.
URL:https://earlymusicdiary.org.uk/event/4920/
LOCATION:D’Urberville Centre\, Wool\, BH20 6DL
CATEGORIES:Courses,Singers
END:VEVENT
BEGIN:VEVENT
DTSTART;VALUE=DATE:20260511
DTEND;VALUE=DATE:20260515
DTSTAMP:20260421T124139
CREATED:20250630T142428Z
LAST-MODIFIED:20250630T142428Z
UID:4782-1778457600-1778803199@earlymusicdiary.org.uk
SUMMARY:Rondo Viol Academy
DESCRIPTION:Intermediate and Upper Intermediate. Run by Jacqui Robertson-Wade and Alison Kinder.
URL:https://earlymusicdiary.org.uk/event/4782/
LOCATION:Shepherd’s Dene\, Northumberland\, NE44 6AF
CATEGORIES:Courses,Instruments
END:VEVENT
BEGIN:VEVENT
DTSTART;VALUE=DATE:20260524
DTEND;VALUE=DATE:20260530
DTSTAMP:20260421T124139
CREATED:20251117T143050Z
LAST-MODIFIED:20251117T143111Z
UID:5100-1779580800-1780099199@earlymusicdiary.org.uk
SUMMARY:Voices\, Viols & Recorders Association
DESCRIPTION:An un-tutored course for experienced singers and players of early instruments. \nNon-fixed ensembles of recorders and viols form the main part of the week with a variety of small singing groups depending on participants.  Evening sessions for all are conducted and include music for instruments and voices.
URL:https://earlymusicdiary.org.uk/event/5100/
LOCATION:Halsway Manor\, Halsway Lane\, Crowcombe\, Taunton\, TA4 4BD
CATEGORIES:Courses,Instruments,Singers
END:VEVENT
END:VCALENDAR