BEGIN:VCALENDAR
VERSION:2.0
PRODID:-//Early Music Diary - ECPv6.15.20//NONSGML v1.0//EN
CALSCALE:GREGORIAN
METHOD:PUBLISH
X-ORIGINAL-URL:https://earlymusicdiary.org.uk
X-WR-CALDESC:Events for Early Music Diary
REFRESH-INTERVAL;VALUE=DURATION:PT1H
X-Robots-Tag:noindex
X-PUBLISHED-TTL:PT1H
BEGIN:VTIMEZONE
TZID:Europe/London
BEGIN:DAYLIGHT
TZOFFSETFROM:+0000
TZOFFSETTO:+0100
TZNAME:BST
DTSTART:20250330T010000
END:DAYLIGHT
BEGIN:STANDARD
TZOFFSETFROM:+0100
TZOFFSETTO:+0000
TZNAME:GMT
DTSTART:20251026T010000
END:STANDARD
BEGIN:DAYLIGHT
TZOFFSETFROM:+0000
TZOFFSETTO:+0100
TZNAME:BST
DTSTART:20260329T010000
END:DAYLIGHT
BEGIN:STANDARD
TZOFFSETFROM:+0100
TZOFFSETTO:+0000
TZNAME:GMT
DTSTART:20261025T010000
END:STANDARD
BEGIN:DAYLIGHT
TZOFFSETFROM:+0000
TZOFFSETTO:+0100
TZNAME:BST
DTSTART:20270328T010000
END:DAYLIGHT
BEGIN:STANDARD
TZOFFSETFROM:+0100
TZOFFSETTO:+0000
TZNAME:GMT
DTSTART:20271031T010000
END:STANDARD
END:VTIMEZONE
BEGIN:VEVENT
DTSTART;VALUE=DATE:20260920
DTEND;VALUE=DATE:20260925
DTSTAMP:20260424T021102
CREATED:20260121T145427Z
LAST-MODIFIED:20260121T145511Z
UID:5256-1789862400-1790294399@earlymusicdiary.org.uk
SUMMARY:Come & Sing Bach in Leipzig
DESCRIPTION:Five-day Come & Sing event culminating in a full-scale\, baroque-pitch performance including Bach’s Cantata 140 (“Wachet auf”)\, Cantata 147\, and the Magnificat in D major\, led by Ben England BEM.
URL:https://earlymusicdiary.org.uk/event/5256/
LOCATION:St. Nicholas Church\, Leipzig\, 04109\, Germany
CATEGORIES:Courses,Singers
END:VEVENT
BEGIN:VEVENT
DTSTART;VALUE=DATE:20260928
DTEND;VALUE=DATE:20261003
DTSTAMP:20260424T021102
CREATED:20260130T151036Z
LAST-MODIFIED:20260130T151036Z
UID:5277-1790553600-1790985599@earlymusicdiary.org.uk
SUMMARY:Renaissance Viol and Recorder course
DESCRIPTION:The Linarol Consort’s Renaissance Viol and Recorder course is for experienced viol and recorder players with an interest in improving their technique on Renaissance instruments and in reading from facsimile. \nTutors: David Hatcher and Alison Kinder\, assisted by Claire Horácek and Timothy Lin.
URL:https://earlymusicdiary.org.uk/event/5277/
LOCATION:Holland House\, nr Pershore\, WR10 3NB
CATEGORIES:Courses,Instruments
END:VEVENT
BEGIN:VEVENT
DTSTART;VALUE=DATE:20261026
DTEND;VALUE=DATE:20261031
DTSTAMP:20260424T021102
CREATED:20260121T145623Z
LAST-MODIFIED:20260121T145623Z
UID:5261-1792972800-1793404799@earlymusicdiary.org.uk
SUMMARY:Come & Sing Bach in Leipzig
DESCRIPTION:Five-day Come & Sing event culminating in a full-scale\, baroque-pitch performance including Bach’s Cantata 140 (“Wachet auf”)\, Cantata 147\, and the Magnificat in D major\, led by Ben England BEM.
URL:https://earlymusicdiary.org.uk/event/5261/
LOCATION:St. Nicholas Church\, Leipzig\, 04109\, Germany
CATEGORIES:Courses,Singers
END:VEVENT
END:VCALENDAR