BEGIN:VCALENDAR
VERSION:2.0
PRODID:-//Early Music Diary - ECPv6.15.20//NONSGML v1.0//EN
CALSCALE:GREGORIAN
METHOD:PUBLISH
X-ORIGINAL-URL:https://earlymusicdiary.org.uk
X-WR-CALDESC:Events for Early Music Diary
REFRESH-INTERVAL;VALUE=DURATION:PT1H
X-Robots-Tag:noindex
X-PUBLISHED-TTL:PT1H
BEGIN:VTIMEZONE
TZID:Europe/London
BEGIN:DAYLIGHT
TZOFFSETFROM:+0000
TZOFFSETTO:+0100
TZNAME:BST
DTSTART:20240331T010000
END:DAYLIGHT
BEGIN:STANDARD
TZOFFSETFROM:+0100
TZOFFSETTO:+0000
TZNAME:GMT
DTSTART:20241027T010000
END:STANDARD
BEGIN:DAYLIGHT
TZOFFSETFROM:+0000
TZOFFSETTO:+0100
TZNAME:BST
DTSTART:20250330T010000
END:DAYLIGHT
BEGIN:STANDARD
TZOFFSETFROM:+0100
TZOFFSETTO:+0000
TZNAME:GMT
DTSTART:20251026T010000
END:STANDARD
BEGIN:DAYLIGHT
TZOFFSETFROM:+0000
TZOFFSETTO:+0100
TZNAME:BST
DTSTART:20260329T010000
END:DAYLIGHT
BEGIN:STANDARD
TZOFFSETFROM:+0100
TZOFFSETTO:+0000
TZNAME:GMT
DTSTART:20261025T010000
END:STANDARD
END:VTIMEZONE
BEGIN:VEVENT
DTSTART;VALUE=DATE:20251205
DTEND;VALUE=DATE:20251215
DTSTAMP:20260423T155533
CREATED:20251030T121357Z
LAST-MODIFIED:20251030T121357Z
UID:5085-1764892800-1765756799@earlymusicdiary.org.uk
SUMMARY:York Early Music Christmas Festival
DESCRIPTION:The York Early Music Christmas Festival was created in 1997 to introduce audiences to the extraordinary wealth of music associated with Advent\, Christmas and Epiphany\, from the Medieval to the Baroque\, intertwined with the sagas\, stories and tales of the north.
URL:https://earlymusicdiary.org.uk/event/5085/
LOCATION:National Centre for Early Music\, York\, YO1 9TL
CATEGORIES:Festivals,Instruments,Singers,Workshops
END:VEVENT
END:VCALENDAR