BEGIN:VCALENDAR
VERSION:2.0
PRODID:-//Early Music Diary - ECPv6.15.20//NONSGML v1.0//EN
CALSCALE:GREGORIAN
METHOD:PUBLISH
X-ORIGINAL-URL:https://earlymusicdiary.org.uk
X-WR-CALDESC:Events for Early Music Diary
REFRESH-INTERVAL;VALUE=DURATION:PT1H
X-Robots-Tag:noindex
X-PUBLISHED-TTL:PT1H
BEGIN:VTIMEZONE
TZID:Europe/London
BEGIN:DAYLIGHT
TZOFFSETFROM:+0000
TZOFFSETTO:+0100
TZNAME:BST
DTSTART:20220327T010000
END:DAYLIGHT
BEGIN:STANDARD
TZOFFSETFROM:+0100
TZOFFSETTO:+0000
TZNAME:GMT
DTSTART:20221030T010000
END:STANDARD
BEGIN:DAYLIGHT
TZOFFSETFROM:+0000
TZOFFSETTO:+0100
TZNAME:BST
DTSTART:20230326T010000
END:DAYLIGHT
BEGIN:STANDARD
TZOFFSETFROM:+0100
TZOFFSETTO:+0000
TZNAME:GMT
DTSTART:20231029T010000
END:STANDARD
BEGIN:DAYLIGHT
TZOFFSETFROM:+0000
TZOFFSETTO:+0100
TZNAME:BST
DTSTART:20240331T010000
END:DAYLIGHT
BEGIN:STANDARD
TZOFFSETFROM:+0100
TZOFFSETTO:+0000
TZNAME:GMT
DTSTART:20241027T010000
END:STANDARD
END:VTIMEZONE
BEGIN:VEVENT
DTSTART;TZID=Europe/London:20230403T143000
DTEND;TZID=Europe/London:20230403T160000
DTSTAMP:20260424T074446
CREATED:20230320T115914Z
LAST-MODIFIED:20230320T115914Z
UID:2351-1680532200-1680537600@earlymusicdiary.org.uk
SUMMARY:Music History Book Club
DESCRIPTION:This term’s book is: Finding Handel by Helen Dymond. \nThis novel explores an interrupted journey through Holland that Handel took when he was 65. We will explore the historical record of this event compared to the novel and also some of the themes and works discussed in the book.
URL:https://earlymusicdiary.org.uk/event/2351/
LOCATION:Online
CATEGORIES:Online,Workshops
END:VEVENT
BEGIN:VEVENT
DTSTART;VALUE=DATE:20230413
DTEND;VALUE=DATE:20230414
DTSTAMP:20260424T074446
CREATED:20221031T092811Z
LAST-MODIFIED:20221031T092857Z
UID:1468-1681344000-1681430399@earlymusicdiary.org.uk
SUMMARY:Come and Sing Messiah
DESCRIPTION:Come and Sing Messiah Tour UK & Ireland\, led by Ben England BEM and Mark Strachan BEM.
URL:https://earlymusicdiary.org.uk/event/1468/
LOCATION:St. Ann’s Church\, Dublin\, Ireland\, D02 YV57
CATEGORIES:Singers,Workshops
END:VEVENT
BEGIN:VEVENT
DTSTART;VALUE=DATE:20230415
DTEND;VALUE=DATE:20230416
DTSTAMP:20260424T074446
CREATED:20220910T084731Z
LAST-MODIFIED:20230211T094812Z
UID:1070-1681516800-1681603199@earlymusicdiary.org.uk
SUMMARY:NEEMF Workshop: Byrd with Deborah Catterall
DESCRIPTION:Workshop for singers – the Byrd 4 Part Mass.
URL:https://earlymusicdiary.org.uk/event/1070/
LOCATION:Clements Hall\, York\, Nunthorpe Rd\, York\, YO23 1BW
CATEGORIES:Singers,Workshops
END:VEVENT
BEGIN:VEVENT
DTSTART;VALUE=DATE:20230415
DTEND;VALUE=DATE:20230416
DTSTAMP:20260424T074446
CREATED:20221031T093023Z
LAST-MODIFIED:20230329T132957Z
UID:1472-1681516800-1681603199@earlymusicdiary.org.uk
SUMMARY:Come and Sing Messiah
DESCRIPTION:Come and Sing Messiah Tour UK & Ireland\, led by Ben England BEM and Mark Strachan BEM.
URL:https://earlymusicdiary.org.uk/event/1472/
LOCATION:St Malachy’s Church\, Belfast\, BT2 8EN
CATEGORIES:Singers,Workshops
END:VEVENT
BEGIN:VEVENT
DTSTART;VALUE=DATE:20230415
DTEND;VALUE=DATE:20230416
DTSTAMP:20260424T074446
CREATED:20230211T095118Z
LAST-MODIFIED:20230211T095118Z
UID:2136-1681516800-1681603199@earlymusicdiary.org.uk
SUMMARY:NWEMF Workshop: Gabrieli & Lasso with James Weeks
DESCRIPTION:Majesty and Magnificence: Andrea Gabrieli and Orlando di Lasso. \nFor singers and instruments (A=440). \n 
URL:https://earlymusicdiary.org.uk/event/2136/
LOCATION:Didsbury Baptist Church\, Beaver Rd\, Manchester\, M20 6SX
CATEGORIES:Instruments,Singers,Workshops
END:VEVENT
BEGIN:VEVENT
DTSTART;VALUE=DATE:20230415
DTEND;VALUE=DATE:20230416
DTSTAMP:20260424T074446
CREATED:20230304T091117Z
LAST-MODIFIED:20230304T091117Z
UID:2297-1681516800-1681603199@earlymusicdiary.org.uk
SUMMARY:TVEMF Byrd Workshop with Bill Hunt
DESCRIPTION:Byrd & the birth of the Consort Anthem a workshop for singers\, viols & soft wind (A=440)\, directed by Bill Hunt of Fretwork.
URL:https://earlymusicdiary.org.uk/event/2297/
LOCATION:St John’s URC\, Northwood\, Hallowell Road\, HA6 1DN
CATEGORIES:Instruments,Singers,Workshops
END:VEVENT
BEGIN:VEVENT
DTSTART;VALUE=DATE:20230415
DTEND;VALUE=DATE:20230416
DTSTAMP:20260424T074446
CREATED:20230413T081358Z
LAST-MODIFIED:20230413T084556Z
UID:2521-1681516800-1681603199@earlymusicdiary.org.uk
SUMMARY:Come & Sing Handel's Messiah
DESCRIPTION:Come & Sing Handel’s Messiah with professional orchestra and soloists of Wyatt Sinfonia\, and a chorus made up of community singers.
URL:https://earlymusicdiary.org.uk/event/2521/
LOCATION:St John of Jerusalem Church\, Hackney\, London\, E9 7EY
CATEGORIES:Singers,Workshops
END:VEVENT
BEGIN:VEVENT
DTSTART;TZID=Europe/London:20230415T103000
DTEND;TZID=Europe/London:20230415T160000
DTSTAMP:20260424T074446
CREATED:20230221T094300Z
LAST-MODIFIED:20230221T100631Z
UID:2202-1681554600-1681574400@earlymusicdiary.org.uk
SUMMARY:Come & Sing Messiah Choruses
DESCRIPTION:Join singers from across the South West for a workshop exploring some of the beautiful choruses from Handel’s masterpiece\, working with talented choir director David Everett. \nFor further details\, or to register\, contact: casterbridge.music.uk@gmail.com
URL:https://earlymusicdiary.org.uk/event/2202/
LOCATION:Briantspuddle Village Hall\, Dorset\, DT2 7HT
CATEGORIES:Singers,Workshops
END:VEVENT
BEGIN:VEVENT
DTSTART;VALUE=DATE:20230422
DTEND;VALUE=DATE:20230423
DTSTAMP:20260424T074446
CREATED:20230211T100036Z
LAST-MODIFIED:20230211T100036Z
UID:2144-1682121600-1682207999@earlymusicdiary.org.uk
SUMMARY:SWEMF Workshop: Renaissance Winds with Tim Bayley
DESCRIPTION:Music for Renaissance Wind Band\, directed by Tim Bayley of the York Waits.
URL:https://earlymusicdiary.org.uk/event/2144/
LOCATION:St Mark’s Methodist Church\, Cheltenham\, GL51 8PX
CATEGORIES:Instruments,Workshops
END:VEVENT
BEGIN:VEVENT
DTSTART;VALUE=DATE:20230422
DTEND;VALUE=DATE:20230423
DTSTAMP:20260424T074446
CREATED:20230403T092123Z
LAST-MODIFIED:20230403T092321Z
UID:2433-1682121600-1682207999@earlymusicdiary.org.uk
SUMMARY:Come & Sing Handel's Messiah
DESCRIPTION:Come & Sing Handel’s Messiah with Somerset Choral Society. \nLight refreshments and music provided. \nTickets: £10 singers\, £5 audience.  Further details & booking: 07397 806319.
URL:https://earlymusicdiary.org.uk/event/2433/
LOCATION:Cheddar Catholic Church Hall\, BS27 3HU
CATEGORIES:Singers,Workshops
END:VEVENT
BEGIN:VEVENT
DTSTART;TZID=Europe/London:20230422T110000
DTEND;TZID=Europe/London:20230422T140000
DTSTAMP:20260424T074446
CREATED:20230322T163314Z
LAST-MODIFIED:20230322T163314Z
UID:2386-1682161200-1682172000@earlymusicdiary.org.uk
SUMMARY:The Sixteen Choral Pilgrimage Workshop
DESCRIPTION:De Monte – Peccantem me quotidie\nByrd – Cibavit eos\nClemens non Papa – Tristitia et anxietas
URL:https://earlymusicdiary.org.uk/event/2386/
LOCATION:Truro School\, TR1 1TH
CATEGORIES:Singers,Workshops
END:VEVENT
BEGIN:VEVENT
DTSTART;VALUE=DATE:20230423
DTEND;VALUE=DATE:20230424
DTSTAMP:20260424T074446
CREATED:20230413T094258Z
LAST-MODIFIED:20230413T095042Z
UID:2535-1682208000-1682294399@earlymusicdiary.org.uk
SUMMARY:Renaissance Singing Workshop
DESCRIPTION:Sing Joyfully – a celebration of Spring in Song and Madrigal with Hannes Kaiser. \nContact: hansenmerle848@gmail.com / 07730 436766.
URL:https://earlymusicdiary.org.uk/event/2535/
LOCATION:Steiner Academy\, Hereford\, HR2 8DL
CATEGORIES:Singers,Workshops
END:VEVENT
BEGIN:VEVENT
DTSTART;TZID=Europe/London:20230424T190000
DTEND;TZID=Europe/London:20230424T213000
DTSTAMP:20260424T074446
CREATED:20230420T102236Z
LAST-MODIFIED:20230420T102413Z
UID:2565-1682362800-1682371800@earlymusicdiary.org.uk
SUMMARY:English Madrigals with Greg Skidmore
DESCRIPTION:In this Byrd year\, for a bit of a change\, come and spend an evening singing English music mainly NOT by Byrd. This workshop will focus on the rich English madrigal repertoire\, focusing on John Wilbye\, but also including Orlando Gibbons\, John Ward\, Thomas Tomkins\, Thomas Weelkes (who also died 400 years ago this year)\, and more.
URL:https://earlymusicdiary.org.uk/event/2565/
LOCATION:St Stephen’s\, Rochester Row\, London\, SW1P 1LE
CATEGORIES:Singers,Workshops
END:VEVENT
BEGIN:VEVENT
DTSTART;VALUE=DATE:20230429
DTEND;VALUE=DATE:20230430
DTSTAMP:20260424T074446
CREATED:20230221T183044Z
LAST-MODIFIED:20230228T113232Z
UID:2222-1682726400-1682812799@earlymusicdiary.org.uk
SUMMARY:Come & Sing Handel Coronation Anthems
DESCRIPTION:Come and Sing four Coronation Anthems by Handel with Cantores Olicanae\, led by Charlie Perry.
URL:https://earlymusicdiary.org.uk/event/2222/
LOCATION:Ilkley Grammar School\, LS29 8TR
CATEGORIES:Singers,Workshops
END:VEVENT
BEGIN:VEVENT
DTSTART;VALUE=DATE:20230429
DTEND;VALUE=DATE:20230430
DTSTAMP:20260424T074446
CREATED:20221230T153456Z
LAST-MODIFIED:20221230T153606Z
UID:1844-1682726400-1682812799@earlymusicdiary.org.uk
SUMMARY:Come & Sing Workshop: Spem in Alium
DESCRIPTION:Join Gloucester Choral Society for a rare opportunity to sing Spem in Alium by Thomas Tallis\, led by Adrian Partington. Written for 8 choirs\, this 40-part composition involves hundreds of singers\, and you can be one of them.
URL:https://earlymusicdiary.org.uk/event/1844/
LOCATION:Gloucester Cathedral\, GL1 2LX
CATEGORIES:Singers,Workshops
END:VEVENT
BEGIN:VEVENT
DTSTART;VALUE=DATE:20230429
DTEND;VALUE=DATE:20230430
DTSTAMP:20260424T074446
CREATED:20230221T092506Z
LAST-MODIFIED:20230406T141649Z
UID:2197-1682726400-1682812799@earlymusicdiary.org.uk
SUMMARY:EEMF Workshop: Ingegneri & Monteverdi with Patrick Craig
DESCRIPTION:Master and Pupil: Ingegneri and Monteverdi.  A polychoral workshop for singers and instrumentalists.
URL:https://earlymusicdiary.org.uk/event/2197/
LOCATION:St Peter’s by the Waterfront\, Ipswich\, College St\, Ipswich\, IP4 1BF
CATEGORIES:Instruments,Singers,Workshops
END:VEVENT
BEGIN:VEVENT
DTSTART;VALUE=DATE:20230429
DTEND;VALUE=DATE:20230430
DTSTAMP:20260424T074446
CREATED:20230323T172235Z
LAST-MODIFIED:20230323T172235Z
UID:2421-1682726400-1682812799@earlymusicdiary.org.uk
SUMMARY:Come & Sing A Cappella
DESCRIPTION:Including music by Child\, Weelkes\, Vaughan Williams\, and Purcell.  Led by Peter Nardone and Stephen Tilton. \nApplication forms and more details from saffas73@btinternet.com.
URL:https://earlymusicdiary.org.uk/event/2421/
LOCATION:St John’s Church\, West Bay\, Bridport\, Dorset\, DT6 4EY
CATEGORIES:Singers,Workshops
END:VEVENT
BEGIN:VEVENT
DTSTART;VALUE=DATE:20230430
DTEND;VALUE=DATE:20230501
DTSTAMP:20260424T074446
CREATED:20220927T075616Z
LAST-MODIFIED:20230403T091348Z
UID:1258-1682812800-1682899199@earlymusicdiary.org.uk
SUMMARY:SEMF Workshop: Three Faces of Italy with Emily White
DESCRIPTION:The workshop for instruments at A=440 will show three faces of 17th century sacred music. The Italian style with Claudio Monteverdi\, the Italian influence with Heinrich Schütz\, and the Italian style with a difference with Isabella Leonarda.
URL:https://earlymusicdiary.org.uk/event/1258/
LOCATION:Normandy Village Hall\, Guildford\, GU3 2DD
CATEGORIES:Instruments,Workshops
END:VEVENT
END:VCALENDAR