BEGIN:VCALENDAR
VERSION:2.0
PRODID:-//Early Music Diary - ECPv6.15.20//NONSGML v1.0//EN
CALSCALE:GREGORIAN
METHOD:PUBLISH
X-WR-CALNAME:Early Music Diary
X-ORIGINAL-URL:https://earlymusicdiary.org.uk
X-WR-CALDESC:Events for Early Music Diary
REFRESH-INTERVAL;VALUE=DURATION:PT1H
X-Robots-Tag:noindex
X-PUBLISHED-TTL:PT1H
BEGIN:VTIMEZONE
TZID:Europe/London
BEGIN:DAYLIGHT
TZOFFSETFROM:+0000
TZOFFSETTO:+0100
TZNAME:BST
DTSTART:20220327T010000
END:DAYLIGHT
BEGIN:STANDARD
TZOFFSETFROM:+0100
TZOFFSETTO:+0000
TZNAME:GMT
DTSTART:20221030T010000
END:STANDARD
BEGIN:DAYLIGHT
TZOFFSETFROM:+0000
TZOFFSETTO:+0100
TZNAME:BST
DTSTART:20230326T010000
END:DAYLIGHT
BEGIN:STANDARD
TZOFFSETFROM:+0100
TZOFFSETTO:+0000
TZNAME:GMT
DTSTART:20231029T010000
END:STANDARD
BEGIN:DAYLIGHT
TZOFFSETFROM:+0000
TZOFFSETTO:+0100
TZNAME:BST
DTSTART:20240331T010000
END:DAYLIGHT
BEGIN:STANDARD
TZOFFSETFROM:+0100
TZOFFSETTO:+0000
TZNAME:GMT
DTSTART:20241027T010000
END:STANDARD
END:VTIMEZONE
BEGIN:VEVENT
DTSTART;VALUE=DATE:20230902
DTEND;VALUE=DATE:20230903
DTSTAMP:20260424T012621
CREATED:20230205T105551Z
LAST-MODIFIED:20230205T105551Z
UID:2028-1693612800-1693699199@earlymusicdiary.org.uk
SUMMARY:Baroque & Modern Reed Making & Adjustment
DESCRIPTION:Participants will learn the steps and skills needed to make their own oboe\, English horn (Cor Anglais)\, or baroque oboe reeds.
URL:https://earlymusicdiary.org.uk/event/2028/
LOCATION:The Champion Workshop\, 6 Lintech Court\, Linton\, Cambridgeshire\, CB21 4XN
CATEGORIES:Instruments,Workshops
END:VEVENT
BEGIN:VEVENT
DTSTART;VALUE=DATE:20230902
DTEND;VALUE=DATE:20230903
DTSTAMP:20260424T012621
CREATED:20230217T105659Z
LAST-MODIFIED:20230217T105659Z
UID:2191-1693612800-1693699199@earlymusicdiary.org.uk
SUMMARY:NEEMF Workshop: Odhecaton with Lizzie Gutteridge
DESCRIPTION:Music from the Odhecaton – a workshop for instrumentalists.
URL:https://earlymusicdiary.org.uk/event/2191/
LOCATION:Clements Hall\, York\, Nunthorpe Rd\, York\, YO23 1BW
CATEGORIES:Instruments,Workshops
END:VEVENT
BEGIN:VEVENT
DTSTART;VALUE=DATE:20230902
DTEND;VALUE=DATE:20230903
DTSTAMP:20260424T012621
CREATED:20230609T082238Z
LAST-MODIFIED:20230609T082256Z
UID:2712-1693612800-1693699199@earlymusicdiary.org.uk
SUMMARY:SWEMF Workshop: Weelkes with Clare Griffel
DESCRIPTION:‘A notorious swearer and blasphemer’ – the sad life and wonderful music of Thomas Weelkes. \nSingers in all voices are welcome\, as are viols and recorders.
URL:https://earlymusicdiary.org.uk/event/2712/
LOCATION:St Mary’s Church\, Yatton\, BS49 4HH
CATEGORIES:Instruments,Singers,Workshops
END:VEVENT
BEGIN:VEVENT
DTSTART;TZID=Europe/London:20230904T130000
DTEND;TZID=Europe/London:20230904T183000
DTSTAMP:20260424T012621
CREATED:20230606T153608Z
LAST-MODIFIED:20230609T082453Z
UID:2705-1693832400-1693852200@earlymusicdiary.org.uk
SUMMARY:Early Music Evensong
DESCRIPTION:SATB welcome to participate in workshop and performance. \nRepertoire (music provided):\n– Preces and responses\, William Smith (1603-1645)\n– O Lord the maker of all thing\, William Munday (c1530-1591)\n– Magnificat and Nunc Dimittis in E Flat\, Michael Wise (c1648-1687) \nCost £25 per singer. Pre-registration required by email: jamesnreed@gmail.com.
URL:https://earlymusicdiary.org.uk/event/2705/
LOCATION:Wells\, Somerset\, BA5 2UE
CATEGORIES:Singers,Workshops
END:VEVENT
BEGIN:VEVENT
DTSTART;VALUE=DATE:20230907
DTEND;VALUE=DATE:20230909
DTSTAMP:20260424T012621
CREATED:20230808T154149Z
LAST-MODIFIED:20230808T154149Z
UID:2889-1694044800-1694217599@earlymusicdiary.org.uk
SUMMARY:Messiah 24 Hour Drop-In
DESCRIPTION:Singers and instrumentalists are invited to a “24 hour Drop-In” performance of MESSIAH at St. George’s Church\, Hanover Square.  Starting with AND THE GLORY OF THE LORD with whoever is there\, working through the choruses until the end\, then starting all over again and repeating this for 24 hours.
URL:https://earlymusicdiary.org.uk/event/2889/
LOCATION:St George’s Hanover Square\, Mayfair\, London\, W1S 1FX
CATEGORIES:Instruments,Singers,Workshops
END:VEVENT
BEGIN:VEVENT
DTSTART;VALUE=DATE:20230908
DTEND;VALUE=DATE:20230911
DTSTAMP:20260424T012621
CREATED:20220922T155820Z
LAST-MODIFIED:20220922T155952Z
UID:1224-1694131200-1694390399@earlymusicdiary.org.uk
SUMMARY:Medieval Music in the Dales Festival
DESCRIPTION:
URL:https://earlymusicdiary.org.uk/event/1224/
LOCATION:Bolton Castle\, Nr Leyburn\, North Yorkshire\, DL8 4ET
CATEGORIES:Festivals,Instruments,Singers,Workshops
END:VEVENT
BEGIN:VEVENT
DTSTART;VALUE=DATE:20230909
DTEND;VALUE=DATE:20230910
DTSTAMP:20260424T012621
CREATED:20230620T141658Z
LAST-MODIFIED:20230620T141949Z
UID:2717-1694217600-1694303999@earlymusicdiary.org.uk
SUMMARY:Come & Sing: Europe in a Day
DESCRIPTION:A day exploring European sacred music\, including works by Victoria\, Gesualdo\, and Hassler\, with David Everett.
URL:https://earlymusicdiary.org.uk/event/2717/
LOCATION:Briantspuddle Village Hall\, Dorset\, DT2 7HT
CATEGORIES:Singers,Workshops
END:VEVENT
BEGIN:VEVENT
DTSTART;VALUE=DATE:20230909
DTEND;VALUE=DATE:20230910
DTSTAMP:20260424T012621
CREATED:20230829T140916Z
LAST-MODIFIED:20230829T140916Z
UID:3008-1694217600-1694303999@earlymusicdiary.org.uk
SUMMARY:Come & Sing Vivaldi Gloria
DESCRIPTION:Come and Sing Vivaldi Gloria with Dolce Singers.
URL:https://earlymusicdiary.org.uk/event/3008/
LOCATION:St Margaret’s Church Corsley\, BA12 7QE
CATEGORIES:Singers,Workshops
END:VEVENT
BEGIN:VEVENT
DTSTART;VALUE=DATE:20230909
DTEND;VALUE=DATE:20230911
DTSTAMP:20260424T012621
CREATED:20221130T182530Z
LAST-MODIFIED:20230320T173337Z
UID:1732-1694217600-1694390399@earlymusicdiary.org.uk
SUMMARY:MEMF Workshops: Byrd with Ali Kinder & Helen Charlston
DESCRIPTION:Two workshops to mark the 400th anniversary of William Byrd’s death.
URL:https://earlymusicdiary.org.uk/event/1732/
LOCATION:Knowle Village Hall\, Solihull\, B93 0NN
CATEGORIES:Instruments,Singers,Workshops
END:VEVENT
BEGIN:VEVENT
DTSTART;TZID=Europe/London:20230909T120000
DTEND;TZID=Europe/London:20230909T150000
DTSTAMP:20260424T012621
CREATED:20230322T163939Z
LAST-MODIFIED:20230414T074152Z
UID:2393-1694260800-1694271600@earlymusicdiary.org.uk
SUMMARY:The Sixteen Choral Pilgrimage Workshop
DESCRIPTION:Under the guidance of expert workshop leaders\, Eamonn Dougan and Sally Dunkley\, explore a variety of music inspired by The Sixteen’s own Choral Pilgrimage: \nDe Monte – Peccantem me quotidie\nByrd – Cibavit eos\nClemens non Papa – Tristitia et anxietas
URL:https://earlymusicdiary.org.uk/event/2393/
LOCATION:Parish Hall\, Tewkesbury Abbey\, GL20 5RZ
CATEGORIES:Singers,Workshops
END:VEVENT
BEGIN:VEVENT
DTSTART;VALUE=DATE:20230914
DTEND;VALUE=DATE:20230915
DTSTAMP:20260424T012621
CREATED:20230808T154542Z
LAST-MODIFIED:20230809T103131Z
UID:2891-1694649600-1694735999@earlymusicdiary.org.uk
SUMMARY:Viol Consort Clinic with Jonathan Manson
DESCRIPTION:Open to all non-professional musicians of any age\, participants will have the opportunity to work on a piece of music in a friendly and supportive environment.
URL:https://earlymusicdiary.org.uk/event/2891/
LOCATION:Edinburgh
CATEGORIES:Instruments,Workshops
END:VEVENT
BEGIN:VEVENT
DTSTART;VALUE=DATE:20230915
DTEND;VALUE=DATE:20230918
DTSTAMP:20260424T012621
CREATED:20230830T143106Z
LAST-MODIFIED:20230830T143106Z
UID:3014-1694736000-1694995199@earlymusicdiary.org.uk
SUMMARY:International Pipe and Tabor Festival
DESCRIPTION:Have fun with the Taborers at the International Pipe and Tabor Festival\, featuring a Symposium\, workshops\, instruments\, a concert\, and processing and performing with morris and early dance.
URL:https://earlymusicdiary.org.uk/event/3014/
LOCATION:St Wulfram’s\, Grantham\, NG31 6NS
CATEGORIES:Festivals,Instruments,Workshops
END:VEVENT
BEGIN:VEVENT
DTSTART;VALUE=DATE:20230916
DTEND;VALUE=DATE:20230917
DTSTAMP:20260424T012621
CREATED:20230814T103604Z
LAST-MODIFIED:20230814T110131Z
UID:2945-1694822400-1694908799@earlymusicdiary.org.uk
SUMMARY:Come & Sing Handel Coronation Anthems
DESCRIPTION:Sing all four Handel Coronation Anthems in a day\, followed by an evening performance as part of a wider Baroque Coronation Celebration concert.
URL:https://earlymusicdiary.org.uk/event/2945/
LOCATION:St John’s Church\, Buxton\, SK17 6XN
CATEGORIES:Singers,Workshops
END:VEVENT
BEGIN:VEVENT
DTSTART;VALUE=DATE:20230916
DTEND;VALUE=DATE:20230917
DTSTAMP:20260424T012621
CREATED:20220922T152007Z
LAST-MODIFIED:20230707T084628Z
UID:1215-1694822400-1694908799@earlymusicdiary.org.uk
SUMMARY:BMEMF Workshop: 17th Century Laments with ​David Allinson
DESCRIPTION:When David heard – English laments of the early 17th century\, a workshop for singers.
URL:https://earlymusicdiary.org.uk/event/1215/
LOCATION:Titley Village Hall\, Kington\, Herefordshire\, HR5 3RN
CATEGORIES:Singers,Workshops
END:VEVENT
BEGIN:VEVENT
DTSTART;VALUE=DATE:20230916
DTEND;VALUE=DATE:20230917
DTSTAMP:20260424T012621
CREATED:20230427T103022Z
LAST-MODIFIED:20230427T103043Z
UID:2592-1694822400-1694908799@earlymusicdiary.org.uk
SUMMARY:Come & Sing - Byrd & Chilcott
DESCRIPTION:Spend a day exploring and developing your choral technique while singing movements from Byrd’s Mass for 4 voices & Chilcott’s Little Jazz Mass.
URL:https://earlymusicdiary.org.uk/event/2592/
LOCATION:St John the Baptist\, Crowthorne\, Berkshire\, RG45 7AW
CATEGORIES:Singers,Workshops
END:VEVENT
BEGIN:VEVENT
DTSTART;VALUE=DATE:20230916
DTEND;VALUE=DATE:20230917
DTSTAMP:20260424T012621
CREATED:20230703T113012Z
LAST-MODIFIED:20230703T113038Z
UID:2740-1694822400-1694908799@earlymusicdiary.org.uk
SUMMARY:Come & Sing Byrd with Martin Lightowler
DESCRIPTION:Come and Sing wonderful music composed by one of this country’s finest composers\, who died 400 years ago this year. \n​£30​ ​Including refreshments. \nTo book\, and for further details\, please email martinlightowler@gmail.com\, or text 07948 407209.
URL:https://earlymusicdiary.org.uk/event/2740/
LOCATION:Broomhill Methodist Church\, Sheffield\, S10 3BD
CATEGORIES:Singers,Workshops
END:VEVENT
BEGIN:VEVENT
DTSTART;VALUE=DATE:20230916
DTEND;VALUE=DATE:20230917
DTSTAMP:20260424T012621
CREATED:20230703T113853Z
LAST-MODIFIED:20230703T114018Z
UID:2743-1694822400-1694908799@earlymusicdiary.org.uk
SUMMARY:Come & Sing Choral Classics
DESCRIPTION:Join Musical Director\, Stephen Doughty\, and members of the Edinburgh Bach Choir for a fun day singing favourite Choral Classics from Handel\, Bach and others.
URL:https://earlymusicdiary.org.uk/event/2743/
LOCATION:St Cuthbert’s\, Edinburgh\, EH1 2EP
CATEGORIES:Singers,Workshops
ORGANIZER;CN="Edinburgh Bach Choir":MAILTO:secretary@edinburghbachchoir.org.uk
END:VEVENT
BEGIN:VEVENT
DTSTART;VALUE=DATE:20230916
DTEND;VALUE=DATE:20230917
DTSTAMP:20260424T012621
CREATED:20230705T153439Z
LAST-MODIFIED:20230705T153439Z
UID:2763-1694822400-1694908799@earlymusicdiary.org.uk
SUMMARY:Choral Workshop: Byrd & Cornysh
DESCRIPTION:A workshop for experienced choral singers on the music of two composers with anniversaries this year – William Byrd and William Cornysh.
URL:https://earlymusicdiary.org.uk/event/2763/
LOCATION:Friends’ Meeting House\, Brighton\, BN1 1AF
CATEGORIES:Singers,Workshops
END:VEVENT
BEGIN:VEVENT
DTSTART;VALUE=DATE:20230916
DTEND;VALUE=DATE:20230917
DTSTAMP:20260424T012621
CREATED:20230814T105510Z
LAST-MODIFIED:20230814T105547Z
UID:2955-1694822400-1694908799@earlymusicdiary.org.uk
SUMMARY:Come & Sing Handel & Verdi
DESCRIPTION:Join the friendly singers of Teddington Choral Society for a day exploring some choruses from Handel’s Messiah and Verdi’s Requiem\, led by Julian Collings and accompanied by Phil Collings.
URL:https://earlymusicdiary.org.uk/event/2955/
LOCATION:St Mary’s Church\, Twickenham\, TW1 3NJ
CATEGORIES:Singers,Workshops
END:VEVENT
BEGIN:VEVENT
DTSTART;VALUE=DATE:20230916
DTEND;VALUE=DATE:20230917
DTSTAMP:20260424T012621
CREATED:20230830T143602Z
LAST-MODIFIED:20230830T143602Z
UID:3020-1694822400-1694908799@earlymusicdiary.org.uk
SUMMARY:Renaissance Voices Singing Workshop
DESCRIPTION:An informal workshop for singers of all abilities led by Paul Leddington Wright\, formerly Organist and Director of Music at Coventry Cathedral. \nMost of the music on the day will be taken from the European Sacred Music book\, edited by John Rutter.
URL:https://earlymusicdiary.org.uk/event/3020/
LOCATION:St James the Less\, Maidenhead\, SL6 6QW
CATEGORIES:Singers,Workshops
END:VEVENT
BEGIN:VEVENT
DTSTART;TZID=Europe/London:20230916T130000
DTEND;TZID=Europe/London:20230916T170000
DTSTAMP:20260424T012621
CREATED:20230705T153915Z
LAST-MODIFIED:20230705T153915Z
UID:2767-1694869200-1694883600@earlymusicdiary.org.uk
SUMMARY:Come & Sing Messiah
DESCRIPTION:Join Bristol Choral Society\, under the direction of Musical Director Hilary Campbell for an afternoon exploring Handel’s Messiah and experience an open rehearsal.
URL:https://earlymusicdiary.org.uk/event/2767/
LOCATION:Broadmead Baptist Church\, Bristol\, BS1 3HY
CATEGORIES:Singers,Workshops
END:VEVENT
BEGIN:VEVENT
DTSTART;VALUE=DATE:20230917
DTEND;VALUE=DATE:20230918
DTSTAMP:20260424T012621
CREATED:20230106T091124Z
LAST-MODIFIED:20230211T101807Z
UID:1872-1694908800-1694995199@earlymusicdiary.org.uk
SUMMARY:SEMF Workshop: Bach with John Hancorn
DESCRIPTION:Live workshop directed by John Hancorn on choruses from Bach’s B minor Mass\, for singers and orchestra (i.e. appropriate instruments!). Pitch A=440.
URL:https://earlymusicdiary.org.uk/event/1872/
LOCATION:Headcorn Village Hall\, Kent\, TN27 9NR
CATEGORIES:Instruments,Singers,Workshops
END:VEVENT
BEGIN:VEVENT
DTSTART;VALUE=DATE:20230917
DTEND;VALUE=DATE:20230918
DTSTAMP:20260424T012621
CREATED:20230815T142808Z
LAST-MODIFIED:20230815T142808Z
UID:2966-1694908800-1694995199@earlymusicdiary.org.uk
SUMMARY:Whiddon Autumn Festival Come & Sing
DESCRIPTION:An opportunity for people of all musical backgrounds to join together in song\, and go on to perform alongside professional artists.  The morning session will include learning some music by J. S. Bach\, and the afternoon session will include a music creation workshop\,
URL:https://earlymusicdiary.org.uk/event/2966/
LOCATION:Endecott House\, Chagford\, Devon\, TQ13 8AJ
CATEGORIES:Singers,Workshops
END:VEVENT
BEGIN:VEVENT
DTSTART;VALUE=DATE:20230923
DTEND;VALUE=DATE:20230924
DTSTAMP:20260424T012621
CREATED:20230509T164724Z
LAST-MODIFIED:20230719T073405Z
UID:2608-1695427200-1695513599@earlymusicdiary.org.uk
SUMMARY:NWEMF Workshop for Recorders with Polyphonica Recorder Trio
DESCRIPTION:Gabrieli and his contemporaries: how to play choral and instrumental music\, a workshop for recorders (A = 440) with Polyphonica Recorder Trio.
URL:https://earlymusicdiary.org.uk/event/2608/
LOCATION:All Saints\, Chester\, CH2 3HZ
CATEGORIES:Instruments,Workshops
END:VEVENT
BEGIN:VEVENT
DTSTART;VALUE=DATE:20230923
DTEND;VALUE=DATE:20230924
DTSTAMP:20260424T012621
CREATED:20230706T094742Z
LAST-MODIFIED:20230706T094751Z
UID:2786-1695427200-1695513599@earlymusicdiary.org.uk
SUMMARY:Come & Sing Byrd
DESCRIPTION:Join members of Stile Antico to explore the wonderful music of William Byrd.
URL:https://earlymusicdiary.org.uk/event/2786/
LOCATION:St Davids Cathedral\, St Davids\, SA62 6RD
CATEGORIES:Singers,Workshops
END:VEVENT
BEGIN:VEVENT
DTSTART;VALUE=DATE:20230923
DTEND;VALUE=DATE:20230924
DTSTAMP:20260424T012621
CREATED:20230814T104700Z
LAST-MODIFIED:20230814T104950Z
UID:2951-1695427200-1695513599@earlymusicdiary.org.uk
SUMMARY:Come & Sing Handel's Samson
DESCRIPTION:Come and sing choruses from Handel’s oratorio Samson\, directed by Martin Bussey.
URL:https://earlymusicdiary.org.uk/event/2951/
LOCATION:Black Park Chapel\, Chirk\, Wrexham\, LL14 5BB
CATEGORIES:Singers,Workshops
END:VEVENT
BEGIN:VEVENT
DTSTART;VALUE=DATE:20230923
DTEND;VALUE=DATE:20230924
DTSTAMP:20260424T012621
CREATED:20230821T080255Z
LAST-MODIFIED:20230821T080339Z
UID:2990-1695427200-1695513599@earlymusicdiary.org.uk
SUMMARY:Come & Sing: Bach Magnificat
DESCRIPTION:The Esterhazy Singers invites singers for a fun day of singing selections from Bach’s ever-popular “Magnificat” under their inspirational Music Director David Halstead.
URL:https://earlymusicdiary.org.uk/event/2990/
LOCATION:St Margaret Pattens\, City of London\, EC3M 1HS
CATEGORIES:Singers,Workshops
END:VEVENT
BEGIN:VEVENT
DTSTART;VALUE=DATE:20230923
DTEND;VALUE=DATE:20230924
DTSTAMP:20260424T012621
CREATED:20230829T134327Z
LAST-MODIFIED:20230829T134327Z
UID:2997-1695427200-1695513599@earlymusicdiary.org.uk
SUMMARY:MEMF Baroque String Workshop with Oliver Webber
DESCRIPTION:A journey from England to Germany and Italy for violins\, violas\, cellos\, double bass/violone\, viols and theorbo.
URL:https://earlymusicdiary.org.uk/event/2997/
LOCATION:St. Nicholas Church\, Warwick\, CV34 4JD
CATEGORIES:Instruments,Workshops
END:VEVENT
BEGIN:VEVENT
DTSTART;VALUE=DATE:20230923
DTEND;VALUE=DATE:20230924
DTSTAMP:20260424T012621
CREATED:20230831T103547Z
LAST-MODIFIED:20230831T103741Z
UID:3026-1695427200-1695513599@earlymusicdiary.org.uk
SUMMARY:Bach Club Choral Workshop
DESCRIPTION:Join the Platinum Consort to sing the choruses and chorales of three of Bach’s sacred cantatas\, directed by Scott Inglis-Kidger\, and accompanied by Benjamin Newlove.
URL:https://earlymusicdiary.org.uk/event/3026/
LOCATION:St Mary’s Church\, Battersea\, London\, SW11 3NA
CATEGORIES:Singers,Workshops
END:VEVENT
BEGIN:VEVENT
DTSTART;VALUE=DATE:20230923
DTEND;VALUE=DATE:20230924
DTSTAMP:20260424T012621
CREATED:20230907T073920Z
LAST-MODIFIED:20230907T073943Z
UID:3062-1695427200-1695513599@earlymusicdiary.org.uk
SUMMARY:Baroque Chamber Music Playing Day
DESCRIPTION:The day is for string players\, wind players\, solo voice\, and continuo\, playing chamber music in various combinations.
URL:https://earlymusicdiary.org.uk/event/3062/
LOCATION:West Leigh Infant School\, nr Bristol\, Backwell\, BS48 3NG
CATEGORIES:Instruments,Workshops
END:VEVENT
END:VCALENDAR