BEGIN:VCALENDAR
VERSION:2.0
PRODID:-//Early Music Diary - ECPv6.15.20//NONSGML v1.0//EN
CALSCALE:GREGORIAN
METHOD:PUBLISH
X-ORIGINAL-URL:https://earlymusicdiary.org.uk
X-WR-CALDESC:Events for Early Music Diary
REFRESH-INTERVAL;VALUE=DURATION:PT1H
X-Robots-Tag:noindex
X-PUBLISHED-TTL:PT1H
BEGIN:VTIMEZONE
TZID:Europe/London
BEGIN:DAYLIGHT
TZOFFSETFROM:+0000
TZOFFSETTO:+0100
TZNAME:BST
DTSTART:20230326T010000
END:DAYLIGHT
BEGIN:STANDARD
TZOFFSETFROM:+0100
TZOFFSETTO:+0000
TZNAME:GMT
DTSTART:20231029T010000
END:STANDARD
BEGIN:DAYLIGHT
TZOFFSETFROM:+0000
TZOFFSETTO:+0100
TZNAME:BST
DTSTART:20240331T010000
END:DAYLIGHT
BEGIN:STANDARD
TZOFFSETFROM:+0100
TZOFFSETTO:+0000
TZNAME:GMT
DTSTART:20241027T010000
END:STANDARD
BEGIN:DAYLIGHT
TZOFFSETFROM:+0000
TZOFFSETTO:+0100
TZNAME:BST
DTSTART:20250330T010000
END:DAYLIGHT
BEGIN:STANDARD
TZOFFSETFROM:+0100
TZOFFSETTO:+0000
TZNAME:GMT
DTSTART:20251026T010000
END:STANDARD
END:VTIMEZONE
BEGIN:VEVENT
DTSTART;TZID=Europe/London:20240401T180000
DTEND;TZID=Europe/London:20240628T200000
DTSTAMP:20260423T171600
CREATED:20231229T200037Z
LAST-MODIFIED:20231130T083428Z
UID:3296-1711994400-1719604800@earlymusicdiary.org.uk
SUMMARY:Online Early Music Forum
DESCRIPTION:Every Monday and Friday\, In your own home\, online with Jamulus software (https://jamulus.io). \nOEMF began just before lockdown\, as the COVID19 pandemic was gathering momentum\, and has continued ever since. In addition to the usual equipment (your voice and your musical talent)\, you will need a computer with Jamulus software (https://jamulus.io). Turn off Wi-Fi (please read the excellent Jamulus documentation) and connect to the internet with an ethernet cable. Turn off speakers and Bluetooth and connect an audio interface with microphone and headphones. (There is a list of suggested equiment in the documentation.) Run Jamulus and ‘Connect’ to OEMF (Genre: Classical / Folk). Introduce yourself and join in. See you there!
URL:https://earlymusicdiary.org.uk/event/3296/
LOCATION:Online
CATEGORIES:Online,Singers,Workshops
END:VEVENT
BEGIN:VEVENT
DTSTART;VALUE=DATE:20240406
DTEND;VALUE=DATE:20240407
DTSTAMP:20260423T171600
CREATED:20240221T111105Z
LAST-MODIFIED:20240221T111930Z
UID:3685-1712361600-1712447999@earlymusicdiary.org.uk
SUMMARY:The Sixteen Choral Workshop: Oxford
DESCRIPTION:This workshop will explore Casulana: Morir non puo ‘I mio core\, and Lassus: Justorum animae.
URL:https://earlymusicdiary.org.uk/event/3685/
LOCATION:St John the Evangelist\, Oxford\, OX4 1EH
CATEGORIES:Singers,Workshops
END:VEVENT
BEGIN:VEVENT
DTSTART;VALUE=DATE:20240413
DTEND;VALUE=DATE:20240414
DTSTAMP:20260423T171600
CREATED:20231218T093849Z
LAST-MODIFIED:20231218T093904Z
UID:3399-1712966400-1713052799@earlymusicdiary.org.uk
SUMMARY:SWEMF Workshop: Plainchant with Emma Hornby
DESCRIPTION:Details TBA.
URL:https://earlymusicdiary.org.uk/event/3399/
LOCATION:St Monica’s Chapel\, Bristol\, BS9 3UN
CATEGORIES:Singers,Workshops
END:VEVENT
BEGIN:VEVENT
DTSTART;VALUE=DATE:20240413
DTEND;VALUE=DATE:20240414
DTSTAMP:20260423T171600
CREATED:20231207T163341Z
LAST-MODIFIED:20231229T150734Z
UID:3349-1712966400-1713052799@earlymusicdiary.org.uk
SUMMARY:TVEMF Workshop: Spanish & Portuguese Polyphony with Owen Rees
DESCRIPTION:Polyphony workshop for voices and instruments.
URL:https://earlymusicdiary.org.uk/event/3349/
LOCATION:Queen’s College Chapel\, Oxford\, OX1 4AW
CATEGORIES:Instruments,Singers,Workshops
END:VEVENT
BEGIN:VEVENT
DTSTART;VALUE=DATE:20240413
DTEND;VALUE=DATE:20240414
DTSTAMP:20260423T171600
CREATED:20240117T163056Z
LAST-MODIFIED:20240117T163056Z
UID:3541-1712966400-1713052799@earlymusicdiary.org.uk
SUMMARY:BMEMF Workshop for Orchestral Strings with Julia Bishop
DESCRIPTION:A workshop to give confident players\, with good sight-reading skills and on modern or baroque instruments\, the opportunity to hone their baroque playing technique.
URL:https://earlymusicdiary.org.uk/event/3541/
LOCATION:Stoke Bliss & Kyre Village Hall\, Worcs.\, WR15 8RS
CATEGORIES:Instruments,Workshops
END:VEVENT
BEGIN:VEVENT
DTSTART;VALUE=DATE:20240413
DTEND;VALUE=DATE:20240414
DTSTAMP:20260423T171600
CREATED:20240226T164619Z
LAST-MODIFIED:20240226T164619Z
UID:3718-1712966400-1713052799@earlymusicdiary.org.uk
SUMMARY:EMFS Choir Meeting: Missa l'homme armé
DESCRIPTION:Settings of sections of the Missa l’homme armé by Busnois\, Dufay\, Guerrero\, Morales\, and Palestrina. New singers are always welcome.
URL:https://earlymusicdiary.org.uk/event/3718/
LOCATION:St Cecilia’s Hall\, Edinburgh\, EH1 1LG
CATEGORIES:Singers,Workshops
END:VEVENT
BEGIN:VEVENT
DTSTART;VALUE=DATE:20240413
DTEND;VALUE=DATE:20240414
DTSTAMP:20260423T171600
CREATED:20240226T164650Z
LAST-MODIFIED:20240226T164650Z
UID:3720-1712966400-1713052799@earlymusicdiary.org.uk
SUMMARY:EMFS Viol Consort Café
DESCRIPTION:A sociable playing morning for viol players at all levels\, working in small groups with players of similar experience\, plus coaching from Susanna Pell.
URL:https://earlymusicdiary.org.uk/event/3720/
LOCATION:St Catherine’s Argyle Church\, Edinburgh\, EH9 1TY
CATEGORIES:Instruments,Workshops
END:VEVENT
BEGIN:VEVENT
DTSTART;VALUE=DATE:20240420
DTEND;VALUE=DATE:20240421
DTSTAMP:20260423T171600
CREATED:20230512T090312Z
LAST-MODIFIED:20240207T152954Z
UID:2642-1713571200-1713657599@earlymusicdiary.org.uk
SUMMARY:NWEMF Workshop with Gawain Glenton
DESCRIPTION:‘O What Evil is War’: War and Peace in 17th Century Germany\, for all voices and specified instruments (A=440). \nDetails and Application Form
URL:https://earlymusicdiary.org.uk/event/2642/
LOCATION:Fulwood Methodist Church\, Preston\, PR2 8EA
CATEGORIES:Instruments,Singers,Workshops
END:VEVENT
BEGIN:VEVENT
DTSTART;VALUE=DATE:20240420
DTEND;VALUE=DATE:20240421
DTSTAMP:20260423T171600
CREATED:20231120T100819Z
LAST-MODIFIED:20240307T171337Z
UID:3281-1713571200-1713657599@earlymusicdiary.org.uk
SUMMARY:SEMF Workshop: Gaudeamus with Peter Syrus
DESCRIPTION:A workshop for singers and players.  Peter Syrus will direct his new programme of borrowings in Spanish church music of the Golden Age.
URL:https://earlymusicdiary.org.uk/event/3281/
LOCATION:Scaynes Hill Village Hall\, Haywards Heath\, RH17 7PG
CATEGORIES:Instruments,Singers,Workshops
END:VEVENT
BEGIN:VEVENT
DTSTART;VALUE=DATE:20240420
DTEND;VALUE=DATE:20240421
DTSTAMP:20260423T171600
CREATED:20231207T163114Z
LAST-MODIFIED:20231207T163114Z
UID:3346-1713571200-1713657599@earlymusicdiary.org.uk
SUMMARY:MEMF Workshop: Madrigals with Giles Underwood
DESCRIPTION:Madrigals from the Triumphs of Oriana – a workshop for voices. Further details to follow.
URL:https://earlymusicdiary.org.uk/event/3346/
LOCATION:Coton Centre\, Tamworth\, B79 9AA
CATEGORIES:Singers,Workshops
END:VEVENT
BEGIN:VEVENT
DTSTART;VALUE=DATE:20240420
DTEND;VALUE=DATE:20240421
DTSTAMP:20260423T171600
CREATED:20240103T164749Z
LAST-MODIFIED:20240103T164749Z
UID:3455-1713571200-1713657599@earlymusicdiary.org.uk
SUMMARY:Bach Club - Cantatas BWV 38\, 39 & 40
DESCRIPTION:Choral workshop – choruses & chorales only.
URL:https://earlymusicdiary.org.uk/event/3455/
LOCATION:St Mary’s Church\, Battersea\, London\, SW11 3NA
CATEGORIES:Singers,Workshops
END:VEVENT
BEGIN:VEVENT
DTSTART;VALUE=DATE:20240420
DTEND;VALUE=DATE:20240421
DTSTAMP:20260423T171600
CREATED:20240116T162711Z
LAST-MODIFIED:20240116T162711Z
UID:3511-1713571200-1713657599@earlymusicdiary.org.uk
SUMMARY:South West Baroque Orchestra Rehearsal
DESCRIPTION:South West Baroque Orchestra is the regional period instrument orchestra in the South West.  Applicants are welcome to play for a rehearsal to try out the experience of baroque playing techniques.
URL:https://earlymusicdiary.org.uk/event/3511/
LOCATION:Culmstock Village Hall\, Devon\, EX15 3HQ
CATEGORIES:Instruments,Workshops
END:VEVENT
BEGIN:VEVENT
DTSTART;VALUE=DATE:20240420
DTEND;VALUE=DATE:20240421
DTSTAMP:20260423T171600
CREATED:20240207T155741Z
LAST-MODIFIED:20240207T155741Z
UID:3605-1713571200-1713657599@earlymusicdiary.org.uk
SUMMARY:EMFS Recorder Workshop with Palisander
DESCRIPTION:Recorder Workshop with Palisander Recorder Quartet\, for intermediate to advanced recorder players in tutti and smaller ensemble sessions.
URL:https://earlymusicdiary.org.uk/event/3605/
LOCATION:Dollar Academy\, Clackmannanshire\, FK14 7DU
CATEGORIES:Instruments,Workshops
END:VEVENT
BEGIN:VEVENT
DTSTART;VALUE=DATE:20240420
DTEND;VALUE=DATE:20240421
DTSTAMP:20260423T171600
CREATED:20240221T111327Z
LAST-MODIFIED:20240221T111327Z
UID:3686-1713571200-1713657599@earlymusicdiary.org.uk
SUMMARY:The Sixteen Choral Workshop: Peterborough
DESCRIPTION:This workshop will explore Casulana: Morir non puo ‘I mio core\, and Lassus: Justorum animae.
URL:https://earlymusicdiary.org.uk/event/3686/
LOCATION:Peterborough Cathedral\, PE1 1XS
CATEGORIES:Singers,Workshops
END:VEVENT
BEGIN:VEVENT
DTSTART;TZID=Europe/London:20240420T183000
DTEND;TZID=Europe/London:20240420T203000
DTSTAMP:20260423T171600
CREATED:20231006T110518Z
LAST-MODIFIED:20231006T110518Z
UID:3141-1713637800-1713645000@earlymusicdiary.org.uk
SUMMARY:London Motet & Madrigal Club Meeting
DESCRIPTION:A London-based music club who meet once a month to sing repertoire from the Elizabethan and Jacobean eras from Britain and Europe.
URL:https://earlymusicdiary.org.uk/event/3141/
LOCATION:St Michael’s\, Cornhill\, London\, EC3V 9DS
CATEGORIES:Singers,Workshops
END:VEVENT
BEGIN:VEVENT
DTSTART;TZID=Europe/London:20240425T150000
DTEND;TZID=Europe/London:20240426T150000
DTSTAMP:20260423T171600
CREATED:20231111T085039Z
LAST-MODIFIED:20231111T085235Z
UID:3216-1714057200-1714143600@earlymusicdiary.org.uk
SUMMARY:MESSIAH 24 Hour Drop-In
DESCRIPTION:Singers and instrumentalists are invited to a “MESSIAH 24 hour Drop-In”.  Starting at 3pm on the 25th with AND THE GLORY OF THE LORD and working through the choruses until the end. Then\, starting all over again\, and repeating for 24 hours. \nWith conductors including John Rutter\, Laurence Cummings\, Ben England\, Ralph Allwood\, James Day\, Richard Gowers\, Roger Durston and others to be arranged over the coming weeks.
URL:https://earlymusicdiary.org.uk/event/3216/
LOCATION:St George’s Hanover Square\, Mayfair\, London\, W1S 1FX
CATEGORIES:Instruments,Singers,Workshops
END:VEVENT
END:VCALENDAR