BEGIN:VCALENDAR
VERSION:2.0
PRODID:-//Early Music Diary - ECPv6.15.20//NONSGML v1.0//EN
CALSCALE:GREGORIAN
METHOD:PUBLISH
X-ORIGINAL-URL:https://earlymusicdiary.org.uk
X-WR-CALDESC:Events for Early Music Diary
REFRESH-INTERVAL;VALUE=DURATION:PT1H
X-Robots-Tag:noindex
X-PUBLISHED-TTL:PT1H
BEGIN:VTIMEZONE
TZID:Europe/London
BEGIN:DAYLIGHT
TZOFFSETFROM:+0000
TZOFFSETTO:+0100
TZNAME:BST
DTSTART:20230326T010000
END:DAYLIGHT
BEGIN:STANDARD
TZOFFSETFROM:+0100
TZOFFSETTO:+0000
TZNAME:GMT
DTSTART:20231029T010000
END:STANDARD
BEGIN:DAYLIGHT
TZOFFSETFROM:+0000
TZOFFSETTO:+0100
TZNAME:BST
DTSTART:20240331T010000
END:DAYLIGHT
BEGIN:STANDARD
TZOFFSETFROM:+0100
TZOFFSETTO:+0000
TZNAME:GMT
DTSTART:20241027T010000
END:STANDARD
BEGIN:DAYLIGHT
TZOFFSETFROM:+0000
TZOFFSETTO:+0100
TZNAME:BST
DTSTART:20250330T010000
END:DAYLIGHT
BEGIN:STANDARD
TZOFFSETFROM:+0100
TZOFFSETTO:+0000
TZNAME:GMT
DTSTART:20251026T010000
END:STANDARD
END:VTIMEZONE
BEGIN:VEVENT
DTSTART;TZID=Europe/London:20241004T180000
DTEND;TZID=Europe/London:20241230T200000
DTSTAMP:20260421T063353
CREATED:20240628T190037Z
LAST-MODIFIED:20231130T083517Z
UID:3298-1728064800-1735588800@earlymusicdiary.org.uk
SUMMARY:Online Early Music Forum
DESCRIPTION:Every Monday and Friday\, In your own home\, online with Jamulus software (https://jamulus.io). \nOEMF began just before lockdown\, as the COVID19 pandemic was gathering momentum\, and has continued ever since. In addition to the usual equipment (your voice and your musical talent)\, you will need a computer with Jamulus software (https://jamulus.io). Turn off Wi-Fi (please read the excellent Jamulus documentation) and connect to the internet with an ethernet cable. Turn off speakers and Bluetooth and connect an audio interface with microphone and headphones. (There is a list of suggested equiment in the documentation.) Run Jamulus and ‘Connect’ to OEMF (Genre: Classical / Folk). Introduce yourself and join in. See you there!
URL:https://earlymusicdiary.org.uk/event/3298/
LOCATION:Online
CATEGORIES:Online,Singers,Workshops
END:VEVENT
BEGIN:VEVENT
DTSTART;VALUE=DATE:20241009
DTEND;VALUE=DATE:20241121
DTSTAMP:20260421T063353
CREATED:20240915T104347Z
LAST-MODIFIED:20240915T104347Z
UID:4112-1728432000-1732147199@earlymusicdiary.org.uk
SUMMARY:Around Sound: The Evolution Of Classical Music
DESCRIPTION:Join award-winning educator Ben England for a six-part online lecture series\, exploring the history and development of Classical Music.
URL:https://earlymusicdiary.org.uk/event/4112/
LOCATION:Online
CATEGORIES:Online,Workshops
END:VEVENT
BEGIN:VEVENT
DTSTART;VALUE=DATE:20241102
DTEND;VALUE=DATE:20241103
DTSTAMP:20260421T063353
CREATED:20240409T105917Z
LAST-MODIFIED:20240409T105931Z
UID:3836-1730505600-1730591999@earlymusicdiary.org.uk
SUMMARY:Come & Sing Choruses from Handel's Messiah
DESCRIPTION:Come & Sing Choruses from Handel’s Messiah with Sheffield Music Makers.
URL:https://earlymusicdiary.org.uk/event/3836/
LOCATION:Bents Green Methodist Church\, Sheffield\, S11 7PU
CATEGORIES:Singers,Workshops
END:VEVENT
BEGIN:VEVENT
DTSTART;VALUE=DATE:20241102
DTEND;VALUE=DATE:20241103
DTSTAMP:20260421T063353
CREATED:20240813T084408Z
LAST-MODIFIED:20240813T084408Z
UID:3984-1730505600-1730591999@earlymusicdiary.org.uk
SUMMARY:EMFS Viol Consort Cafe
DESCRIPTION:Viol players of all standards are welcome\, players will work in small groups of similar standard and experience so everyone will be catered for!  Led by Philip Redfern and Vickie Hobson.
URL:https://earlymusicdiary.org.uk/event/3984/
LOCATION:St Catherine’s Argyle Church\, Edinburgh\, EH9 1TY
CATEGORIES:Instruments,Workshops
END:VEVENT
BEGIN:VEVENT
DTSTART;VALUE=DATE:20241109
DTEND;VALUE=DATE:20241110
DTSTAMP:20260421T063353
CREATED:20240311T112258Z
LAST-MODIFIED:20241001T110404Z
UID:3782-1731110400-1731196799@earlymusicdiary.org.uk
SUMMARY:SEMF Workshop: Lassus with Patrick Craig
DESCRIPTION:Double choir Lassus workshop\, for voices and instruments.
URL:https://earlymusicdiary.org.uk/event/3782/
LOCATION:Bosham Village Hall\, Chichester\, PO18 8QF
CATEGORIES:Instruments,Singers,Workshops
END:VEVENT
BEGIN:VEVENT
DTSTART;VALUE=DATE:20241109
DTEND;VALUE=DATE:20241110
DTSTAMP:20260421T063353
CREATED:20240715T132033Z
LAST-MODIFIED:20240715T132033Z
UID:3939-1731110400-1731196799@earlymusicdiary.org.uk
SUMMARY:EMFS Workshop: Pergolesi's Stabat Mater with Mhairi Lawson
DESCRIPTION:Pergolesi’s Stabat Mater – a workshop for sopranos and altos led by Mhairi Lawson and accompanied by Jan Waterfield.
URL:https://earlymusicdiary.org.uk/event/3939/
LOCATION:Inverleith St Serf’s Church\, Edinburgh\, EH5 3BD
CATEGORIES:Singers,Workshops
END:VEVENT
BEGIN:VEVENT
DTSTART;VALUE=DATE:20241109
DTEND;VALUE=DATE:20241110
DTSTAMP:20260421T063353
CREATED:20240715T132843Z
LAST-MODIFIED:20240816T084238Z
UID:3946-1731110400-1731196799@earlymusicdiary.org.uk
SUMMARY:NWEMF Workshop: Juan Gutiérrez de Padilla with Clive Walkley
DESCRIPTION:This workshop provides singers and instrumentalists with an opportunity to perform some of the exciting and rhythmically challenging music by the Spanish composer Juan Gutiérrez de Padilla. The main work to be studied is Padilla’s Missa sine nomine. \nBooking now open via the link below.
URL:https://earlymusicdiary.org.uk/event/3946/
LOCATION:Quaker Meeting House\, Lancaster\, LA1 1TX
CATEGORIES:Instruments,Singers,Workshops
END:VEVENT
BEGIN:VEVENT
DTSTART;VALUE=DATE:20241109
DTEND;VALUE=DATE:20241110
DTSTAMP:20260421T063353
CREATED:20240814T083828Z
LAST-MODIFIED:20240814T083920Z
UID:4010-1731110400-1731196799@earlymusicdiary.org.uk
SUMMARY:MEMF Workshop: Baroque Strings with Oliver Webber
DESCRIPTION:Here is the chance to play your Baroque stringed instruments (A=415) under the Tutorship of Oliver Webber. \nFurther details TBC.
URL:https://earlymusicdiary.org.uk/event/4010/
LOCATION:St. Nicholas Church\, Warwick\, CV34 4JD
CATEGORIES:Instruments,Workshops
END:VEVENT
BEGIN:VEVENT
DTSTART;TZID=Europe/London:20241109T183000
DTEND;TZID=Europe/London:20241109T203000
DTSTAMP:20260421T063353
CREATED:20240906T110720Z
LAST-MODIFIED:20240906T111035Z
UID:4059-1731177000-1731184200@earlymusicdiary.org.uk
SUMMARY:London Motet & Madrigal Club Meeting
DESCRIPTION:A London-based music club who meet once a month to sing repertoire from the Elizabethan and Jacobean eras from Britain and Europe.
URL:https://earlymusicdiary.org.uk/event/4059/
LOCATION:St Michael’s\, Cornhill\, London\, EC3V 9DS
CATEGORIES:Singers,Workshops
END:VEVENT
BEGIN:VEVENT
DTSTART;VALUE=DATE:20241113
DTEND;VALUE=DATE:20241117
DTSTAMP:20260421T063353
CREATED:20240213T150433Z
LAST-MODIFIED:20240213T150433Z
UID:3642-1731456000-1731801599@earlymusicdiary.org.uk
SUMMARY:London International Festival of Early Music
DESCRIPTION:
URL:https://earlymusicdiary.org.uk/event/3642/
LOCATION:Blackheath Concert Halls\, 23 Lee Road\, London\, SE3 9RQ
CATEGORIES:Festivals,Instruments,Singers,Talks,Workshops
END:VEVENT
BEGIN:VEVENT
DTSTART;VALUE=DATE:20241114
DTEND;VALUE=DATE:20241115
DTSTAMP:20260421T063353
CREATED:20240915T103606Z
LAST-MODIFIED:20240915T104041Z
UID:4110-1731542400-1731628799@earlymusicdiary.org.uk
SUMMARY:Renaissance Facsimile for Recorder Players with Pam Smith
DESCRIPTION:Join Pam Smith on Zoom for a day playing beautiful music from its original notation.  The repertoire will be taken from the Choirbook for Philip the Fair and Juana of Castile c.1504-6.
URL:https://earlymusicdiary.org.uk/event/4110/
LOCATION:Online
CATEGORIES:Instruments,Online,Workshops
ORGANIZER;CN="Recorders For All":MAILTO:jan.epps57@gmail.com
END:VEVENT
BEGIN:VEVENT
DTSTART;VALUE=DATE:20241116
DTEND;VALUE=DATE:20241117
DTSTAMP:20260421T063353
CREATED:20240122T142859Z
LAST-MODIFIED:20240122T144300Z
UID:3516-1731715200-1731801599@earlymusicdiary.org.uk
SUMMARY:South West Baroque Orchestra Rehearsal
DESCRIPTION:South West Baroque Orchestra is the regional period instrument orchestra in the South West.  Applicants are welcome to play for a rehearsal to try out the experience of baroque playing techniques.
URL:https://earlymusicdiary.org.uk/event/3516/
LOCATION:Culmstock Village Hall\, Devon\, EX15 3HQ
CATEGORIES:Instruments,Workshops
END:VEVENT
BEGIN:VEVENT
DTSTART;VALUE=DATE:20241116
DTEND;VALUE=DATE:20241117
DTSTAMP:20260421T063353
CREATED:20240715T132952Z
LAST-MODIFIED:20240816T084047Z
UID:3948-1731715200-1731801599@earlymusicdiary.org.uk
SUMMARY:NWEMF Workshop: Recorders with Polyphonica
DESCRIPTION:Grace Barton with Polyphonica Recorder Trio will present a workshop for recorder players exploring how to play vocal and instrumental music of Gabrieli and his European contemporaries. \nBooking now open via the link below.
URL:https://earlymusicdiary.org.uk/event/3948/
LOCATION:All Saints\, Chester\, CH2 3HZ
CATEGORIES:Instruments,Workshops
END:VEVENT
BEGIN:VEVENT
DTSTART;VALUE=DATE:20241116
DTEND;VALUE=DATE:20241117
DTSTAMP:20260421T063353
CREATED:20240814T082024Z
LAST-MODIFIED:20240814T082024Z
UID:3996-1731715200-1731801599@earlymusicdiary.org.uk
SUMMARY:NEEMF Workshop: The Borgias with Caius Lee
DESCRIPTION:The Borgias: from sinners to saints. \nJoin Caius Lee\, Director of College Music at Worcester College\, Oxford\, and Director of the Florence International Singing Programme\, for a day exploring the composers associated with this notorious dynasty.
URL:https://earlymusicdiary.org.uk/event/3996/
LOCATION:Summerhill Bowling Club\, Newcastle upon Tyne\, NE4 6EH
CATEGORIES:Singers,Workshops
END:VEVENT
BEGIN:VEVENT
DTSTART;VALUE=DATE:20241116
DTEND;VALUE=DATE:20241117
DTSTAMP:20260421T063353
CREATED:20240923T142017Z
LAST-MODIFIED:20240923T142017Z
UID:4137-1731715200-1731801599@earlymusicdiary.org.uk
SUMMARY:Come & Sing with Stile Antico
DESCRIPTION:During this event\, you will enjoy exploring sumptuous Sevillian motets written in honour of the Virgin Mary\, sacred works written by Mexican composers\, and even music in the Nahuatl language of the Aztec Empire.
URL:https://earlymusicdiary.org.uk/event/4137/
LOCATION:St Clement Danes\, London\, WC2R 1DH
CATEGORIES:Singers,Workshops
END:VEVENT
BEGIN:VEVENT
DTSTART;VALUE=DATE:20241116
DTEND;VALUE=DATE:20241117
DTSTAMP:20260421T063353
CREATED:20241022T110419Z
LAST-MODIFIED:20241022T110419Z
UID:4189-1731715200-1731801599@earlymusicdiary.org.uk
SUMMARY:EEMF Workshop: Convent Music with Laurie Stras
DESCRIPTION:Music and Ritual in a Sixteenth Century Florentine Convent with Laurie Stras. \nA workshop for upper voices with keyboard and/or viol or harp accompaniment.
URL:https://earlymusicdiary.org.uk/event/4189/
LOCATION:Swaffham Prior Village Hall\, Cambridgeshire\, CB25 0LD
CATEGORIES:Instruments,Singers,Workshops
END:VEVENT
BEGIN:VEVENT
DTSTART;VALUE=DATE:20241123
DTEND;VALUE=DATE:20241124
DTSTAMP:20260421T063353
CREATED:20240311T110728Z
LAST-MODIFIED:20240914T110530Z
UID:3769-1732320000-1732406399@earlymusicdiary.org.uk
SUMMARY:SWEMF Workshop: Robert Parsons with David Allinson
DESCRIPTION:The reputation of Robert Parsons (c.1535–72)\, today rests almost entirely on the honeyed beauty of his Ave Maria\, with its perfect Amen. But his other sacred music is of such high quality\, and so little known\, that it will be a pleasure to explore it.
URL:https://earlymusicdiary.org.uk/event/3769/
LOCATION:St Peter’s Church\, Leckhampton\, Cheltenham\, GL53 0QJ
CATEGORIES:Singers,Workshops
END:VEVENT
BEGIN:VEVENT
DTSTART;VALUE=DATE:20241123
DTEND;VALUE=DATE:20241124
DTSTAMP:20260421T063353
CREATED:20240523T082403Z
LAST-MODIFIED:20241002T104922Z
UID:3890-1732320000-1732406399@earlymusicdiary.org.uk
SUMMARY:TVEMF Workshop for Singers with Angus Smith
DESCRIPTION:Music composed in response to loss 1454-1612\, for singers.
URL:https://earlymusicdiary.org.uk/event/3890/
LOCATION:St Mary’s\, Rickmansworth\, WD3 1JB
CATEGORIES:Singers,Workshops
END:VEVENT
BEGIN:VEVENT
DTSTART;VALUE=DATE:20241124
DTEND;VALUE=DATE:20241125
DTSTAMP:20260421T063353
CREATED:20240409T105505Z
LAST-MODIFIED:20240409T105505Z
UID:3834-1732406400-1732492799@earlymusicdiary.org.uk
SUMMARY:Nidderdale Messiah 2024
DESCRIPTION:A once a year treat for singers to come together to perform Handel’s amazing music & raise money for a local charity. \nThis year’s event will be conducted by Anthony Gray.
URL:https://earlymusicdiary.org.uk/event/3834/
LOCATION:Holy Trinity\, Knaresborough\, HG5 8BQ
CATEGORIES:Singers,Workshops
END:VEVENT
BEGIN:VEVENT
DTSTART;VALUE=DATE:20241130
DTEND;VALUE=DATE:20241201
DTSTAMP:20260421T063353
CREATED:20240126T152924Z
LAST-MODIFIED:20241001T091831Z
UID:3590-1732924800-1733011199@earlymusicdiary.org.uk
SUMMARY:BMEMF Workshop: Gibbons & Hooper with Katy Silverman
DESCRIPTION:Repertoire: Gibbons\, Hooper and contemporaries\, for singers.
URL:https://earlymusicdiary.org.uk/event/3590/
LOCATION:The Bridges Centre\, Monmouth\, NP25 5AS
CATEGORIES:Singers,Workshops
END:VEVENT
END:VCALENDAR