BEGIN:VCALENDAR
VERSION:2.0
PRODID:-//Early Music Diary - ECPv6.15.20//NONSGML v1.0//EN
CALSCALE:GREGORIAN
METHOD:PUBLISH
X-ORIGINAL-URL:https://earlymusicdiary.org.uk
X-WR-CALDESC:Events for Early Music Diary
REFRESH-INTERVAL;VALUE=DURATION:PT1H
X-Robots-Tag:noindex
X-PUBLISHED-TTL:PT1H
BEGIN:VTIMEZONE
TZID:Europe/London
BEGIN:DAYLIGHT
TZOFFSETFROM:+0000
TZOFFSETTO:+0100
TZNAME:BST
DTSTART:20240331T010000
END:DAYLIGHT
BEGIN:STANDARD
TZOFFSETFROM:+0100
TZOFFSETTO:+0000
TZNAME:GMT
DTSTART:20241027T010000
END:STANDARD
BEGIN:DAYLIGHT
TZOFFSETFROM:+0000
TZOFFSETTO:+0100
TZNAME:BST
DTSTART:20250330T010000
END:DAYLIGHT
BEGIN:STANDARD
TZOFFSETFROM:+0100
TZOFFSETTO:+0000
TZNAME:GMT
DTSTART:20251026T010000
END:STANDARD
BEGIN:DAYLIGHT
TZOFFSETFROM:+0000
TZOFFSETTO:+0100
TZNAME:BST
DTSTART:20260329T010000
END:DAYLIGHT
BEGIN:STANDARD
TZOFFSETFROM:+0100
TZOFFSETTO:+0000
TZNAME:GMT
DTSTART:20261025T010000
END:STANDARD
END:VTIMEZONE
BEGIN:VEVENT
DTSTART;VALUE=DATE:20250301
DTEND;VALUE=DATE:20250302
DTSTAMP:20260416T154528
CREATED:20240521T080423Z
LAST-MODIFIED:20250109T143808Z
UID:3879-1740787200-1740873599@earlymusicdiary.org.uk
SUMMARY:BMEMF Workshop for Singers: Palestrina with David Allinson
DESCRIPTION:Join David Allinson for a day exploring Palestrina’s music\, in a programme which moves from the majestic to the intimate\, from the contemplative to the joyful\, and which avoids well-worn and obvious pieces.
URL:https://earlymusicdiary.org.uk/event/3879/
LOCATION:The Trinity Centre\, Shrewsbury\, SY3 9HF
CATEGORIES:Singers,Workshops
END:VEVENT
BEGIN:VEVENT
DTSTART;VALUE=DATE:20250301
DTEND;VALUE=DATE:20250302
DTSTAMP:20260416T154528
CREATED:20241203T120831Z
LAST-MODIFIED:20250129T153420Z
UID:4313-1740787200-1740873599@earlymusicdiary.org.uk
SUMMARY:EEMF Workshop: Celano with George Parris
DESCRIPTION:Messa La Luna Piena (The ‘Full Moon’ Mass) in 8 parts by Giuseppe Corsi da Celano.  A workshop for singers and instruments with George Parris.
URL:https://earlymusicdiary.org.uk/event/4313/
LOCATION:Castle Street Methodist Church\, Cambridge\, CB3 0AH
CATEGORIES:Singers,Workshops
END:VEVENT
BEGIN:VEVENT
DTSTART;VALUE=DATE:20250308
DTEND;VALUE=DATE:20250309
DTSTAMP:20260416T154528
CREATED:20250128T152853Z
LAST-MODIFIED:20250128T160120Z
UID:4454-1741392000-1741478399@earlymusicdiary.org.uk
SUMMARY:The Renaissance Singers - Josquin Workshop
DESCRIPTION:This practical workshop\, led by Tim Braithwaite\, explores how Josquin and his contemporary singer-composers actually visualised their music and the compositional techniques they employed in a musical language so very different from our own.
URL:https://earlymusicdiary.org.uk/event/4454/
LOCATION:St Stephen’s\, Rochester Row\, London\, SW1P 1LE
CATEGORIES:Singers,Workshops
END:VEVENT
BEGIN:VEVENT
DTSTART;VALUE=DATE:20250315
DTEND;VALUE=DATE:20250316
DTSTAMP:20260416T154528
CREATED:20241002T085551Z
LAST-MODIFIED:20241118T095647Z
UID:4172-1741996800-1742083199@earlymusicdiary.org.uk
SUMMARY:NEEMF Workshop: Henry VIII Manuscript with Richard de Winter
DESCRIPTION:Workshop for singers\, led by Richard de Winter – songs from the Henry VIII manuscript.
URL:https://earlymusicdiary.org.uk/event/4172/
LOCATION:Guiseley Methodist Church\, Leeds\, LS20 9EP
CATEGORIES:Singers,Workshops
END:VEVENT
BEGIN:VEVENT
DTSTART;VALUE=DATE:20250315
DTEND;VALUE=DATE:20250316
DTSTAMP:20260416T154528
CREATED:20241203T115824Z
LAST-MODIFIED:20250129T152900Z
UID:4310-1741996800-1742083199@earlymusicdiary.org.uk
SUMMARY:MEMF Workshop with David Allinson
DESCRIPTION:Hei Mihi\, Domine – Iberian Penitential Motets.  A workshop for voices with David Allinson.
URL:https://earlymusicdiary.org.uk/event/4310/
LOCATION:Collegiate Church of Saint Mary\, Stafford\, Saint Marys Place\, Stafford\, ST16 2AP
CATEGORIES:Singers,Workshops
END:VEVENT
BEGIN:VEVENT
DTSTART;VALUE=DATE:20250315
DTEND;VALUE=DATE:20250316
DTSTAMP:20260416T154528
CREATED:20250124T151431Z
LAST-MODIFIED:20250124T151431Z
UID:4422-1741996800-1742083199@earlymusicdiary.org.uk
SUMMARY:Platinum Consort Bach Club Workshop
DESCRIPTION:Whether you’re new to singing Bach or a seasoned Bach Club stalwart\, these workshops offer a chance to deepen your appreciation of his genius. Directed by Scott Inglis-Kidger.
URL:https://earlymusicdiary.org.uk/event/4422/
LOCATION:St Mary’s Church\, Battersea\, London\, SW11 3NA
CATEGORIES:Singers,Workshops
END:VEVENT
BEGIN:VEVENT
DTSTART;VALUE=DATE:20250316
DTEND;VALUE=DATE:20250317
DTSTAMP:20260416T154528
CREATED:20240624T080256Z
LAST-MODIFIED:20250107T144125Z
UID:3924-1742083200-1742169599@earlymusicdiary.org.uk
SUMMARY:TVEMF Workshop: Stadlmayr with Gawain Glenton
DESCRIPTION:Johann Stadlmayr’s polychoral music for the Habsburg Courts – a workshop for singers and renaissance instruments with Gawain Glenton. \n  \n 
URL:https://earlymusicdiary.org.uk/event/3924/
LOCATION:Chorleywood War Memorial Hall\, WD3 5LN
CATEGORIES:Instruments,Singers,Workshops
END:VEVENT
BEGIN:VEVENT
DTSTART;VALUE=DATE:20250322
DTEND;VALUE=DATE:20250323
DTSTAMP:20260416T154528
CREATED:20241022T112300Z
LAST-MODIFIED:20250107T143339Z
UID:4195-1742601600-1742687999@earlymusicdiary.org.uk
SUMMARY:SWEMF Workshop: Renaissance Winds with Tim Bayley
DESCRIPTION:The aim of the day is to enjoy the rich and varied sonorities of a Renaissance Wind Band.  Applications welcome from players of Renaissance wind instruments – shawms\, sackbutts\, cornetts\, curtals\, crumhorns\, recorders\, etc.
URL:https://earlymusicdiary.org.uk/event/4195/
LOCATION:Christ Church\, Cheltenham\, GL50 2JH
CATEGORIES:Instruments,Workshops
END:VEVENT
BEGIN:VEVENT
DTSTART;VALUE=DATE:20250322
DTEND;VALUE=DATE:20250323
DTSTAMP:20260416T154528
CREATED:20241028T101022Z
LAST-MODIFIED:20250129T150230Z
UID:4201-1742601600-1742687999@earlymusicdiary.org.uk
SUMMARY:NWEMF Workshop with Philip Thorby
DESCRIPTION:Workshop on Missa Diligam Te Domine a 12 by Giovanni Valentini\, for voices and instruments\, led by Philip Thorby.
URL:https://earlymusicdiary.org.uk/event/4201/
LOCATION:Didsbury Baptist Church\, Beaver Rd\, Manchester\, M20 6SX
CATEGORIES:Instruments,Singers,Workshops
END:VEVENT
BEGIN:VEVENT
DTSTART;TZID=Europe/London:20250322T183000
DTEND;TZID=Europe/London:20250322T203000
DTSTAMP:20260416T154528
CREATED:20240906T110720Z
LAST-MODIFIED:20240906T111208Z
UID:4063-1742668200-1742675400@earlymusicdiary.org.uk
SUMMARY:London Motet & Madrigal Club Meeting
DESCRIPTION:A London-based music club who meet once a month to sing repertoire from the Elizabethan and Jacobean eras from Britain and Europe.
URL:https://earlymusicdiary.org.uk/event/4063/
LOCATION:St Michael’s\, Cornhill\, London\, EC3V 9DS
CATEGORIES:Singers,Workshops
END:VEVENT
BEGIN:VEVENT
DTSTART;VALUE=DATE:20250328
DTEND;VALUE=DATE:20250331
DTSTAMP:20260416T154528
CREATED:20250124T151719Z
LAST-MODIFIED:20250124T151719Z
UID:4425-1743120000-1743379199@earlymusicdiary.org.uk
SUMMARY:The Earth Quakes Chamber Weekender
DESCRIPTION:Join the Platinum Consort to enjoy both the soloistic and consort aspects of six of the finest anthems by William Byrd.  Directed by Scott Inglis-Kidger.
URL:https://earlymusicdiary.org.uk/event/4425/
LOCATION:St Barnabas\, Pimlico\, London\, SW1W 8PF
CATEGORIES:Singers,Workshops
END:VEVENT
BEGIN:VEVENT
DTSTART;VALUE=DATE:20250329
DTEND;VALUE=DATE:20250330
DTSTAMP:20260416T154528
CREATED:20241002T104052Z
LAST-MODIFIED:20241002T104052Z
UID:4180-1743206400-1743292799@earlymusicdiary.org.uk
SUMMARY:SEMF Workshop: Palestrina with David Allinson
DESCRIPTION:Palestrina workshop for voices and instruments\, directed by David Allinson.  Further details TBC.
URL:https://earlymusicdiary.org.uk/event/4180/
LOCATION:Bosham Village Hall\, Chichester\, PO18 8QF
CATEGORIES:Instruments,Singers,Workshops
END:VEVENT
BEGIN:VEVENT
DTSTART;VALUE=DATE:20250329
DTEND;VALUE=DATE:20250331
DTSTAMP:20260416T154528
CREATED:20250122T144733Z
LAST-MODIFIED:20250122T144733Z
UID:4409-1743206400-1743379199@earlymusicdiary.org.uk
SUMMARY:Baroque Dance Weekend Workshop
DESCRIPTION:This workshop will focus on Baroque Dance Technique using either extracts from a variety of extant dances or dances choreographed\, in the Baroque Style\, by Philippa Waite.
URL:https://earlymusicdiary.org.uk/event/4409/
LOCATION:Claverton Down Community Hall\, Bath\, BA2 6DT
CATEGORIES:Workshops
END:VEVENT
END:VCALENDAR