BEGIN:VCALENDAR
VERSION:2.0
PRODID:-//Early Music Diary - ECPv6.15.20//NONSGML v1.0//EN
CALSCALE:GREGORIAN
METHOD:PUBLISH
X-ORIGINAL-URL:https://earlymusicdiary.org.uk
X-WR-CALDESC:Events for Early Music Diary
REFRESH-INTERVAL;VALUE=DURATION:PT1H
X-Robots-Tag:noindex
X-PUBLISHED-TTL:PT1H
BEGIN:VTIMEZONE
TZID:Europe/London
BEGIN:DAYLIGHT
TZOFFSETFROM:+0000
TZOFFSETTO:+0100
TZNAME:BST
DTSTART:20240331T010000
END:DAYLIGHT
BEGIN:STANDARD
TZOFFSETFROM:+0100
TZOFFSETTO:+0000
TZNAME:GMT
DTSTART:20241027T010000
END:STANDARD
BEGIN:DAYLIGHT
TZOFFSETFROM:+0000
TZOFFSETTO:+0100
TZNAME:BST
DTSTART:20250330T010000
END:DAYLIGHT
BEGIN:STANDARD
TZOFFSETFROM:+0100
TZOFFSETTO:+0000
TZNAME:GMT
DTSTART:20251026T010000
END:STANDARD
BEGIN:DAYLIGHT
TZOFFSETFROM:+0000
TZOFFSETTO:+0100
TZNAME:BST
DTSTART:20260329T010000
END:DAYLIGHT
BEGIN:STANDARD
TZOFFSETFROM:+0100
TZOFFSETTO:+0000
TZNAME:GMT
DTSTART:20261025T010000
END:STANDARD
END:VTIMEZONE
BEGIN:VEVENT
DTSTART;VALUE=DATE:20250405
DTEND;VALUE=DATE:20250406
DTSTAMP:20260420T233651
CREATED:20240521T080734Z
LAST-MODIFIED:20241001T092043Z
UID:3883-1743811200-1743897599@earlymusicdiary.org.uk
SUMMARY:BMEMF Workshop for Singers: Lasso with James Weeks
DESCRIPTION:Workshop for singers with James Weeks.  Repertoire: Sacred and secular works by Orlando di Lasso.
URL:https://earlymusicdiary.org.uk/event/3883/
LOCATION:St Andrew’s\, Presteigne\, LD8 2NL
CATEGORIES:Singers,Workshops
END:VEVENT
BEGIN:VEVENT
DTSTART;VALUE=DATE:20250405
DTEND;VALUE=DATE:20250406
DTSTAMP:20260420T233651
CREATED:20241028T101052Z
LAST-MODIFIED:20250129T150545Z
UID:4202-1743811200-1743897599@earlymusicdiary.org.uk
SUMMARY:NWEMF Workshop with Christopher Roberts
DESCRIPTION:Music for the Chapel Royal\, for voices\, strings\, and continuo\, led by Christopher Roberts. \nNWEMF AGM over lunch.
URL:https://earlymusicdiary.org.uk/event/4202/
LOCATION:Bolton Parish Church Hall\, BL1 1PS
CATEGORIES:Instruments,Singers,Workshops
END:VEVENT
BEGIN:VEVENT
DTSTART;VALUE=DATE:20250405
DTEND;VALUE=DATE:20250406
DTSTAMP:20260420T233651
CREATED:20250203T121701Z
LAST-MODIFIED:20250203T121701Z
UID:4506-1743811200-1743897599@earlymusicdiary.org.uk
SUMMARY:The Sixteen Choral Workshop - Blackburn
DESCRIPTION:Explore a variety of music inspired by The Sixteen’s own Choral Pilgrimage.
URL:https://earlymusicdiary.org.uk/event/4506/
LOCATION:Blackburn Cathedral\, BB1 5AA
CATEGORIES:Singers,Workshops
END:VEVENT
BEGIN:VEVENT
DTSTART;VALUE=DATE:20250412
DTEND;VALUE=DATE:20250413
DTSTAMP:20260420T233651
CREATED:20241118T100056Z
LAST-MODIFIED:20250227T181043Z
UID:4268-1744416000-1744502399@earlymusicdiary.org.uk
SUMMARY:NEEMF Workshop with Robert Hollingworth
DESCRIPTION:A joint NEEMF/ABCD workshop with Robert Hollingworth in Newcastle\, exploring familiar and unknown music to encircle Palm Sunday\, including Victoria’s Tenebrae. \nFurther details on the NEEMF website \nFurther details on the ABCD website
URL:https://earlymusicdiary.org.uk/event/4268/
LOCATION:St James URC\, Newcastle\, NE1 8JF
CATEGORIES:Singers,Workshops
END:VEVENT
BEGIN:VEVENT
DTSTART;VALUE=DATE:20250412
DTEND;VALUE=DATE:20250413
DTSTAMP:20260420T233651
CREATED:20250107T141445Z
LAST-MODIFIED:20250107T141727Z
UID:4353-1744416000-1744502399@earlymusicdiary.org.uk
SUMMARY:MEMF Workshop with George Parris
DESCRIPTION:George Parris will tutor this workshop\, for voices and instruments\, on Lamentations by Juan Gutiérrez de Padilla & López Capillas.
URL:https://earlymusicdiary.org.uk/event/4353/
LOCATION:St Faith and St Laurence Church\, Harborne\, Birmingham\, B17 8RD
CATEGORIES:Instruments,Singers,Workshops
END:VEVENT
BEGIN:VEVENT
DTSTART;VALUE=DATE:20250412
DTEND;VALUE=DATE:20250413
DTSTAMP:20260420T233652
CREATED:20250124T152123Z
LAST-MODIFIED:20250124T152337Z
UID:4427-1744416000-1744502399@earlymusicdiary.org.uk
SUMMARY:Round Byrd Choral Evensong
DESCRIPTION:Evensong for the eve of Palm Sunday (Hosannah to the son of David – Gibbons / Wood in F). \nRound Byrd is an occasional choir focussing on the “performance” of English Cathedral Music from the 16th and 17th Centuries in a liturgical context.  New singers are always welcome to come to a single event or to more.
URL:https://earlymusicdiary.org.uk/event/4427/
LOCATION:St Mary’s\, Ross-on-Wye\, Herefordshire\, HR9 5HN
CATEGORIES:Singers,Workshops
END:VEVENT
BEGIN:VEVENT
DTSTART;TZID=Europe/London:20250412T183000
DTEND;TZID=Europe/London:20250412T203000
DTSTAMP:20260420T233652
CREATED:20240906T110720Z
LAST-MODIFIED:20240906T111154Z
UID:4064-1744482600-1744489800@earlymusicdiary.org.uk
SUMMARY:London Motet & Madrigal Club Meeting
DESCRIPTION:A London-based music club who meet once a month to sing repertoire from the Elizabethan and Jacobean eras from Britain and Europe.
URL:https://earlymusicdiary.org.uk/event/4064/
LOCATION:St Michael’s\, Cornhill\, London\, EC3V 9DS
CATEGORIES:Singers,Workshops
END:VEVENT
BEGIN:VEVENT
DTSTART;VALUE=DATE:20250413
DTEND;VALUE=DATE:20250414
DTSTAMP:20260420T233652
CREATED:20250306T094220Z
LAST-MODIFIED:20250306T094220Z
UID:4571-1744502400-1744588799@earlymusicdiary.org.uk
SUMMARY:Come & Play with London Handel Festival
DESCRIPTION:This year LHF is presenting the festival’s first ever Come and Play\, a full-day workshop led by Steven Devine and Kinga Ujszászi for those interested in period instruments and historically informed performance techniques.
URL:https://earlymusicdiary.org.uk/event/4571/
LOCATION:Royal Academy of Music\, London\, NW1 5HT
CATEGORIES:Instruments,Workshops
END:VEVENT
BEGIN:VEVENT
DTSTART;VALUE=DATE:20250418
DTEND;VALUE=DATE:20250419
DTSTAMP:20260420T233652
CREATED:20241105T121355Z
LAST-MODIFIED:20241105T121355Z
UID:4243-1744934400-1745020799@earlymusicdiary.org.uk
SUMMARY:Come & Sing: Vivaldi and Handel
DESCRIPTION:Ring in the Easter Weekend by joining with fellow singers to form the chorus of Vivaldi’s Gloria and Handel’s Coronation Anthems.
URL:https://earlymusicdiary.org.uk/event/4243/
LOCATION:Holy Sepulchre\, London\, EC1A 2FD
CATEGORIES:Singers,Workshops
END:VEVENT
BEGIN:VEVENT
DTSTART;VALUE=DATE:20250423
DTEND;VALUE=DATE:20250424
DTSTAMP:20260420T233652
CREATED:20250210T171906Z
LAST-MODIFIED:20250210T171906Z
UID:4540-1745366400-1745452799@earlymusicdiary.org.uk
SUMMARY:A Day of Medieval Music and Dance
DESCRIPTION:Suitable for musicians and dancers who would like to learn Medieval music and dance.
URL:https://earlymusicdiary.org.uk/event/4540/
LOCATION:Higham Hall\, Bassenthwaite Lake\, Cockermouth\, Cumbria\, CA13 9SH
CATEGORIES:Instruments,Workshops
END:VEVENT
BEGIN:VEVENT
DTSTART;VALUE=DATE:20250426
DTEND;VALUE=DATE:20250427
DTSTAMP:20260420T233652
CREATED:20250203T121724Z
LAST-MODIFIED:20250203T121724Z
UID:4507-1745625600-1745711999@earlymusicdiary.org.uk
SUMMARY:The Sixteen Choral Workshop - Rochester
DESCRIPTION:Explore a variety of music inspired by The Sixteen’s own Choral Pilgrimage.
URL:https://earlymusicdiary.org.uk/event/4507/
LOCATION:St Margaret’s\, Rochester\, Kent\, ME1 1UF
CATEGORIES:Singers,Workshops
END:VEVENT
BEGIN:VEVENT
DTSTART;VALUE=DATE:20250427
DTEND;VALUE=DATE:20250503
DTSTAMP:20260420T233652
CREATED:20240906T135459Z
LAST-MODIFIED:20241213T100923Z
UID:4096-1745712000-1746230399@earlymusicdiary.org.uk
SUMMARY:Tenby: A Portuguese Requiem 2025
DESCRIPTION:A course directed by Patrick Craig in the historic Pembrokeshire port\, centred on the six-part Requiem of the Portuguese composer Manuel Cardoso (c. 1566-1650)\, interspersed with funerary motets by other Portuguese composers
URL:https://earlymusicdiary.org.uk/event/4096/
LOCATION:St Mary’s Church\, Tenby\, Pembrokeshire\, SA70 8AP
CATEGORIES:Courses,Singers,Workshops
END:VEVENT
END:VCALENDAR