BEGIN:VCALENDAR
VERSION:2.0
PRODID:-//Early Music Diary - ECPv6.15.20//NONSGML v1.0//EN
CALSCALE:GREGORIAN
METHOD:PUBLISH
X-ORIGINAL-URL:https://earlymusicdiary.org.uk
X-WR-CALDESC:Events for Early Music Diary
REFRESH-INTERVAL;VALUE=DURATION:PT1H
X-Robots-Tag:noindex
X-PUBLISHED-TTL:PT1H
BEGIN:VTIMEZONE
TZID:Europe/London
BEGIN:DAYLIGHT
TZOFFSETFROM:+0000
TZOFFSETTO:+0100
TZNAME:BST
DTSTART:20240331T010000
END:DAYLIGHT
BEGIN:STANDARD
TZOFFSETFROM:+0100
TZOFFSETTO:+0000
TZNAME:GMT
DTSTART:20241027T010000
END:STANDARD
BEGIN:DAYLIGHT
TZOFFSETFROM:+0000
TZOFFSETTO:+0100
TZNAME:BST
DTSTART:20250330T010000
END:DAYLIGHT
BEGIN:STANDARD
TZOFFSETFROM:+0100
TZOFFSETTO:+0000
TZNAME:GMT
DTSTART:20251026T010000
END:STANDARD
BEGIN:DAYLIGHT
TZOFFSETFROM:+0000
TZOFFSETTO:+0100
TZNAME:BST
DTSTART:20260329T010000
END:DAYLIGHT
BEGIN:STANDARD
TZOFFSETFROM:+0100
TZOFFSETTO:+0000
TZNAME:GMT
DTSTART:20261025T010000
END:STANDARD
END:VTIMEZONE
BEGIN:VEVENT
DTSTART;VALUE=DATE:20250607
DTEND;VALUE=DATE:20250608
DTSTAMP:20260420T204026
CREATED:20241118T101242Z
LAST-MODIFIED:20250428T142326Z
UID:4273-1749254400-1749340799@earlymusicdiary.org.uk
SUMMARY:NEEMF Workshop: Escobar with Richard MacKenzie
DESCRIPTION:Misa en Granada\, sacred and secular works by Pedro de Escobar\, led by Richard MacKenzie.
URL:https://earlymusicdiary.org.uk/event/4273/
LOCATION:Calcutt & Forest Moor Village Hall\, HG5 8JF
CATEGORIES:Instruments,Singers,Workshops
END:VEVENT
BEGIN:VEVENT
DTSTART;VALUE=DATE:20250607
DTEND;VALUE=DATE:20250608
DTSTAMP:20260420T204026
CREATED:20250124T152625Z
LAST-MODIFIED:20250124T152650Z
UID:4431-1749254400-1749340799@earlymusicdiary.org.uk
SUMMARY:Round Byrd - Gibbons’ 400th Anniversary
DESCRIPTION:Orlando Gibbons’ 400th anniversary (Second Service / See\, see the Word is incarnate). \nRound Byrd is an occasional choir focussing on the “performance” of English Cathedral Music from the 16th and 17th Centuries in a liturgical context.  New singers are always welcome to come to a single event or to more.
URL:https://earlymusicdiary.org.uk/event/4431/
LOCATION:St Mary’s\, Ross-on-Wye\, Herefordshire\, HR9 5HN
CATEGORIES:Singers,Workshops
END:VEVENT
BEGIN:VEVENT
DTSTART;VALUE=DATE:20250607
DTEND;VALUE=DATE:20250608
DTSTAMP:20260420T204026
CREATED:20250203T122134Z
LAST-MODIFIED:20250528T074202Z
UID:4515-1749254400-1749340799@earlymusicdiary.org.uk
SUMMARY:SWEMF Workshop: Guerrero with Huw Morgan
DESCRIPTION:Guerrero Missa Surge Propera with Huw Morgan. \nPitch for the day will be A=440.  Forces required are SATB voices plus strings and winds.
URL:https://earlymusicdiary.org.uk/event/4515/
LOCATION:St Mary’s Church\, Yatton\, BS49 4HH
CATEGORIES:Singers,Workshops
END:VEVENT
BEGIN:VEVENT
DTSTART;VALUE=DATE:20250614
DTEND;VALUE=DATE:20250615
DTSTAMP:20260420T204026
CREATED:20240624T080411Z
LAST-MODIFIED:20250311T170832Z
UID:3926-1749859200-1749945599@earlymusicdiary.org.uk
SUMMARY:TVEMF Workshop for Singers: Palestrina with David Allinson
DESCRIPTION:Workshop for Singers: Rejoice and Sing! Exploring Palestrina’s Missa Confitebor tibi Domine with David Allinson.
URL:https://earlymusicdiary.org.uk/event/3926/
LOCATION:Coleshill Village Hall\, nr Amersham\, HP7 0LN
CATEGORIES:Singers,Workshops
END:VEVENT
BEGIN:VEVENT
DTSTART;VALUE=DATE:20250614
DTEND;VALUE=DATE:20250615
DTSTAMP:20260420T204026
CREATED:20241105T110928Z
LAST-MODIFIED:20250311T151310Z
UID:4217-1749859200-1749945599@earlymusicdiary.org.uk
SUMMARY:NWEMF Workshop with George Parris
DESCRIPTION:The ‘Full Moon’ Mass – an exquisite Italian rarity from the mysterious Giuseppe Corsi da Celano\, for voices and instruments.
URL:https://earlymusicdiary.org.uk/event/4217/
LOCATION:All Saints\, Chester\, CH2 3HZ
CATEGORIES:Instruments,Singers,Workshops
END:VEVENT
BEGIN:VEVENT
DTSTART;TZID=Europe/London:20250615T133000
DTEND;TZID=Europe/London:20250615T210000
DTSTAMP:20260420T204026
CREATED:20250530T114605Z
LAST-MODIFIED:20250530T114633Z
UID:4705-1749994200-1750021200@earlymusicdiary.org.uk
SUMMARY:Come & Sing Vivaldi Gloria
DESCRIPTION:Join Bob Porter and the Brandenburg Festival Chorus for a workshop studying choral technique and based around the Vivaldi Gloria\, leading to a final performance to raise the roof of St Gabriel’s.
URL:https://earlymusicdiary.org.uk/event/4705/
LOCATION:St Gabriel’s\, Pimlico\, London\, SW1V 2AD
CATEGORIES:Singers,Workshops
END:VEVENT
BEGIN:VEVENT
DTSTART;VALUE=DATE:20250621
DTEND;VALUE=DATE:20250622
DTSTAMP:20260420T204026
CREATED:20250107T142033Z
LAST-MODIFIED:20250513T105019Z
UID:4357-1750464000-1750550399@earlymusicdiary.org.uk
SUMMARY:MEMF Workshop with Will Dawes & Katie Banks
DESCRIPTION:A scholarly exploration of the life and music of Thomas Morley.  A workshop for voices with Will Dawes and Katie Bank.
URL:https://earlymusicdiary.org.uk/event/4357/
LOCATION:Dorridge Village Hall\, Solihull\, B93 8QA
CATEGORIES:Singers,Workshops
END:VEVENT
BEGIN:VEVENT
DTSTART;VALUE=DATE:20250621
DTEND;VALUE=DATE:20250622
DTSTAMP:20260420T204026
CREATED:20250203T121819Z
LAST-MODIFIED:20250203T121819Z
UID:4509-1750464000-1750550399@earlymusicdiary.org.uk
SUMMARY:The Sixteen Choral Workshop - Peterborough
DESCRIPTION:Explore a variety of music inspired by The Sixteen’s own Choral Pilgrimage.
URL:https://earlymusicdiary.org.uk/event/4509/
LOCATION:Peterborough Cathedral\, PE1 1XS
CATEGORIES:Singers,Workshops
END:VEVENT
BEGIN:VEVENT
DTSTART;TZID=Europe/London:20250621T183000
DTEND;TZID=Europe/London:20250621T203000
DTSTAMP:20260420T204026
CREATED:20240906T110720Z
LAST-MODIFIED:20240906T111240Z
UID:4066-1750530600-1750537800@earlymusicdiary.org.uk
SUMMARY:London Motet & Madrigal Club Meeting
DESCRIPTION:A London-based music club who meet once a month to sing repertoire from the Elizabethan and Jacobean eras from Britain and Europe.
URL:https://earlymusicdiary.org.uk/event/4066/
LOCATION:St Michael’s\, Cornhill\, London\, EC3V 9DS
CATEGORIES:Singers,Workshops
END:VEVENT
BEGIN:VEVENT
DTSTART;VALUE=DATE:20250625
DTEND;VALUE=DATE:20250626
DTSTAMP:20260420T204026
CREATED:20241105T121535Z
LAST-MODIFIED:20250120T113936Z
UID:4245-1750809600-1750895999@earlymusicdiary.org.uk
SUMMARY:Come & Sing: Bach: Mass in B minor
DESCRIPTION:Come and sing Bach: Mass in B minor choruses with Goldsmiths Choral Union choir\, conducted by Jack Apperley.
URL:https://earlymusicdiary.org.uk/event/4245/
LOCATION:Queen’s Gate House\, London\, SW7 5JS
CATEGORIES:Singers,Workshops
END:VEVENT
BEGIN:VEVENT
DTSTART;VALUE=DATE:20250628
DTEND;VALUE=DATE:20250629
DTSTAMP:20260420T204026
CREATED:20241002T104256Z
LAST-MODIFIED:20250513T110401Z
UID:4182-1751068800-1751155199@earlymusicdiary.org.uk
SUMMARY:SEMF Workshop: Gibbons with Bill Hunt
DESCRIPTION:Gibbons Verse Anthems for voices and instruments\, directed by Bill Hunt.
URL:https://earlymusicdiary.org.uk/event/4182/
LOCATION:Findon Village Hall\, West Sussex\, BN14 0TA
CATEGORIES:Instruments,Singers,Workshops
END:VEVENT
BEGIN:VEVENT
DTSTART;VALUE=DATE:20250628
DTEND;VALUE=DATE:20250629
DTSTAMP:20260420T204026
CREATED:20250107T140600Z
LAST-MODIFIED:20250428T142534Z
UID:4346-1751068800-1751155199@earlymusicdiary.org.uk
SUMMARY:BMEMF Workshop: Valls with Patrick Craig
DESCRIPTION:Workshop for singers and instrumentalists – Francisco Valls\, Missa Scala Aretina\, with Patrick Craig.
URL:https://earlymusicdiary.org.uk/event/4346/
LOCATION:St John’s Church\, Ludlow\, SY8 1 QT
CATEGORIES:Instruments,Singers,Workshops
END:VEVENT
BEGIN:VEVENT
DTSTART;VALUE=DATE:20250628
DTEND;VALUE=DATE:20250629
DTSTAMP:20260420T204026
CREATED:20250203T122154Z
LAST-MODIFIED:20250528T081933Z
UID:4516-1751068800-1751155199@earlymusicdiary.org.uk
SUMMARY:SWEMF Workshop: Gibbons Verse Anthems with Clare Griffel
DESCRIPTION:Gibbons Verse Anthems workshop for voices and strings with Clare Griffel. \nThis workshop will explore Gibbons’ wonderful legacy of verse anthems with instruments\, including ‘See\, see\, the Word is incarnate’\, which reprises the entirety of salvation history in a few astonishing pages\, and ‘Behold Thou hast made my days’. \nPitch will be A=440; all voices\, viols\, modern strings and (low) recorders are welcome.
URL:https://earlymusicdiary.org.uk/event/4516/
LOCATION:St Monica’s Chapel\, Bristol\, BS9 3UN
CATEGORIES:Instruments,Singers,Workshops
END:VEVENT
BEGIN:VEVENT
DTSTART;VALUE=DATE:20250628
DTEND;VALUE=DATE:20250629
DTSTAMP:20260420T204026
CREATED:20250408T105607Z
LAST-MODIFIED:20250408T105607Z
UID:4659-1751068800-1751155199@earlymusicdiary.org.uk
SUMMARY:Bach Club Workshop
DESCRIPTION:Whether you’re new to singing Bach or a seasoned Bach Club stalwart\, these workshops offer a chance to deepen your appreciation of his genius.  Directed by Scott Inglis-Kidger.
URL:https://earlymusicdiary.org.uk/event/4659/
LOCATION:St Mary’s Church\, Battersea\, London\, SW11 3NA
CATEGORIES:Singers,Workshops
END:VEVENT
END:VCALENDAR