BEGIN:VCALENDAR
VERSION:2.0
PRODID:-//Early Music Diary - ECPv6.15.20//NONSGML v1.0//EN
CALSCALE:GREGORIAN
METHOD:PUBLISH
X-WR-CALNAME:Early Music Diary
X-ORIGINAL-URL:https://earlymusicdiary.org.uk
X-WR-CALDESC:Events for Early Music Diary
REFRESH-INTERVAL;VALUE=DURATION:PT1H
X-Robots-Tag:noindex
X-PUBLISHED-TTL:PT1H
BEGIN:VTIMEZONE
TZID:Europe/London
BEGIN:DAYLIGHT
TZOFFSETFROM:+0000
TZOFFSETTO:+0100
TZNAME:BST
DTSTART:20240331T010000
END:DAYLIGHT
BEGIN:STANDARD
TZOFFSETFROM:+0100
TZOFFSETTO:+0000
TZNAME:GMT
DTSTART:20241027T010000
END:STANDARD
BEGIN:DAYLIGHT
TZOFFSETFROM:+0000
TZOFFSETTO:+0100
TZNAME:BST
DTSTART:20250330T010000
END:DAYLIGHT
BEGIN:STANDARD
TZOFFSETFROM:+0100
TZOFFSETTO:+0000
TZNAME:GMT
DTSTART:20251026T010000
END:STANDARD
BEGIN:DAYLIGHT
TZOFFSETFROM:+0000
TZOFFSETTO:+0100
TZNAME:BST
DTSTART:20260329T010000
END:DAYLIGHT
BEGIN:STANDARD
TZOFFSETFROM:+0100
TZOFFSETTO:+0000
TZNAME:GMT
DTSTART:20261025T010000
END:STANDARD
END:VTIMEZONE
BEGIN:VEVENT
DTSTART;VALUE=DATE:20250705
DTEND;VALUE=DATE:20250706
DTSTAMP:20260420T191446
CREATED:20250527T104733Z
LAST-MODIFIED:20250527T104733Z
UID:4693-1751673600-1751759999@earlymusicdiary.org.uk
SUMMARY:Come & Sing Monteverdi & Striggio
DESCRIPTION:Come & Sing Claudio Monteverdi’s glorious Beatus vir\, and Alessandro Striggio’s Ecce beatam lucem with the William Byrd Singers\, led by Keith Orrell.
URL:https://earlymusicdiary.org.uk/event/4693/
LOCATION:Christ Church\, West Didsbury\, Manchester\, M20 2ZD
CATEGORIES:Singers,Workshops
END:VEVENT
BEGIN:VEVENT
DTSTART;TZID=Europe/London:20250705T111500
DTEND;TZID=Europe/London:20250705T151500
DTSTAMP:20260420T191446
CREATED:20240906T110720Z
LAST-MODIFIED:20240906T111217Z
UID:4067-1751714100-1751728500@earlymusicdiary.org.uk
SUMMARY:London Motet & Madrigal Club Meeting
DESCRIPTION:A London-based music club who meet once a month to sing repertoire from the Elizabethan and Jacobean eras from Britain and Europe.
URL:https://earlymusicdiary.org.uk/event/4067/
LOCATION:St Michael’s\, Cornhill\, London\, EC3V 9DS
CATEGORIES:Singers,Workshops
END:VEVENT
BEGIN:VEVENT
DTSTART;VALUE=DATE:20250712
DTEND;VALUE=DATE:20250713
DTSTAMP:20260420T191446
CREATED:20250630T140416Z
LAST-MODIFIED:20250630T140416Z
UID:4775-1752278400-1752364799@earlymusicdiary.org.uk
SUMMARY:Come & Sing with Richmond Opera
DESCRIPTION:Join Richmond Opera for a joyful day of singing\, featuring choruses from Handel’s Alexander’s Feast and more!  Led by Lindsay Bramley\, with Mike Keen on keyboard.
URL:https://earlymusicdiary.org.uk/event/4775/
LOCATION:Raleigh Road United Church\, Richmond\, TW9 2DX
CATEGORIES:Singers,Workshops
END:VEVENT
BEGIN:VEVENT
DTSTART;VALUE=DATE:20250719
DTEND;VALUE=DATE:20250720
DTSTAMP:20260420T191446
CREATED:20250311T154115Z
LAST-MODIFIED:20250513T105201Z
UID:4591-1752883200-1752969599@earlymusicdiary.org.uk
SUMMARY:MEMF Workshop: Schein with Alison Kinder
DESCRIPTION:Schein’s Banchetto Musicale – a workshop for instruments (recorders\, strings\, brass and reeds at pitch A=440) with Alison Kinder.
URL:https://earlymusicdiary.org.uk/event/4591/
LOCATION:Knowle Village Hall\, Solihull\, B93 0NN
CATEGORIES:Instruments,Workshops
END:VEVENT
BEGIN:VEVENT
DTSTART;VALUE=DATE:20250720
DTEND;VALUE=DATE:20250728
DTSTAMP:20260420T191446
CREATED:20250619T135014Z
LAST-MODIFIED:20250619T135100Z
UID:4748-1752969600-1753660799@earlymusicdiary.org.uk
SUMMARY:Cambridge Early Music Baroque Summer School
DESCRIPTION:Weldon/Purcell The Tempest\, or The Enchanted Island.  Offered in collaboration with the Academy of Ancient Music (AAM)\, directed by Laurence Cummings.  Pitch: A=415.
URL:https://earlymusicdiary.org.uk/event/4748/
LOCATION:Benslow Music\, Benslow Lane\, Hitchin\, Hertfordshire\, SG4 9RB
CATEGORIES:Instruments,Singers,Workshops
END:VEVENT
BEGIN:VEVENT
DTSTART;VALUE=DATE:20250727
DTEND;VALUE=DATE:20250804
DTSTAMP:20260420T191446
CREATED:20250619T134518Z
LAST-MODIFIED:20250619T135120Z
UID:4745-1753574400-1754265599@earlymusicdiary.org.uk
SUMMARY:Cambridge Early Music Renaissance Summer School
DESCRIPTION:Charles V and the Spanish Golden Age: music for an empire where the sun never sets – music by Morales\, Guerrero\, Anchieta\, Vasquez\, Crecquillon\, Victoria and others.  For voices and viols\, with Clare Wilkinson\, Carys Lane\, Giles Underwood\, Alison Crum and Alison Kinder.
URL:https://earlymusicdiary.org.uk/event/4745/
LOCATION:Benslow Music\, Benslow Lane\, Hitchin\, Hertfordshire\, SG4 9RB
CATEGORIES:Instruments,Singers,Workshops
END:VEVENT
END:VCALENDAR