BEGIN:VCALENDAR
VERSION:2.0
PRODID:-//Early Music Diary - ECPv6.15.20//NONSGML v1.0//EN
CALSCALE:GREGORIAN
METHOD:PUBLISH
X-WR-CALNAME:Early Music Diary
X-ORIGINAL-URL:https://earlymusicdiary.org.uk
X-WR-CALDESC:Events for Early Music Diary
REFRESH-INTERVAL;VALUE=DURATION:PT1H
X-Robots-Tag:noindex
X-PUBLISHED-TTL:PT1H
BEGIN:VTIMEZONE
TZID:Europe/London
BEGIN:DAYLIGHT
TZOFFSETFROM:+0000
TZOFFSETTO:+0100
TZNAME:BST
DTSTART:20250330T010000
END:DAYLIGHT
BEGIN:STANDARD
TZOFFSETFROM:+0100
TZOFFSETTO:+0000
TZNAME:GMT
DTSTART:20251026T010000
END:STANDARD
BEGIN:DAYLIGHT
TZOFFSETFROM:+0000
TZOFFSETTO:+0100
TZNAME:BST
DTSTART:20260329T010000
END:DAYLIGHT
BEGIN:STANDARD
TZOFFSETFROM:+0100
TZOFFSETTO:+0000
TZNAME:GMT
DTSTART:20261025T010000
END:STANDARD
BEGIN:DAYLIGHT
TZOFFSETFROM:+0000
TZOFFSETTO:+0100
TZNAME:BST
DTSTART:20270328T010000
END:DAYLIGHT
BEGIN:STANDARD
TZOFFSETFROM:+0100
TZOFFSETTO:+0000
TZNAME:GMT
DTSTART:20271031T010000
END:STANDARD
END:VTIMEZONE
BEGIN:VEVENT
DTSTART;VALUE=DATE:20260207
DTEND;VALUE=DATE:20260208
DTSTAMP:20260413T135658
CREATED:20250821T084230Z
LAST-MODIFIED:20250821T084230Z
UID:4936-1770422400-1770508799@earlymusicdiary.org.uk
SUMMARY:Come & Sing Handel's Messiah
DESCRIPTION:Come and Sing Handel’s Messiah with Nantwich Choral Society.
URL:https://earlymusicdiary.org.uk/event/4936/
LOCATION:St Mary’s Church\, Nantwich\, Cheshire\, CW5 5RQ
CATEGORIES:Singers,Workshops
END:VEVENT
BEGIN:VEVENT
DTSTART;VALUE=DATE:20260207
DTEND;VALUE=DATE:20260208
DTSTAMP:20260413T135658
CREATED:20251017T134146Z
LAST-MODIFIED:20260204T160046Z
UID:5062-1770422400-1770508799@earlymusicdiary.org.uk
SUMMARY:MEMF Workshop: Byrd with Sally Dunkley
DESCRIPTION:William Byrd and his Circle with Sally Dunkley.
URL:https://earlymusicdiary.org.uk/event/5062/
LOCATION:Knowle Village Hall\, Solihull\, B93 0NN
CATEGORIES:Singers,Workshops
END:VEVENT
BEGIN:VEVENT
DTSTART;VALUE=DATE:20260207
DTEND;VALUE=DATE:20260208
DTSTAMP:20260413T135658
CREATED:20251117T142338Z
LAST-MODIFIED:20251117T142338Z
UID:5095-1770422400-1770508799@earlymusicdiary.org.uk
SUMMARY:Choral Workshop with Bath Bach Choir
DESCRIPTION:The workshop features Bach’s Cantata Die Himmel erzählen die Ehre Gottes (BWV 76)\, part of the Leipzig Cantata Cycle which also enthralled last year’s workshop attendees\, and extracts from the Bach motet Jesu\, meine Freude (BWV 227). \nA wonderful way to fire up February by studying a Bach Cantata alongside the choir and singers from Oxford Bach Soloists.  Everyone welcome.
URL:https://earlymusicdiary.org.uk/event/5095/
LOCATION:St Mary’s Church\, Bathwick\, Bath\, BA2 4EB
CATEGORIES:Singers,Workshops
END:VEVENT
BEGIN:VEVENT
DTSTART;VALUE=DATE:20260207
DTEND;VALUE=DATE:20260208
DTSTAMP:20260413T135658
CREATED:20251124T143331Z
LAST-MODIFIED:20260204T155048Z
UID:5118-1770422400-1770508799@earlymusicdiary.org.uk
SUMMARY:NEEMF Workshop: Zelenka with Chris Roberts
DESCRIPTION:This workshop\, led by Dr Christopher Roberts\, will explore Zelenka’s Kyrie\, Sanctus and Agnus Dei in D minor ZWV26 (c.1723) and Gloria in F major ZWV30 (1724)\, and is open to all singers\, oboes\, sackbuts\, bassoon\, strings (violins\, violas\, cellos\, violone/double bass) and continuo players (theorbo\, organ).  Pitch A = 415.
URL:https://earlymusicdiary.org.uk/event/5118/
LOCATION:Northallerton Methodist Church\, DL7 8EG
CATEGORIES:Instruments,Singers,Workshops
END:VEVENT
BEGIN:VEVENT
DTSTART;VALUE=DATE:20260208
DTEND;VALUE=DATE:20260209
DTSTAMP:20260413T135658
CREATED:20251223T094453Z
LAST-MODIFIED:20251223T094453Z
UID:5191-1770508800-1770595199@earlymusicdiary.org.uk
SUMMARY:SEMF Renaissance Workshop with Gawain Glenton
DESCRIPTION:The workshop will focus on the music of Giovanni Croce\, a leading Venetian composer of his day. Open to all singers and cornetts\, sackbuts\, curtals/dulcians\, recorders\, viol and violin family\, plucked continuo.
URL:https://earlymusicdiary.org.uk/event/5191/
LOCATION:Headcorn Village Hall\, Kent\, TN27 9NR
CATEGORIES:Instruments,Singers,Workshops
END:VEVENT
BEGIN:VEVENT
DTSTART;TZID=Europe/London:20260211T140000
DTEND;TZID=Europe/London:20260211T173000
DTSTAMP:20260413T135658
CREATED:20251208T112126Z
LAST-MODIFIED:20251208T112126Z
UID:5182-1770818400-1770831000@earlymusicdiary.org.uk
SUMMARY:Tallis in Wonderland: Choral Workshop
DESCRIPTION:Spend the afternoon with Early music specialist\, Scott Inglis-Kidger\, who will lead you through a selection of Tallis’s sacred works written in the turbulent years following the English Reformation.
URL:https://earlymusicdiary.org.uk/event/5182/
LOCATION:St Barnabas\, Pimlico\, London\, SW1W 8PF
CATEGORIES:Singers,Workshops
END:VEVENT
BEGIN:VEVENT
DTSTART;VALUE=DATE:20260214
DTEND;VALUE=DATE:20260215
DTSTAMP:20260413T135658
CREATED:20250710T100849Z
LAST-MODIFIED:20260204T153242Z
UID:4822-1771027200-1771113599@earlymusicdiary.org.uk
SUMMARY:NWEMF Workshop with Lisa Colton
DESCRIPTION:An Early Music Love Affair – a workshop for voices and instruments with Lisa Colton. \nThis workshop is a joint venture with the University of Liverpool\, and is designed to bring together experienced early music performers with accomplished singers from the University of Liverpool Chamber Choir\, and some instrumentalists.
URL:https://earlymusicdiary.org.uk/event/4822/
LOCATION:The Tung Auditorium\, Liverpool\, L7 3NY
CATEGORIES:Instruments,Singers,Workshops
END:VEVENT
BEGIN:VEVENT
DTSTART;VALUE=DATE:20260214
DTEND;VALUE=DATE:20260215
DTSTAMP:20260413T135658
CREATED:20250904T070731Z
LAST-MODIFIED:20260114T122907Z
UID:5022-1771027200-1771113599@earlymusicdiary.org.uk
SUMMARY:EEMF Epiphany Party with Philip Thorby
DESCRIPTION:What better subject could there be for St Valentine’s Day than love – sacred and profane and all stages in between?  Join EEMF in Beccles on February 14th for a workshop including Gabrieli’s two-choir motet Diligam Te Domine\, Andreas Hakenberger’s rich 12-part setting of Vulnerasti Cor Meum\, Cristofano Malvezzi’s 15-part A Voi\, Reali Amanti\, and Gabrieli’s Amor\, Dove mi Guidi. \nVoices\, cornetts\, sackbuts\, curtals\, viols\, violins\, violas\, recorders all welcome (viols and violas please be aware that not all pieces will have parts in C-clefs): pitch A440.
URL:https://earlymusicdiary.org.uk/event/5022/
LOCATION:Blyburgate Hall\, Beccles\, NR34 9TF
CATEGORIES:Instruments,Singers,Workshops
END:VEVENT
BEGIN:VEVENT
DTSTART;VALUE=DATE:20260214
DTEND;VALUE=DATE:20260215
DTSTAMP:20260413T135658
CREATED:20260109T124135Z
LAST-MODIFIED:20260109T124158Z
UID:5200-1771027200-1771113599@earlymusicdiary.org.uk
SUMMARY:SWEMF Workshop with Emma Hornby
DESCRIPTION:This workshop will introduce you to seasonal medieval chant (including the tract Jubilate Domino\, and one of the Old Hispanic Lamentations chants)\, together with 13th-century polyphony. \nAll voice parts welcome.
URL:https://earlymusicdiary.org.uk/event/5200/
LOCATION:St Monica’s Chapel\, Bristol\, BS9 3UN
CATEGORIES:Singers,Workshops
END:VEVENT
BEGIN:VEVENT
DTSTART;VALUE=DATE:20260214
DTEND;VALUE=DATE:20260215
DTSTAMP:20260413T135658
CREATED:20260210T155406Z
LAST-MODIFIED:20260210T155406Z
UID:5340-1771027200-1771113599@earlymusicdiary.org.uk
SUMMARY:EMFS Choir Meeting
DESCRIPTION:The EMFS Choir will meet at Polwarth Parish Church under the direction of Michael Cameron-Longden to look at some songs by John Dowland.
URL:https://earlymusicdiary.org.uk/event/5340/
LOCATION:Polwarth Parish Church\, Edinburgh\, EH11 1LU
CATEGORIES:Singers,Workshops
END:VEVENT
BEGIN:VEVENT
DTSTART;TZID=Europe/London:20260214T183000
DTEND;TZID=Europe/London:20260214T203000
DTSTAMP:20260413T135658
CREATED:20260203T121813Z
LAST-MODIFIED:20260203T123101Z
UID:5282-1771093800-1771101000@earlymusicdiary.org.uk
SUMMARY:London Motet & Madrigal Club Meeting
DESCRIPTION:A London-based music club who meet once a month to sing repertoire from the Elizabethan and Jacobean eras from Britain and Europe.
URL:https://earlymusicdiary.org.uk/event/5282/
LOCATION:St Michael’s\, Cornhill\, London\, EC3V 9DS
CATEGORIES:Singers,Workshops
END:VEVENT
BEGIN:VEVENT
DTSTART;VALUE=DATE:20260221
DTEND;VALUE=DATE:20260222
DTSTAMP:20260413T135658
CREATED:20250618T140059Z
LAST-MODIFIED:20251017T135949Z
UID:4741-1771632000-1771718399@earlymusicdiary.org.uk
SUMMARY:TVEMF Workshop: JS Bach Christmas Oratorio with Philip Thorby
DESCRIPTION:JS Bach: Choruses from the Christmas Oratorio with Philip Thorby\, for singers and baroque orchestra (A=415).
URL:https://earlymusicdiary.org.uk/event/4741/
LOCATION:Keble College Chapel\, Oxford\, OX1 3PG
CATEGORIES:Instruments,Singers,Workshops
END:VEVENT
BEGIN:VEVENT
DTSTART;VALUE=DATE:20260228
DTEND;VALUE=DATE:20260301
DTSTAMP:20260413T135658
CREATED:20250903T144309Z
LAST-MODIFIED:20260204T155437Z
UID:5018-1772236800-1772323199@earlymusicdiary.org.uk
SUMMARY:BMEMF Workshop - El Parnasso Hyspano
DESCRIPTION:El Parnasso Hyspano – indigenous Latin American music workshop for singers and continuo\, with tutors John Sloboda and Rafael Montero.
URL:https://earlymusicdiary.org.uk/event/5018/
LOCATION:Belmont Abbey\, Hereford\, HR2 9RZ
CATEGORIES:Instruments,Singers,Workshops
END:VEVENT
BEGIN:VEVENT
DTSTART;VALUE=DATE:20260228
DTEND;VALUE=DATE:20260301
DTSTAMP:20260413T135658
CREATED:20251117T144636Z
LAST-MODIFIED:20251117T144636Z
UID:5109-1772236800-1772323199@earlymusicdiary.org.uk
SUMMARY:Come & Sing with London Handel Festival
DESCRIPTION:Members of the London Handel Orchestra\, along with its Principal Conductor\, Richard Gowers\, will guide singers through some of Handel’s most radiant choral works and choruses from works performed across the Festival. \nRepertoire:\nLaudate pueri Dominum HWV 237\nO come\, let us sing HWV 253\nChoruses from Saul and Ode for St Cecilia’s Day
URL:https://earlymusicdiary.org.uk/event/5109/
LOCATION:Grosvenor Chapel\, London\, W1K 2PA
CATEGORIES:Singers,Workshops
END:VEVENT
BEGIN:VEVENT
DTSTART;VALUE=DATE:20260228
DTEND;VALUE=DATE:20260301
DTSTAMP:20260413T135658
CREATED:20260204T152816Z
LAST-MODIFIED:20260204T152816Z
UID:5302-1772236800-1772323199@earlymusicdiary.org.uk
SUMMARY:EMFS Workshop: Go4B'rque
DESCRIPTION:Go4B’rque will meet under the direction of Philip Redfern to look at Rameau’s ‘Les Indes Galantes’.
URL:https://earlymusicdiary.org.uk/event/5302/
LOCATION:Reid Memorial Church Hall\, Edinburgh\, EH9 3HY
CATEGORIES:Instruments,Workshops
END:VEVENT
END:VCALENDAR