BEGIN:VCALENDAR
VERSION:2.0
PRODID:-//Early Music Diary - ECPv6.15.20//NONSGML v1.0//EN
CALSCALE:GREGORIAN
METHOD:PUBLISH
X-WR-CALNAME:Early Music Diary
X-ORIGINAL-URL:https://earlymusicdiary.org.uk
X-WR-CALDESC:Events for Early Music Diary
REFRESH-INTERVAL;VALUE=DURATION:PT1H
X-Robots-Tag:noindex
X-PUBLISHED-TTL:PT1H
BEGIN:VTIMEZONE
TZID:Europe/London
BEGIN:DAYLIGHT
TZOFFSETFROM:+0000
TZOFFSETTO:+0100
TZNAME:BST
DTSTART:20250330T010000
END:DAYLIGHT
BEGIN:STANDARD
TZOFFSETFROM:+0100
TZOFFSETTO:+0000
TZNAME:GMT
DTSTART:20251026T010000
END:STANDARD
BEGIN:DAYLIGHT
TZOFFSETFROM:+0000
TZOFFSETTO:+0100
TZNAME:BST
DTSTART:20260329T010000
END:DAYLIGHT
BEGIN:STANDARD
TZOFFSETFROM:+0100
TZOFFSETTO:+0000
TZNAME:GMT
DTSTART:20261025T010000
END:STANDARD
BEGIN:DAYLIGHT
TZOFFSETFROM:+0000
TZOFFSETTO:+0100
TZNAME:BST
DTSTART:20270328T010000
END:DAYLIGHT
BEGIN:STANDARD
TZOFFSETFROM:+0100
TZOFFSETTO:+0000
TZNAME:GMT
DTSTART:20271031T010000
END:STANDARD
END:VTIMEZONE
BEGIN:VEVENT
DTSTART;VALUE=DATE:20261017
DTEND;VALUE=DATE:20261018
DTSTAMP:20260423T113100
CREATED:20250710T101143Z
LAST-MODIFIED:20250903T143020Z
UID:4828-1792195200-1792281599@earlymusicdiary.org.uk
SUMMARY:NWEMF Workshop with Lizzie Gutteridge
DESCRIPTION:Music from the Odhecaton workshop for voices and instruments with Lizzie Gutteridge.  Bolton.
URL:https://earlymusicdiary.org.uk/event/4828/
CATEGORIES:Instruments,Singers,Workshops
END:VEVENT
BEGIN:VEVENT
DTSTART;VALUE=DATE:20261017
DTEND;VALUE=DATE:20261018
DTSTAMP:20260423T113100
CREATED:20260204T173043Z
LAST-MODIFIED:20260204T173043Z
UID:5333-1792195200-1792281599@earlymusicdiary.org.uk
SUMMARY:TVEMF Workshop with Gawain Glenton
DESCRIPTION:Large-scale music by Hassler for voices and instruments\, with Gawain Glenton.  Details TBC.
URL:https://earlymusicdiary.org.uk/event/5333/
CATEGORIES:Instruments,Singers,Workshops
END:VEVENT
BEGIN:VEVENT
DTSTART;VALUE=DATE:20261024
DTEND;VALUE=DATE:20261025
DTSTAMP:20260423T113100
CREATED:20260204T171434Z
LAST-MODIFIED:20260204T171951Z
UID:5317-1792800000-1792886399@earlymusicdiary.org.uk
SUMMARY:SWEMF Workshop with Andrea Brown
DESCRIPTION:Workshop for voices and instruments with Andrea Brown – details TBC.
URL:https://earlymusicdiary.org.uk/event/5317/
LOCATION:Hambridge Village Hall\, Somerset\, TA10 0AZ
CATEGORIES:Instruments,Singers,Workshops
END:VEVENT
END:VCALENDAR