BEGIN:VCALENDAR
VERSION:2.0
PRODID:-//Early Music Diary - ECPv6.15.20//NONSGML v1.0//EN
CALSCALE:GREGORIAN
METHOD:PUBLISH
X-WR-CALNAME:Early Music Diary
X-ORIGINAL-URL:https://earlymusicdiary.org.uk
X-WR-CALDESC:Events for Early Music Diary
REFRESH-INTERVAL;VALUE=DURATION:PT1H
X-Robots-Tag:noindex
X-PUBLISHED-TTL:PT1H
BEGIN:VTIMEZONE
TZID:Europe/London
BEGIN:DAYLIGHT
TZOFFSETFROM:+0000
TZOFFSETTO:+0100
TZNAME:BST
DTSTART:20220327T010000
END:DAYLIGHT
BEGIN:STANDARD
TZOFFSETFROM:+0100
TZOFFSETTO:+0000
TZNAME:GMT
DTSTART:20221030T010000
END:STANDARD
BEGIN:DAYLIGHT
TZOFFSETFROM:+0000
TZOFFSETTO:+0100
TZNAME:BST
DTSTART:20230326T010000
END:DAYLIGHT
BEGIN:STANDARD
TZOFFSETFROM:+0100
TZOFFSETTO:+0000
TZNAME:GMT
DTSTART:20231029T010000
END:STANDARD
BEGIN:DAYLIGHT
TZOFFSETFROM:+0000
TZOFFSETTO:+0100
TZNAME:BST
DTSTART:20240331T010000
END:DAYLIGHT
BEGIN:STANDARD
TZOFFSETFROM:+0100
TZOFFSETTO:+0000
TZNAME:GMT
DTSTART:20241027T010000
END:STANDARD
END:VTIMEZONE
BEGIN:VEVENT
DTSTART;VALUE=DATE:20230514
DTEND;VALUE=DATE:20230522
DTSTAMP:20260421T021856
CREATED:20230205T110223Z
LAST-MODIFIED:20230205T110223Z
UID:2030-1684022400-1684713599@earlymusicdiary.org.uk
SUMMARY:Alhambra Week in Granada with David Ogden
DESCRIPTION:Spend a week singing in the shade of the Alhambra working on a rich programme of choral music.
URL:https://earlymusicdiary.org.uk/event/2030/
LOCATION:Plaza de Gamboa\, Granada\, Spain 18009
CATEGORIES:Courses,Singers
END:VEVENT
BEGIN:VEVENT
DTSTART;TZID=Europe/London:20230513T110000
DTEND;TZID=Europe/London:20230513T140000
DTSTAMP:20260421T021856
CREATED:20230322T163509Z
LAST-MODIFIED:20230322T163509Z
UID:2389-1683975600-1683986400@earlymusicdiary.org.uk
SUMMARY:The Sixteen Choral Pilgrimage Workshop
DESCRIPTION:De Monte – Peccantem me quotidie\nByrd – Cibavit eos\nClemens non Papa – Tristitia et anxietas
URL:https://earlymusicdiary.org.uk/event/2389/
LOCATION:Peterborough Cathedral\, PE1 1XS
CATEGORIES:Singers,Workshops
END:VEVENT
BEGIN:VEVENT
DTSTART;VALUE=DATE:20230513
DTEND;VALUE=DATE:20230515
DTSTAMP:20260421T021856
CREATED:20220823T104419Z
LAST-MODIFIED:20220921T163846Z
UID:1033-1683936000-1684108799@earlymusicdiary.org.uk
SUMMARY:Dorset Bach Cantata Club
DESCRIPTION:Non-residential study weekend directed by Chris Brown.
URL:https://earlymusicdiary.org.uk/event/1033/
LOCATION:Sturminster Newton High School\, Bath Road\, Sturminster Newton\, DT10 1DT
CATEGORIES:Courses,Singers
END:VEVENT
BEGIN:VEVENT
DTSTART;VALUE=DATE:20230513
DTEND;VALUE=DATE:20230514
DTSTAMP:20260421T021856
CREATED:20230427T103445Z
LAST-MODIFIED:20230427T103528Z
UID:2598-1683936000-1684022399@earlymusicdiary.org.uk
SUMMARY:Come & Sing Handel's 'Israel in Egypt' Part I
DESCRIPTION:Musical Director: Andrew Parnell\nAccompanist: Clare Selby\nSoloist: Chloë Allison
URL:https://earlymusicdiary.org.uk/event/2598/
LOCATION:Histon Baptist Church\, Cambridge\, CB24 9LN
CATEGORIES:Singers,Workshops
END:VEVENT
BEGIN:VEVENT
DTSTART;VALUE=DATE:20230513
DTEND;VALUE=DATE:20230514
DTSTAMP:20260421T021856
CREATED:20230427T095918Z
LAST-MODIFIED:20230427T095918Z
UID:2581-1683936000-1684022399@earlymusicdiary.org.uk
SUMMARY:Evensong for Advanced Singers
DESCRIPTION:Byrd Responses\, Orlando Di Lasso Magnificat Sexti Toni a 4 & Nunc Dimittis “Se’l mio sempre per voi”\, and Palestrina Figlio immortal d’immortal padre.
URL:https://earlymusicdiary.org.uk/event/2581/
LOCATION:Salisbury Cathedral\, SP1 2EJ
CATEGORIES:Singers,Workshops
END:VEVENT
BEGIN:VEVENT
DTSTART;VALUE=DATE:20230513
DTEND;VALUE=DATE:20230514
DTSTAMP:20260421T021856
CREATED:20230211T095350Z
LAST-MODIFIED:20230211T095350Z
UID:2138-1683936000-1684022399@earlymusicdiary.org.uk
SUMMARY:NWEMF Workshop: Sweelinck & Scheidt with George Parris
DESCRIPTION:Sweelinck & Scheidt for voices & instruments.
URL:https://earlymusicdiary.org.uk/event/2138/
LOCATION:St Mary’s Church Hall\, Sale\, M33 6GD
CATEGORIES:Instruments,Singers,Workshops
END:VEVENT
BEGIN:VEVENT
DTSTART;VALUE=DATE:20230513
DTEND;VALUE=DATE:20230514
DTSTAMP:20260421T021856
CREATED:20230205T105319Z
LAST-MODIFIED:20230205T105319Z
UID:2026-1683936000-1684022399@earlymusicdiary.org.uk
SUMMARY:Baroque & Modern Reed Making & Adjustment
DESCRIPTION:Participants will learn the steps and skills needed to make their own oboe\, English horn (Cor Anglais)\, or baroque oboe reeds.
URL:https://earlymusicdiary.org.uk/event/2026/
LOCATION:The Champion Workshop\, 6 Lintech Court\, Linton\, Cambridgeshire\, CB21 4XN
CATEGORIES:Instruments,Workshops
END:VEVENT
BEGIN:VEVENT
DTSTART;VALUE=DATE:20230513
DTEND;VALUE=DATE:20230514
DTSTAMP:20260421T021856
CREATED:20221129T091434Z
LAST-MODIFIED:20221129T091728Z
UID:1695-1683936000-1684022399@earlymusicdiary.org.uk
SUMMARY:BEMF Festival Workshop with Robert Hollingworth
DESCRIPTION:Marc-Antoine Charpentier’s Mass for Four Choirs.  This magnificent work was written c.1672 for four choirs\, each with an instrumental ensemble. The Festival will provide instrumentalists for the workshop.
URL:https://earlymusicdiary.org.uk/event/1695/
LOCATION:All Saints Clifton\, Bristol\, BS8 3ED
CATEGORIES:Singers,Workshops
END:VEVENT
BEGIN:VEVENT
DTSTART;VALUE=DATE:20230513
DTEND;VALUE=DATE:20230514
DTSTAMP:20260421T021856
CREATED:20220910T081024Z
LAST-MODIFIED:20230320T120254Z
UID:1058-1683936000-1684022399@earlymusicdiary.org.uk
SUMMARY:BMEMF Workshop: Byrd with David Skinner
DESCRIPTION:Byrd Takes Flight at 400 – English and Latin church music by William Byrd.
URL:https://earlymusicdiary.org.uk/event/1058/
LOCATION:Stockenny\, New Radnor\, Powys\, LD8 2RE
CATEGORIES:Singers,Workshops
END:VEVENT
BEGIN:VEVENT
DTSTART;VALUE=DATE:20230512
DTEND;VALUE=DATE:20230515
DTSTAMP:20260421T021856
CREATED:20230205T120225Z
LAST-MODIFIED:20230205T120243Z
UID:2056-1683849600-1684108799@earlymusicdiary.org.uk
SUMMARY:Benslow Voices & Viols
DESCRIPTION:A weekend of 16th and 17th century vocal music ‘apt for voyces and vyalls’\, \nTutors: Alison Crum\, Peter Syrus.
URL:https://earlymusicdiary.org.uk/event/2056/
LOCATION:Benslow Music\, Benslow Lane\, Hitchin\, Hertfordshire\, SG4 9RB
CATEGORIES:Courses,Instruments,Singers
END:VEVENT
BEGIN:VEVENT
DTSTART;VALUE=DATE:20230505
DTEND;VALUE=DATE:20230508
DTSTAMP:20260421T021856
CREATED:20230427T093925Z
LAST-MODIFIED:20230427T094008Z
UID:2570-1683244800-1683503999@earlymusicdiary.org.uk
SUMMARY:Viols & Recorders with Elizabeth Dodd & Philip Gruar
DESCRIPTION:A friendly course (all levels except beginner) to enjoy exploring a variety of music with others on your own instrument\, plus a chance also for you to consort!
URL:https://earlymusicdiary.org.uk/event/2570/
LOCATION:Higham Hall\, Bassenthwaite Lake\, Cockermouth\, Cumbria\, CA13 9SH
CATEGORIES:Courses,Instruments
END:VEVENT
BEGIN:VEVENT
DTSTART;VALUE=DATE:20230430
DTEND;VALUE=DATE:20230501
DTSTAMP:20260421T021856
CREATED:20220927T075616Z
LAST-MODIFIED:20230403T091348Z
UID:1258-1682812800-1682899199@earlymusicdiary.org.uk
SUMMARY:SEMF Workshop: Three Faces of Italy with Emily White
DESCRIPTION:The workshop for instruments at A=440 will show three faces of 17th century sacred music. The Italian style with Claudio Monteverdi\, the Italian influence with Heinrich Schütz\, and the Italian style with a difference with Isabella Leonarda.
URL:https://earlymusicdiary.org.uk/event/1258/
LOCATION:Normandy Village Hall\, Guildford\, GU3 2DD
CATEGORIES:Instruments,Workshops
END:VEVENT
BEGIN:VEVENT
DTSTART;VALUE=DATE:20230429
DTEND;VALUE=DATE:20230430
DTSTAMP:20260421T021856
CREATED:20230323T172235Z
LAST-MODIFIED:20230323T172235Z
UID:2421-1682726400-1682812799@earlymusicdiary.org.uk
SUMMARY:Come & Sing A Cappella
DESCRIPTION:Including music by Child\, Weelkes\, Vaughan Williams\, and Purcell.  Led by Peter Nardone and Stephen Tilton. \nApplication forms and more details from saffas73@btinternet.com.
URL:https://earlymusicdiary.org.uk/event/2421/
LOCATION:St John’s Church\, West Bay\, Bridport\, Dorset\, DT6 4EY
CATEGORIES:Singers,Workshops
END:VEVENT
BEGIN:VEVENT
DTSTART;VALUE=DATE:20230429
DTEND;VALUE=DATE:20230430
DTSTAMP:20260421T021856
CREATED:20230221T092506Z
LAST-MODIFIED:20230406T141649Z
UID:2197-1682726400-1682812799@earlymusicdiary.org.uk
SUMMARY:EEMF Workshop: Ingegneri & Monteverdi with Patrick Craig
DESCRIPTION:Master and Pupil: Ingegneri and Monteverdi.  A polychoral workshop for singers and instrumentalists.
URL:https://earlymusicdiary.org.uk/event/2197/
LOCATION:St Peter’s by the Waterfront\, Ipswich\, College St\, Ipswich\, IP4 1BF
CATEGORIES:Instruments,Singers,Workshops
END:VEVENT
BEGIN:VEVENT
DTSTART;VALUE=DATE:20230429
DTEND;VALUE=DATE:20230430
DTSTAMP:20260421T021856
CREATED:20221230T153456Z
LAST-MODIFIED:20221230T153606Z
UID:1844-1682726400-1682812799@earlymusicdiary.org.uk
SUMMARY:Come & Sing Workshop: Spem in Alium
DESCRIPTION:Join Gloucester Choral Society for a rare opportunity to sing Spem in Alium by Thomas Tallis\, led by Adrian Partington. Written for 8 choirs\, this 40-part composition involves hundreds of singers\, and you can be one of them.
URL:https://earlymusicdiary.org.uk/event/1844/
LOCATION:Gloucester Cathedral\, GL1 2LX
CATEGORIES:Singers,Workshops
END:VEVENT
BEGIN:VEVENT
DTSTART;VALUE=DATE:20230429
DTEND;VALUE=DATE:20230430
DTSTAMP:20260421T021856
CREATED:20230221T183044Z
LAST-MODIFIED:20230228T113232Z
UID:2222-1682726400-1682812799@earlymusicdiary.org.uk
SUMMARY:Come & Sing Handel Coronation Anthems
DESCRIPTION:Come and Sing four Coronation Anthems by Handel with Cantores Olicanae\, led by Charlie Perry.
URL:https://earlymusicdiary.org.uk/event/2222/
LOCATION:Ilkley Grammar School\, LS29 8TR
CATEGORIES:Singers,Workshops
END:VEVENT
BEGIN:VEVENT
DTSTART;TZID=Europe/London:20230427T140000
DTEND;TZID=Europe/London:20230706T160000
DTSTAMP:20260421T021856
CREATED:20221229T151243Z
LAST-MODIFIED:20221229T151243Z
UID:1839-1682604000-1688659200@earlymusicdiary.org.uk
SUMMARY:Topics in Renaissance music 3
DESCRIPTION:Tutor: Patrick Allies \nThis course will lead you through a sequence of topics in Iberian renaissance music from Spain\, Portugal\, and the New World.
URL:https://earlymusicdiary.org.uk/event/1839/
LOCATION:Online
CATEGORIES:Courses,Online
END:VEVENT
BEGIN:VEVENT
DTSTART;VALUE=DATE:20230426
DTEND;VALUE=DATE:20230706
DTSTAMP:20260421T021856
CREATED:20230320T120045Z
LAST-MODIFIED:20230320T120052Z
UID:2353-1682467200-1688601599@earlymusicdiary.org.uk
SUMMARY:Early Music Ensemble
DESCRIPTION:An ensemble for musicians interested in learning the skills of playing consort music in different instrumental combinations (“broken consort”). It will be a journey exploring the variety of sound combinations in 17th century repertoire.
URL:https://earlymusicdiary.org.uk/event/2353/
LOCATION:Keeley Street\, London\, Covent Garden\, London\, WC2B 4BA
CATEGORIES:Courses,Instruments
END:VEVENT
BEGIN:VEVENT
DTSTART;TZID=Europe/London:20230425T153000
DTEND;TZID=Europe/London:20230704T173000
DTSTAMP:20260421T021856
CREATED:20221229T151018Z
LAST-MODIFIED:20221229T172144Z
UID:1837-1682436600-1688491800@earlymusicdiary.org.uk
SUMMARY:Early music in the 20th century
DESCRIPTION:Tutor: Edward Breen \nExplore the early music pioneers of the 20th century. Learn about different approaches in each genre and unpick some of the arguments about ‘authenticity’ and ‘historically informed performance’ with instruments and voices.
URL:https://earlymusicdiary.org.uk/event/1837/
LOCATION:Keeley Street\, London\, Covent Garden\, London\, WC2B 4BA
CATEGORIES:Courses,Instruments,Singers
END:VEVENT
BEGIN:VEVENT
DTSTART;TZID=Europe/London:20230424T190000
DTEND;TZID=Europe/London:20230424T213000
DTSTAMP:20260421T021856
CREATED:20230420T102236Z
LAST-MODIFIED:20230420T102413Z
UID:2565-1682362800-1682371800@earlymusicdiary.org.uk
SUMMARY:English Madrigals with Greg Skidmore
DESCRIPTION:In this Byrd year\, for a bit of a change\, come and spend an evening singing English music mainly NOT by Byrd. This workshop will focus on the rich English madrigal repertoire\, focusing on John Wilbye\, but also including Orlando Gibbons\, John Ward\, Thomas Tomkins\, Thomas Weelkes (who also died 400 years ago this year)\, and more.
URL:https://earlymusicdiary.org.uk/event/2565/
LOCATION:St Stephen’s\, Rochester Row\, London\, SW1P 1LE
CATEGORIES:Singers,Workshops
END:VEVENT
BEGIN:VEVENT
DTSTART;VALUE=DATE:20230423
DTEND;VALUE=DATE:20230424
DTSTAMP:20260421T021856
CREATED:20230413T094258Z
LAST-MODIFIED:20230413T095042Z
UID:2535-1682208000-1682294399@earlymusicdiary.org.uk
SUMMARY:Renaissance Singing Workshop
DESCRIPTION:Sing Joyfully – a celebration of Spring in Song and Madrigal with Hannes Kaiser. \nContact: hansenmerle848@gmail.com / 07730 436766.
URL:https://earlymusicdiary.org.uk/event/2535/
LOCATION:Steiner Academy\, Hereford\, HR2 8DL
CATEGORIES:Singers,Workshops
END:VEVENT
BEGIN:VEVENT
DTSTART;TZID=Europe/London:20230422T110000
DTEND;TZID=Europe/London:20230422T140000
DTSTAMP:20260421T021856
CREATED:20230322T163314Z
LAST-MODIFIED:20230322T163314Z
UID:2386-1682161200-1682172000@earlymusicdiary.org.uk
SUMMARY:The Sixteen Choral Pilgrimage Workshop
DESCRIPTION:De Monte – Peccantem me quotidie\nByrd – Cibavit eos\nClemens non Papa – Tristitia et anxietas
URL:https://earlymusicdiary.org.uk/event/2386/
LOCATION:Truro School\, TR1 1TH
CATEGORIES:Singers,Workshops
END:VEVENT
BEGIN:VEVENT
DTSTART;VALUE=DATE:20230422
DTEND;VALUE=DATE:20230423
DTSTAMP:20260421T021856
CREATED:20230403T092123Z
LAST-MODIFIED:20230403T092321Z
UID:2433-1682121600-1682207999@earlymusicdiary.org.uk
SUMMARY:Come & Sing Handel's Messiah
DESCRIPTION:Come & Sing Handel’s Messiah with Somerset Choral Society. \nLight refreshments and music provided. \nTickets: £10 singers\, £5 audience.  Further details & booking: 07397 806319.
URL:https://earlymusicdiary.org.uk/event/2433/
LOCATION:Cheddar Catholic Church Hall\, BS27 3HU
CATEGORIES:Singers,Workshops
END:VEVENT
BEGIN:VEVENT
DTSTART;VALUE=DATE:20230422
DTEND;VALUE=DATE:20230423
DTSTAMP:20260421T021856
CREATED:20230211T100036Z
LAST-MODIFIED:20230211T100036Z
UID:2144-1682121600-1682207999@earlymusicdiary.org.uk
SUMMARY:SWEMF Workshop: Renaissance Winds with Tim Bayley
DESCRIPTION:Music for Renaissance Wind Band\, directed by Tim Bayley of the York Waits.
URL:https://earlymusicdiary.org.uk/event/2144/
LOCATION:St Mark’s Methodist Church\, Cheltenham\, GL51 8PX
CATEGORIES:Instruments,Workshops
END:VEVENT
BEGIN:VEVENT
DTSTART;VALUE=DATE:20230416
DTEND;VALUE=DATE:20230422
DTSTAMP:20260421T021856
CREATED:20221118T114043Z
LAST-MODIFIED:20221118T114908Z
UID:1583-1681603200-1682121599@earlymusicdiary.org.uk
SUMMARY:Tenby Music Party with Patrick Craig
DESCRIPTION:This is a course for invited singers\, but you may register an interest using the form on their website.
URL:https://earlymusicdiary.org.uk/event/1583/
LOCATION:St Mary’s Church\, Tenby\, Pembrokeshire\, SA70 8AP
CATEGORIES:Courses,Singers
END:VEVENT
BEGIN:VEVENT
DTSTART;TZID=Europe/London:20230415T103000
DTEND;TZID=Europe/London:20230415T160000
DTSTAMP:20260421T021856
CREATED:20230221T094300Z
LAST-MODIFIED:20230221T100631Z
UID:2202-1681554600-1681574400@earlymusicdiary.org.uk
SUMMARY:Come & Sing Messiah Choruses
DESCRIPTION:Join singers from across the South West for a workshop exploring some of the beautiful choruses from Handel’s masterpiece\, working with talented choir director David Everett. \nFor further details\, or to register\, contact: casterbridge.music.uk@gmail.com
URL:https://earlymusicdiary.org.uk/event/2202/
LOCATION:Briantspuddle Village Hall\, Dorset\, DT2 7HT
CATEGORIES:Singers,Workshops
END:VEVENT
BEGIN:VEVENT
DTSTART;VALUE=DATE:20230415
DTEND;VALUE=DATE:20230422
DTSTAMP:20260421T021856
CREATED:20221102T113106Z
LAST-MODIFIED:20221102T113106Z
UID:1501-1681516800-1682121599@earlymusicdiary.org.uk
SUMMARY:Easter Early Music Course
DESCRIPTION:This popular and highly acclaimed course provides an excellent opportunity for experienced players of viols and recorders to work on early music in a chamber setting.
URL:https://earlymusicdiary.org.uk/event/1501/
LOCATION:Haberdashers’ School\, Monmouth\, NP25 5XT
CATEGORIES:Courses,Instruments
END:VEVENT
BEGIN:VEVENT
DTSTART;VALUE=DATE:20230415
DTEND;VALUE=DATE:20230416
DTSTAMP:20260421T021856
CREATED:20230413T081358Z
LAST-MODIFIED:20230413T084556Z
UID:2521-1681516800-1681603199@earlymusicdiary.org.uk
SUMMARY:Come & Sing Handel's Messiah
DESCRIPTION:Come & Sing Handel’s Messiah with professional orchestra and soloists of Wyatt Sinfonia\, and a chorus made up of community singers.
URL:https://earlymusicdiary.org.uk/event/2521/
LOCATION:St John of Jerusalem Church\, Hackney\, London\, E9 7EY
CATEGORIES:Singers,Workshops
END:VEVENT
BEGIN:VEVENT
DTSTART;VALUE=DATE:20230415
DTEND;VALUE=DATE:20230416
DTSTAMP:20260421T021856
CREATED:20230304T091117Z
LAST-MODIFIED:20230304T091117Z
UID:2297-1681516800-1681603199@earlymusicdiary.org.uk
SUMMARY:TVEMF Byrd Workshop with Bill Hunt
DESCRIPTION:Byrd & the birth of the Consort Anthem a workshop for singers\, viols & soft wind (A=440)\, directed by Bill Hunt of Fretwork.
URL:https://earlymusicdiary.org.uk/event/2297/
LOCATION:St John’s URC\, Northwood\, Hallowell Road\, HA6 1DN
CATEGORIES:Instruments,Singers,Workshops
END:VEVENT
BEGIN:VEVENT
DTSTART;VALUE=DATE:20230415
DTEND;VALUE=DATE:20230416
DTSTAMP:20260421T021856
CREATED:20230211T095118Z
LAST-MODIFIED:20230211T095118Z
UID:2136-1681516800-1681603199@earlymusicdiary.org.uk
SUMMARY:NWEMF Workshop: Gabrieli & Lasso with James Weeks
DESCRIPTION:Majesty and Magnificence: Andrea Gabrieli and Orlando di Lasso. \nFor singers and instruments (A=440). \n 
URL:https://earlymusicdiary.org.uk/event/2136/
LOCATION:Didsbury Baptist Church\, Beaver Rd\, Manchester\, M20 6SX
CATEGORIES:Instruments,Singers,Workshops
END:VEVENT
END:VCALENDAR