BEGIN:VCALENDAR
VERSION:2.0
PRODID:-//Early Music Diary - ECPv6.15.20//NONSGML v1.0//EN
CALSCALE:GREGORIAN
METHOD:PUBLISH
X-ORIGINAL-URL:https://earlymusicdiary.org.uk
X-WR-CALDESC:Events for Early Music Diary
REFRESH-INTERVAL;VALUE=DURATION:PT1H
X-Robots-Tag:noindex
X-PUBLISHED-TTL:PT1H
BEGIN:VTIMEZONE
TZID:Europe/London
BEGIN:DAYLIGHT
TZOFFSETFROM:+0000
TZOFFSETTO:+0100
TZNAME:BST
DTSTART:20220327T010000
END:DAYLIGHT
BEGIN:STANDARD
TZOFFSETFROM:+0100
TZOFFSETTO:+0000
TZNAME:GMT
DTSTART:20221030T010000
END:STANDARD
BEGIN:DAYLIGHT
TZOFFSETFROM:+0000
TZOFFSETTO:+0100
TZNAME:BST
DTSTART:20230326T010000
END:DAYLIGHT
BEGIN:STANDARD
TZOFFSETFROM:+0100
TZOFFSETTO:+0000
TZNAME:GMT
DTSTART:20231029T010000
END:STANDARD
BEGIN:DAYLIGHT
TZOFFSETFROM:+0000
TZOFFSETTO:+0100
TZNAME:BST
DTSTART:20240331T010000
END:DAYLIGHT
BEGIN:STANDARD
TZOFFSETFROM:+0100
TZOFFSETTO:+0000
TZNAME:GMT
DTSTART:20241027T010000
END:STANDARD
END:VTIMEZONE
BEGIN:VEVENT
DTSTART;VALUE=DATE:20230224
DTEND;VALUE=DATE:20230225
DTSTAMP:20260421T033528
CREATED:20221031T091621Z
LAST-MODIFIED:20221031T091707Z
UID:1453-1677196800-1677283199@earlymusicdiary.org.uk
SUMMARY:Come and Sing Messiah
DESCRIPTION:Come and Sing Messiah Tour UK & Ireland\, led by Ben England BEM and Mark Strachan BEM.
URL:https://earlymusicdiary.org.uk/event/1453/
LOCATION:RNCM Concert Hall\, Manchester\, M13 9RD
CATEGORIES:Singers,Workshops
END:VEVENT
BEGIN:VEVENT
DTSTART;VALUE=DATE:20230220
DTEND;VALUE=DATE:20230224
DTSTAMP:20260421T033528
CREATED:20221024T142152Z
LAST-MODIFIED:20221218T122120Z
UID:1406-1676851200-1677196799@earlymusicdiary.org.uk
SUMMARY:Piva – Real Roots!
DESCRIPTION:Discover the world of late 16th century popular traditional music as heard in both court and country. \nThe course is suitable for players of woodwinds\, reed instruments\, historical brass and strings (ancient and modern)\, as well as other instruments such as bagpipes & nyckelharpa.
URL:https://earlymusicdiary.org.uk/event/1406/
LOCATION:Halsway Manor\, Halsway Lane\, Crowcombe\, Taunton\, TA4 4BD
CATEGORIES:Courses,Instruments
END:VEVENT
BEGIN:VEVENT
DTSTART;TZID=Europe/London:20230219T180000
DTEND;TZID=Europe/London:20230219T210000
DTSTAMP:20260421T033528
CREATED:20230206T170600Z
LAST-MODIFIED:20230206T170817Z
UID:2077-1676829600-1676840400@earlymusicdiary.org.uk
SUMMARY:Italian 17th-Century Ornamentation
DESCRIPTION:The course will provide an in-depth exploration of the ornamentation techniques used in 17th-century Italian music\, with an emphasis on how to apply them to the musical pieces of the time.
URL:https://earlymusicdiary.org.uk/event/2077/
LOCATION:Online
CATEGORIES:Instruments,Online,Workshops
END:VEVENT
BEGIN:VEVENT
DTSTART;VALUE=DATE:20230219
DTEND;VALUE=DATE:20230220
DTSTAMP:20260421T033528
CREATED:20230206T172117Z
LAST-MODIFIED:20230206T172117Z
UID:2090-1676764800-1676851199@earlymusicdiary.org.uk
SUMMARY:Come & Sing Choruses by Handel
DESCRIPTION:‘Hallelujah! Get a handle on Handel’ with Choruses from Handel ( 2 well known and 2 less familiar).
URL:https://earlymusicdiary.org.uk/event/2090/
LOCATION:Framlingham College Chapel\, Suffolk\, IP13 9EY
CATEGORIES:Singers,Workshops
END:VEVENT
BEGIN:VEVENT
DTSTART;VALUE=DATE:20230219
DTEND;VALUE=DATE:20230220
DTSTAMP:20260421T033528
CREATED:20230127T092435Z
LAST-MODIFIED:20230201T133057Z
UID:1935-1676764800-1676851199@earlymusicdiary.org.uk
SUMMARY:Come & Sing Handel - Choruses from Alexander’s Feast
DESCRIPTION:Experience the joy of singing Handel under the inspirational leadership of LHF Musical Director Laurence Cummings.  This event focuses on choruses from Alexander’s Feast\, one of Handel’s most thrilling choral works. \nThe event takes place in Handel’s very own parish church in Mayfair and ends with a public performance for family and friends.
URL:https://earlymusicdiary.org.uk/event/1935/
LOCATION:St George’s Hanover Square\, Mayfair\, London\, W1S 1FX
CATEGORIES:Singers,Workshops
END:VEVENT
BEGIN:VEVENT
DTSTART;VALUE=DATE:20230218
DTEND;VALUE=DATE:20230219
DTSTAMP:20260421T033528
CREATED:20220928T073846Z
LAST-MODIFIED:20230211T102223Z
UID:1267-1676678400-1676764799@earlymusicdiary.org.uk
SUMMARY:TVEMF Keble Workshop: Charpentier with Benjamin Nicholas
DESCRIPTION:Sacred Settings by Marc-Antoine Charpentier including his Magnificat H78 and Dixit Dominus H204. In association with Keble Early Music Festival. \nFor voices\, baroque wind\, strings and continuo (A=415).
URL:https://earlymusicdiary.org.uk/event/1267/
LOCATION:Keble College Chapel\, Oxford\, OX1 3PG
CATEGORIES:Instruments,Singers,Workshops
END:VEVENT
BEGIN:VEVENT
DTSTART;VALUE=DATE:20230218
DTEND;VALUE=DATE:20230219
DTSTAMP:20260421T033528
CREATED:20220927T074939Z
LAST-MODIFIED:20230211T101707Z
UID:1252-1676678400-1676764799@earlymusicdiary.org.uk
SUMMARY:SEMF Workshop: Byrd with John Bryan
DESCRIPTION:Byrd and his contemporaries for voices and instruments\, directed by John Bryan.
URL:https://earlymusicdiary.org.uk/event/1252/
LOCATION:Scaynes Hill Village Hall\, Haywards Heath\, RH17 7PG
CATEGORIES:Instruments,Singers,Workshops
END:VEVENT
BEGIN:VEVENT
DTSTART;VALUE=DATE:20230217
DTEND;VALUE=DATE:20230220
DTSTAMP:20260421T033528
CREATED:20221214T174935Z
LAST-MODIFIED:20221214T175012Z
UID:1779-1676592000-1676851199@earlymusicdiary.org.uk
SUMMARY:Viol Consorts with Jane Francis & David Hatcher
DESCRIPTION:This weekend invites players to try their hand at different sized consorts\, working at times from facsimile music on renaissance viol instruments.
URL:https://earlymusicdiary.org.uk/event/1779/
LOCATION:Hawkwood College\, Stroud\, GL6 7QW
CATEGORIES:Courses,Instruments
END:VEVENT
BEGIN:VEVENT
DTSTART;VALUE=DATE:20230217
DTEND;VALUE=DATE:20230220
DTSTAMP:20260421T033528
CREATED:20221129T091015Z
LAST-MODIFIED:20221129T091015Z
UID:1692-1676592000-1676851199@earlymusicdiary.org.uk
SUMMARY:Baroque Style for String Players
DESCRIPTION:An exciting opportunity to learn from Devon Baroque Orchestra’s principal players about creating the unique baroque sound.  Key Repertoire will include a Corelli Concerto Grosso and other baroque favourites.
URL:https://earlymusicdiary.org.uk/event/1692/
LOCATION:Dartington\, Devon\, Totnes\, TQ9 6EL
CATEGORIES:Courses,Instruments
END:VEVENT
BEGIN:VEVENT
DTSTART;TZID=Europe/London:20230211T100000
DTEND;TZID=Europe/London:20230211T170000
DTSTAMP:20260421T033528
CREATED:20221130T174810Z
LAST-MODIFIED:20221130T174829Z
UID:1703-1676109600-1676134800@earlymusicdiary.org.uk
SUMMARY:Striggio Workshop
DESCRIPTION:Workshop on the 40 part motet “Ecce Beatam Lucem”. \n​If interested\, please email Mary Maddison for more information – memaddison@hotmail.co.uk.
URL:https://earlymusicdiary.org.uk/event/1703/
LOCATION:​Hampstead Baptist Church\, Heath Street\, London\, NW3 1DN
CATEGORIES:Workshops
END:VEVENT
BEGIN:VEVENT
DTSTART;TZID=Europe/London:20230211T100000
DTEND;TZID=Europe/London:20230211T130000
DTSTAMP:20260421T033528
CREATED:20230119T121845Z
LAST-MODIFIED:20230119T121845Z
UID:1921-1676109600-1676120400@earlymusicdiary.org.uk
SUMMARY:Come & Sing Handel's Samson
DESCRIPTION:A morning workshop on Handel’s Samson\, led by Harry Bradford\, and accompanied by Colin Spinks.
URL:https://earlymusicdiary.org.uk/event/1921/
LOCATION:Christchurch\, Hitchin\, SG5 1HF
CATEGORIES:Singers,Workshops
END:VEVENT
BEGIN:VEVENT
DTSTART;VALUE=DATE:20230211
DTEND;VALUE=DATE:20230213
DTSTAMP:20260421T033528
CREATED:20220823T103928Z
LAST-MODIFIED:20230131T142441Z
UID:1029-1676073600-1676246399@earlymusicdiary.org.uk
SUMMARY:Dorset Bach Cantata Club - Cantata 4 & Cantata 64
DESCRIPTION:Non-residential study weekend – Sat: pm/evening | Sun: am/pm. Finish about 17:30. \nConductor Tim Brown (Clare College\, Cambridge\, DBCC President). \nEveryone welcome. DBCC sing everything in German. Music available to download from the DBCC website. \n 
URL:https://earlymusicdiary.org.uk/event/1029/
LOCATION:Sturminster Newton High School\, Bath Road\, Sturminster Newton\, DT10 1DT
CATEGORIES:Courses,Singers
END:VEVENT
BEGIN:VEVENT
DTSTART;VALUE=DATE:20230211
DTEND;VALUE=DATE:20230212
DTSTAMP:20260421T033528
CREATED:20230119T114828Z
LAST-MODIFIED:20230206T170051Z
UID:1899-1676073600-1676159999@earlymusicdiary.org.uk
SUMMARY:Come & Sing Music by the Bach Family
DESCRIPTION:This event has been cancelled. \nA workshop focussing on the wonderful music of the Bach family. The Bachs were a large dynasty of hugely talented composers and musicians whose legacy continues to resonate centuries after they were active.
URL:https://earlymusicdiary.org.uk/event/1899/
LOCATION:Quaker Meeting House\, Lancaster\, LA1 1TX
CATEGORIES:Singers,Workshops
END:VEVENT
BEGIN:VEVENT
DTSTART;VALUE=DATE:20230211
DTEND;VALUE=DATE:20230212
DTSTAMP:20260421T033528
CREATED:20221003T162021Z
LAST-MODIFIED:20221129T082633Z
UID:1304-1676073600-1676159999@earlymusicdiary.org.uk
SUMMARY:Come and Sing Byrd with Ben Sawyer
DESCRIPTION:Come and Sing three pieces by the exceptional Elizabethan composer\, William Byrd: Laudibus in Sanctis\, Mass for Four Voices and Ave Maria.
URL:https://earlymusicdiary.org.uk/event/1304/
LOCATION:Christ Church\, Cheltenham\, GL50 2JH
CATEGORIES:Singers,Workshops
END:VEVENT
BEGIN:VEVENT
DTSTART;VALUE=DATE:20230211
DTEND;VALUE=DATE:20230212
DTSTAMP:20260421T033528
CREATED:20220910T084526Z
LAST-MODIFIED:20221221T162235Z
UID:1068-1676073600-1676159999@earlymusicdiary.org.uk
SUMMARY:NEEMF Workshop with Christopher Roberts
DESCRIPTION:My Heart is Inditing – an exploration of settings by Purcell and Handel for singers and instrumentalists (A=440).
URL:https://earlymusicdiary.org.uk/event/1068/
LOCATION:Clements Hall\, York\, Nunthorpe Rd\, York\, YO23 1BW
CATEGORIES:Instruments,Singers,Workshops
END:VEVENT
BEGIN:VEVENT
DTSTART;VALUE=DATE:20230211
DTEND;VALUE=DATE:20230212
DTSTAMP:20260421T033528
CREATED:20230119T115312Z
LAST-MODIFIED:20230119T115430Z
UID:1905-1676073600-1676159999@earlymusicdiary.org.uk
SUMMARY:Come & Sing Vivaldi Gloria
DESCRIPTION:Come & Sing Vivaldi Gloria with Laudamus Chamber Choir.
URL:https://earlymusicdiary.org.uk/event/1905/
LOCATION:Trinity Methodist Church\, Woking\, GU21 4LH
CATEGORIES:Singers,Workshops
END:VEVENT
BEGIN:VEVENT
DTSTART;VALUE=DATE:20230210
DTEND;VALUE=DATE:20230213
DTSTAMP:20260421T033528
CREATED:20220922T161102Z
LAST-MODIFIED:20220922T161102Z
UID:1236-1675987200-1676246399@earlymusicdiary.org.uk
SUMMARY:The City Musick with William Lyons and Richard Thomas
DESCRIPTION:Explore the rich and varied repertoire of musicians from court and city in the late 16th and early 17th centuries\, for wind and brass instruments: cornett\, sackbut\, shawm\, dulcian\, recorder (at 440) and crumhorn.
URL:https://earlymusicdiary.org.uk/event/1236/
LOCATION:Jackdaws Music\, Great Elm\, Frome\, Somerset\, BA11 3NY
CATEGORIES:Courses,Instruments
END:VEVENT
BEGIN:VEVENT
DTSTART;TZID=Europe/London:20230209T183000
DTEND;TZID=Europe/London:20230209T190000
DTSTAMP:20260421T033528
CREATED:20230130T091622Z
LAST-MODIFIED:20230130T091622Z
UID:1973-1675967400-1675969200@earlymusicdiary.org.uk
SUMMARY:Online Choral Workshop – Bach’s St John Passion
DESCRIPTION:Repertoire: JS Bach – St John Passion (sung in German) \nDirector: David Hill
URL:https://earlymusicdiary.org.uk/event/1973/
LOCATION:Online
CATEGORIES:Online,Singers,Workshops
END:VEVENT
BEGIN:VEVENT
DTSTART;TZID=Europe/London:20230208T160000
DTEND;TZID=Europe/London:20230301T170000
DTSTAMP:20260421T033528
CREATED:20230107T180911Z
LAST-MODIFIED:20230206T180415Z
UID:1880-1675872000-1677690000@earlymusicdiary.org.uk
SUMMARY:Facsimile c.1430-44 for Recorder Players
DESCRIPTION:Four 1-hour sessions with Pam Smith on 08/02\, 15/02\, 22/02 & 01/03 at 4-5pm. \nMusic will be from the Egerton Manuscript (MS 3307).  Ideally\, playing from a tablet/computer but pdfs will also be emailed.  You will need a treble and a tenor recorder. \nThis short course is suitable for those with little or no previous experience of playing renaissance facsimile and also for those wishing to play from earlier black notation and get to grips with playing in perfect (three) time.
URL:https://earlymusicdiary.org.uk/event/1880/
LOCATION:Online
CATEGORIES:Courses,Instruments,Online
ORGANIZER;CN="Recorders For All":MAILTO:jan.epps57@gmail.com
END:VEVENT
BEGIN:VEVENT
DTSTART;TZID=Europe/London:20230206T140000
DTEND;TZID=Europe/London:20230206T170000
DTSTAMP:20260421T033528
CREATED:20230201T132100Z
LAST-MODIFIED:20230201T132100Z
UID:2004-1675692000-1675702800@earlymusicdiary.org.uk
SUMMARY:Harpsichord Masterclass with Steven Devine
DESCRIPTION:Join Steven Devine for a public masterclass showcasing the harpsichord.
URL:https://earlymusicdiary.org.uk/event/2004/
LOCATION:Royal Birmingham Conservatoire\, B4 7XR
CATEGORIES:Instruments,Workshops
END:VEVENT
BEGIN:VEVENT
DTSTART;TZID=Europe/London:20230206T100000
DTEND;TZID=Europe/London:20230206T140000
DTSTAMP:20260421T033528
CREATED:20230201T132459Z
LAST-MODIFIED:20230201T132459Z
UID:2008-1675677600-1675692000@earlymusicdiary.org.uk
SUMMARY:An Introduction to Early Keyboard Maintenance with Andrew Wooderson
DESCRIPTION:Learn how to take care of your instrument\, in this practical guide to regulation\, stringing and tuning. Andrew Wooderson is an experienced harpsichord maker\, restorer and repairer.
URL:https://earlymusicdiary.org.uk/event/2008/
LOCATION:Royal Birmingham Conservatoire\, B4 7XR
CATEGORIES:Instruments,Workshops
END:VEVENT
BEGIN:VEVENT
DTSTART;VALUE=DATE:20230206
DTEND;VALUE=DATE:20230210
DTSTAMP:20260421T033528
CREATED:20220916T153017Z
LAST-MODIFIED:20220916T153017Z
UID:1143-1675641600-1675987199@earlymusicdiary.org.uk
SUMMARY:Consorting Viols
DESCRIPTION:Tutors: Alison Crum\, Peter Wendland. \nThree days of viol consort playing in a variety of group sizes and exploring some lesser known repertoire in addition to ‘old favourites’.
URL:https://earlymusicdiary.org.uk/event/1143/
LOCATION:Benslow Music\, Benslow Lane\, Hitchin\, Hertfordshire\, SG4 9RB
CATEGORIES:Courses,Instruments
END:VEVENT
BEGIN:VEVENT
DTSTART;TZID=Europe/London:20230204T100000
DTEND;TZID=Europe/London:20230204T130000
DTSTAMP:20260421T033528
CREATED:20230104T171909Z
LAST-MODIFIED:20230104T171909Z
UID:1866-1675504800-1675515600@earlymusicdiary.org.uk
SUMMARY:Come & Sing Workshop:​ At the Water's Edge
DESCRIPTION:Join Hereford Chamber Choir for a morning of singing\, led by Music Director Simon Harper. A varied a cappella programme on the theme of water\, exploring its natural beauty in partsongs by Elgar and Finzi\, alongside sacred motets by Cardoso and Palestrina conveying the power of water’s life-giving quality and the significance of water and exile.
URL:https://earlymusicdiary.org.uk/event/1866/
LOCATION:Holy Trinity Church\, Hereford\, HR4 0DU
CATEGORIES:Singers,Workshops
END:VEVENT
BEGIN:VEVENT
DTSTART;VALUE=DATE:20230204
DTEND;VALUE=DATE:20230205
DTSTAMP:20260421T033528
CREATED:20230127T111857Z
LAST-MODIFIED:20230127T111857Z
UID:1941-1675468800-1675555199@earlymusicdiary.org.uk
SUMMARY:Come & Sing Vivaldi Gloria
DESCRIPTION:
URL:https://earlymusicdiary.org.uk/event/1941/
LOCATION:St Stephen’s\, Ealing\, London\, W13 8HB
CATEGORIES:Singers,Workshops
END:VEVENT
BEGIN:VEVENT
DTSTART;VALUE=DATE:20230204
DTEND;VALUE=DATE:20230205
DTSTAMP:20260421T033528
CREATED:20230112T130949Z
LAST-MODIFIED:20230112T130949Z
UID:1895-1675468800-1675555199@earlymusicdiary.org.uk
SUMMARY:Come & Sing Coronation Anthems
DESCRIPTION:Handel – Coronation Anthems\, and Parry – I was Glad.
URL:https://earlymusicdiary.org.uk/event/1895/
LOCATION:St Mary’s Church\, Nantwich\, Cheshire\, CW5 5RQ
CATEGORIES:Singers,Workshops
END:VEVENT
BEGIN:VEVENT
DTSTART;VALUE=DATE:20230204
DTEND;VALUE=DATE:20230205
DTSTAMP:20260421T033528
CREATED:20221217T103118Z
LAST-MODIFIED:20221217T103118Z
UID:1794-1675468800-1675555199@earlymusicdiary.org.uk
SUMMARY:Come and Sing Handel Israel in Egypt
DESCRIPTION:
URL:https://earlymusicdiary.org.uk/event/1794/
LOCATION:St Mary at Hill\, Eastcheap\, London\, EC3R 8EE
CATEGORIES:Singers,Workshops
END:VEVENT
BEGIN:VEVENT
DTSTART;VALUE=DATE:20230204
DTEND;VALUE=DATE:20230205
DTSTAMP:20260421T033528
CREATED:20220922T152301Z
LAST-MODIFIED:20230104T170952Z
UID:1217-1675468800-1675555199@earlymusicdiary.org.uk
SUMMARY:EEMF Byrd Workshop for Singers with David Allinson
DESCRIPTION:Choral workshop on William Byrd.
URL:https://earlymusicdiary.org.uk/event/1217/
LOCATION:Storey’s Field Centre\, Cambridge\, CB3 1AA
CATEGORIES:Singers,Workshops
END:VEVENT
BEGIN:VEVENT
DTSTART;VALUE=DATE:20230203
DTEND;VALUE=DATE:20230206
DTSTAMP:20260421T033528
CREATED:20220910T092312Z
LAST-MODIFIED:20220910T092312Z
UID:1085-1675382400-1675641599@earlymusicdiary.org.uk
SUMMARY:Handel: His Life and Music
DESCRIPTION:Handel (1685-1759): one of the greatest masters of the Baroque era in music and one of the supreme composers for the human voice.
URL:https://earlymusicdiary.org.uk/event/1085/
LOCATION:Higham Hall\, Bassenthwaite Lake\, Cockermouth\, Cumbria\, CA13 9SH
CATEGORIES:Courses
END:VEVENT
BEGIN:VEVENT
DTSTART;TZID=Europe/London:20230202T193000
DTEND;TZID=Europe/London:20230202T210000
DTSTAMP:20260421T033528
CREATED:20221012T104042Z
LAST-MODIFIED:20221221T162735Z
UID:1354-1675366200-1675371600@earlymusicdiary.org.uk
SUMMARY:SEMF Zoom Talk with David Allinson
DESCRIPTION:‘Framed to the life of the words’ – tradition and invention in the sacred music of William Byrd.
URL:https://earlymusicdiary.org.uk/event/1354/
LOCATION:Online
CATEGORIES:Online,Talks
END:VEVENT
BEGIN:VEVENT
DTSTART;VALUE=DATE:20230128
DTEND;VALUE=DATE:20230129
DTSTAMP:20260421T033528
CREATED:20230119T120137Z
LAST-MODIFIED:20230119T120137Z
UID:1911-1674864000-1674950399@earlymusicdiary.org.uk
SUMMARY:Come & Sing with Vivace Chorus
DESCRIPTION:Come and sing Handel’s Dixit Dominus\, Pergolesi’s Magnificat and Monteverdi’s Beatus Vir with the Vivace Chorus led by Jeremy Backhouse with Francis Pott at the piano.
URL:https://earlymusicdiary.org.uk/event/1911/
LOCATION:Guildford Baptist Church\, GU2 4BE
CATEGORIES:Singers,Workshops
END:VEVENT
END:VCALENDAR