BEGIN:VCALENDAR
VERSION:2.0
PRODID:-//Early Music Diary - ECPv6.15.20//NONSGML v1.0//EN
CALSCALE:GREGORIAN
METHOD:PUBLISH
X-ORIGINAL-URL:https://earlymusicdiary.org.uk
X-WR-CALDESC:Events for Early Music Diary
REFRESH-INTERVAL;VALUE=DURATION:PT1H
X-Robots-Tag:noindex
X-PUBLISHED-TTL:PT1H
BEGIN:VTIMEZONE
TZID:Europe/London
BEGIN:DAYLIGHT
TZOFFSETFROM:+0000
TZOFFSETTO:+0100
TZNAME:BST
DTSTART:20210328T010000
END:DAYLIGHT
BEGIN:STANDARD
TZOFFSETFROM:+0100
TZOFFSETTO:+0000
TZNAME:GMT
DTSTART:20211031T010000
END:STANDARD
BEGIN:DAYLIGHT
TZOFFSETFROM:+0000
TZOFFSETTO:+0100
TZNAME:BST
DTSTART:20220327T010000
END:DAYLIGHT
BEGIN:STANDARD
TZOFFSETFROM:+0100
TZOFFSETTO:+0000
TZNAME:GMT
DTSTART:20221030T010000
END:STANDARD
BEGIN:DAYLIGHT
TZOFFSETFROM:+0000
TZOFFSETTO:+0100
TZNAME:BST
DTSTART:20230326T010000
END:DAYLIGHT
BEGIN:STANDARD
TZOFFSETFROM:+0100
TZOFFSETTO:+0000
TZNAME:GMT
DTSTART:20231029T010000
END:STANDARD
END:VTIMEZONE
BEGIN:VEVENT
DTSTART;VALUE=DATE:20221112
DTEND;VALUE=DATE:20221113
DTSTAMP:20260421T050336
CREATED:20220725T164820Z
LAST-MODIFIED:20220823T162947Z
UID:173-1668211200-1668297599@earlymusicdiary.org.uk
SUMMARY:NWEMF Workshop with Roger Wilkes
DESCRIPTION:Workshop for Voices and Instruments.
URL:https://earlymusicdiary.org.uk/event/173/
LOCATION:Didsbury Baptist Church\, Beaver Rd\, Manchester\, M20 6SX
CATEGORIES:Instruments,Singers,Workshops
END:VEVENT
BEGIN:VEVENT
DTSTART;VALUE=DATE:20221111
DTEND;VALUE=DATE:20221114
DTSTAMP:20260421T050336
CREATED:20220801T073351Z
LAST-MODIFIED:20220805T162254Z
UID:486-1668124800-1668383999@earlymusicdiary.org.uk
SUMMARY:Recorders at Rydal with Mary Tyers
DESCRIPTION:Upper Intermediate / Advanced Level. \nEnjoy beautiful music and develop your skills in the company of players of a similar ability.
URL:https://earlymusicdiary.org.uk/event/486/
LOCATION:Rydal Hall\, Ambleside\, Cumbria\, LA22 9LX
CATEGORIES:Courses,Instruments
END:VEVENT
BEGIN:VEVENT
DTSTART;VALUE=DATE:20221109
DTEND;VALUE=DATE:20221113
DTSTAMP:20260421T050336
CREATED:20220810T145711Z
LAST-MODIFIED:20220810T145848Z
UID:741-1667952000-1668297599@earlymusicdiary.org.uk
SUMMARY:London International Festival of Early Music 2022
DESCRIPTION:A three-day exhibition with a full programme of workshops\, lecture recitals\, talks and makers’ demonstration recitals\, plus concerts and evensong at St Michael & All Angels Church.
URL:https://earlymusicdiary.org.uk/event/741/
LOCATION:Blackheath Concert Halls\, 23 Lee Road\, London\, SE3 9RQ
CATEGORIES:Festivals,Instruments,Singers,Talks,Workshops
END:VEVENT
BEGIN:VEVENT
DTSTART;VALUE=DATE:20221108
DTEND;VALUE=DATE:20221109
DTSTAMP:20260421T050336
CREATED:20220731T083733Z
LAST-MODIFIED:20220930T155056Z
UID:446-1667865600-1667951999@earlymusicdiary.org.uk
SUMMARY:TVEMF Talk on Dunstaple with Rory McCleery
DESCRIPTION:John Dunstaple – context and contenance – online talk.
URL:https://earlymusicdiary.org.uk/event/446/
LOCATION:Online
CATEGORIES:Online,Talks
END:VEVENT
BEGIN:VEVENT
DTSTART;TZID=Europe/London:20221106T130000
DTEND;TZID=Europe/London:20221106T190000
DTSTAMP:20260421T050336
CREATED:20221015T155156Z
LAST-MODIFIED:20221015T155543Z
UID:1359-1667739600-1667761200@earlymusicdiary.org.uk
SUMMARY:Come and Sing Handel's Messiah
DESCRIPTION:Come and Sing Handel’s Messiah with Great Milton Singers – Directed by Kate Billimore.
URL:https://earlymusicdiary.org.uk/event/1359/
LOCATION:St Mary’s Church\, Great Milton\, OX44 7PD
CATEGORIES:Singers,Workshops
END:VEVENT
BEGIN:VEVENT
DTSTART;VALUE=DATE:20221106
DTEND;VALUE=DATE:20221107
DTSTAMP:20260421T050336
CREATED:20221027T094809Z
LAST-MODIFIED:20221027T094809Z
UID:1435-1667692800-1667779199@earlymusicdiary.org.uk
SUMMARY:Come and Sing Vivaldi Gloria
DESCRIPTION:An afternoon of music making in learning\, rehearsing and performing Vivaldi’s Gloria.
URL:https://earlymusicdiary.org.uk/event/1435/
LOCATION:Ardingly College Chapel\, West Sussex\, RH17 6SQ
CATEGORIES:Singers,Workshops
END:VEVENT
BEGIN:VEVENT
DTSTART;VALUE=DATE:20221105
DTEND;VALUE=DATE:20221106
DTSTAMP:20260421T050336
CREATED:20220727T063403Z
LAST-MODIFIED:20221027T091659Z
UID:171-1667606400-1667692799@earlymusicdiary.org.uk
SUMMARY:Schütz Choral Workshop with David Allinson
DESCRIPTION:Workshop focussing on the full-textured choral music of the Geistlich Chormusik (Op.11)\, published in 1648. The programme\, to commemorate the 350th anniversary of Schütz’s death\, is crowned by the astonishing late setting of the Magnificat\, Meine Seele erhebt den Herren for double choir.
URL:https://earlymusicdiary.org.uk/event/171/
LOCATION:St Catharine’s College Chapel\, Trumpington St\, Cambridge\, CB2 1RL
CATEGORIES:Singers,Workshops
END:VEVENT
BEGIN:VEVENT
DTSTART;VALUE=DATE:20221105
DTEND;VALUE=DATE:20221106
DTSTAMP:20260421T050336
CREATED:20220725T164935Z
LAST-MODIFIED:20220823T162958Z
UID:170-1667606400-1667692799@earlymusicdiary.org.uk
SUMMARY:BMEMF Workshop with David Hatcher
DESCRIPTION:Workshop for Instrumentalists.
URL:https://earlymusicdiary.org.uk/event/170/
LOCATION:Yarpole Parish Hall\, Yarpole\, Leominster\, HR6 0BL
CATEGORIES:Instruments,Workshops
END:VEVENT
BEGIN:VEVENT
DTSTART;VALUE=DATE:20221029
DTEND;VALUE=DATE:20221030
DTSTAMP:20260421T050336
CREATED:20220725T165429Z
LAST-MODIFIED:20221010T161806Z
UID:161-1667001600-1667087999@earlymusicdiary.org.uk
SUMMARY:TVEMF Workshop with Patrick Allies
DESCRIPTION:Workshop for Singers on the Lambeth Choirbook (postponed from 24th September).
URL:https://earlymusicdiary.org.uk/event/161/
LOCATION:St John’s URC\, Northwood\, Hallowell Road\, HA6 1DN
CATEGORIES:Singers,Workshops
END:VEVENT
BEGIN:VEVENT
DTSTART;VALUE=DATE:20221029
DTEND;VALUE=DATE:20221030
DTSTAMP:20260421T050336
CREATED:20220725T163537Z
LAST-MODIFIED:20220823T163329Z
UID:169-1667001600-1667087999@earlymusicdiary.org.uk
SUMMARY:NEEMF Workshop with David Hatcher
DESCRIPTION:A workshop for voices and instruments on the music of Constanzo Porta\, with AGM.
URL:https://earlymusicdiary.org.uk/event/169/
LOCATION:Clements Hall\, York\, Nunthorpe Rd\, York\, YO23 1BW
CATEGORIES:Instruments,Singers,Workshops
END:VEVENT
BEGIN:VEVENT
DTSTART;VALUE=DATE:20221024
DTEND;VALUE=DATE:20221029
DTSTAMP:20260421T050336
CREATED:20220801T075945Z
LAST-MODIFIED:20220801T082956Z
UID:505-1666569600-1667001599@earlymusicdiary.org.uk
SUMMARY:Recorder Making with Tim Cranmore
DESCRIPTION:Over 5 days you will make your own recorder with expert recorder maker Tim Cranmore.
URL:https://earlymusicdiary.org.uk/event/505/
LOCATION:The Champion Workshop\, 6 Lintech Court\, Linton\, Cambridgeshire\, CB21 4XN
CATEGORIES:Courses
END:VEVENT
BEGIN:VEVENT
DTSTART;TZID=Europe/London:20221023T140000
DTEND;TZID=Europe/London:20221023T190000
DTSTAMP:20260421T050336
CREATED:20220919T105340Z
LAST-MODIFIED:20220919T105820Z
UID:1176-1666533600-1666551600@earlymusicdiary.org.uk
SUMMARY:Come and Sing Handel’s Messiah
DESCRIPTION:Sing Handel’s Messiah with orchestra and soloists\, conducted by Lyn Lloyd-Jones.  Optional preliminary rehearsals on Sundays 2nd and 16th October at 7.30pm.
URL:https://earlymusicdiary.org.uk/event/1176/
LOCATION:Victoria Methodist Church\, Bristol\, BS8 1NU
CATEGORIES:Singers,Workshops
END:VEVENT
BEGIN:VEVENT
DTSTART;VALUE=DATE:20221022
DTEND;VALUE=DATE:20221023
DTSTAMP:20260421T050336
CREATED:20221010T162906Z
LAST-MODIFIED:20221010T163323Z
UID:1342-1666396800-1666483199@earlymusicdiary.org.uk
SUMMARY:Viola da Gamba Society Autumn Meeting
DESCRIPTION:Speakers: David Hatcher\, Martin Barnett and Susanna Pell. \nFree admission\, open to all – no need to be a viol player!  You can attend individual sessions or stay for the whole day.
URL:https://earlymusicdiary.org.uk/event/1342/
LOCATION:St Cecilia’s Hall\, Edinburgh\, EH1 1LG
CATEGORIES:Instruments,Workshops
END:VEVENT
BEGIN:VEVENT
DTSTART;VALUE=DATE:20221022
DTEND;VALUE=DATE:20221023
DTSTAMP:20260421T050336
CREATED:20220822T145425Z
LAST-MODIFIED:20220910T085048Z
UID:1008-1666396800-1666483199@earlymusicdiary.org.uk
SUMMARY:MEMF Workshop with Philip Thorby
DESCRIPTION:Songs of Love and Death – the music of Leonhard Lechner Athesinus – workshop for Voices and Instruments.
URL:https://earlymusicdiary.org.uk/event/1008/
LOCATION:Solihull School\, Solihull\, B91 3DJ
CATEGORIES:Instruments,Singers,Workshops
END:VEVENT
BEGIN:VEVENT
DTSTART;TZID=Europe/London:20221021T190000
DTEND;TZID=Europe/London:20221023T153000
DTSTAMP:20260421T050336
CREATED:20220922T141059Z
LAST-MODIFIED:20220922T141059Z
UID:1208-1666378800-1666539000@earlymusicdiary.org.uk
SUMMARY:Lassus Plus: A Late Renaissance Musical Maestro
DESCRIPTION:Masses\, motets\, madrigals; from Lamentations to Lieder\, witty chansons to obscene carnival songs: no Renaissance composer was more prolific or varied than Orlande de Lassus (1532-1594). We contrast his settings with those of others\, composers he definitely met or may have known\, others he could not possibly have encountered.
URL:https://earlymusicdiary.org.uk/event/1208/
LOCATION:Knuston Hall\, Irchester\, Wellingborough\, Northamptonshire\, NN29 7EU
CATEGORIES:Courses,Instruments,Singers
END:VEVENT
BEGIN:VEVENT
DTSTART;TZID=Europe/London:20221016T110000
DTEND;TZID=Europe/London:20221016T170000
DTSTAMP:20260421T050336
CREATED:20220902T082612Z
LAST-MODIFIED:20220902T082612Z
UID:1050-1665918000-1665939600@earlymusicdiary.org.uk
SUMMARY:Evora\, cradle of Portugal's Golden Age
DESCRIPTION:A choral workshop exploring music by Manuel Cardoso\, Felipe de Magalhães and Duarte Lobo\, led by Dr David Allinson.
URL:https://earlymusicdiary.org.uk/event/1050/
LOCATION:Ralli Hall\, Hove\, East Sussex\, BN3 3TH
CATEGORIES:Singers,Workshops
END:VEVENT
BEGIN:VEVENT
DTSTART;TZID=Europe/London:20221015T110000
DTEND;TZID=Europe/London:20221015T180000
DTSTAMP:20260421T050336
CREATED:20220807T073126Z
LAST-MODIFIED:20220807T073126Z
UID:727-1665831600-1665856800@earlymusicdiary.org.uk
SUMMARY:The Recorder: Lecture and Masterclass
DESCRIPTION:A treat for recorder players and early music enthusiasts alike\, in a morning lecture and afternoon masterclass\, led by Francesca Clements.
URL:https://earlymusicdiary.org.uk/event/727/
LOCATION:Snape Maltings Concert Hall\, Snape\, IP17 1SP
CATEGORIES:Instruments,Talks,Workshops
END:VEVENT
BEGIN:VEVENT
DTSTART;TZID=Europe/London:20221015T103000
DTEND;TZID=Europe/London:20221015T170000
DTSTAMP:20260421T050336
CREATED:20220805T160231Z
LAST-MODIFIED:20220805T162339Z
UID:702-1665829800-1665853200@earlymusicdiary.org.uk
SUMMARY:Platinum Singers Bach Club VII
DESCRIPTION:Cantatas BWV 24-26\, Choruses & Chorales only. \nDirector: Scott Inglis-Kidger. \n 
URL:https://earlymusicdiary.org.uk/event/702/
LOCATION:St Mary’s Church\, Battersea\, London\, SW11 3NA
CATEGORIES:Singers,Workshops
END:VEVENT
BEGIN:VEVENT
DTSTART;VALUE=DATE:20221015
DTEND;VALUE=DATE:20221017
DTSTAMP:20260421T050336
CREATED:20220815T090445Z
LAST-MODIFIED:20220816T103911Z
UID:938-1665792000-1665964799@earlymusicdiary.org.uk
SUMMARY:Come and Sing Purcell
DESCRIPTION:A Cherubim choral weekend under the direction of baroque expert Greg Skidmore.  Familiar anthems\, Rejoice in the Lord\, Thou knowest Lord\, choruses from Dido and The Fairy Queen\, and instrumental music\, glees and catches.
URL:https://earlymusicdiary.org.uk/event/938/
LOCATION:Wardour Chapel\, Wiltshire\, SP3 6RR
CATEGORIES:Singers,Workshops
END:VEVENT
BEGIN:VEVENT
DTSTART;VALUE=DATE:20221015
DTEND;VALUE=DATE:20221016
DTSTAMP:20260421T050336
CREATED:20220725T165227Z
LAST-MODIFIED:20220823T163123Z
UID:168-1665792000-1665878399@earlymusicdiary.org.uk
SUMMARY:EEMF Workshop with Philip Thorby
DESCRIPTION:Missa Dominus Regnavit.
URL:https://earlymusicdiary.org.uk/event/168/
LOCATION:St Peter’s by the Waterfront\, Ipswich\, College St\, Ipswich\, IP4 1BF
CATEGORIES:Instruments,Singers,Workshops
END:VEVENT
BEGIN:VEVENT
DTSTART;TZID=Europe/London:20221009T120000
DTEND;TZID=Europe/London:20221009T170000
DTSTAMP:20260421T050336
CREATED:20220811T111315Z
LAST-MODIFIED:20220811T144032Z
UID:763-1665316800-1665334800@earlymusicdiary.org.uk
SUMMARY:Tabea Debus - Recorder Masterclass
DESCRIPTION:Tabea Debus will appear with Elizabeth Kenny (lute) and Jonathan Rees (viola da gamba) to play works from her Ohrwurm programme. \nThere will be a Masterclass at midday with students from the Royal Birmingham Conservatoire\, followed by the concert at 3pm.
URL:https://earlymusicdiary.org.uk/event/763/
LOCATION:Huntingdon Hall\, Crowngate\, Worcester\, WR1 2ES
CATEGORIES:Instruments,Workshops
END:VEVENT
BEGIN:VEVENT
DTSTART;VALUE=DATE:20221009
DTEND;VALUE=DATE:20221010
DTSTAMP:20260421T050336
CREATED:20220725T165248Z
LAST-MODIFIED:20220823T163136Z
UID:167-1665273600-1665359999@earlymusicdiary.org.uk
SUMMARY:SEMF Workshop with Gawain Glenton
DESCRIPTION:Workshop for Voices and Instruments.
URL:https://earlymusicdiary.org.uk/event/167/
LOCATION:Smarden Charter Hall\, Ashford\, Kent\, TN27 8NF
CATEGORIES:Instruments,Singers,Workshops
END:VEVENT
BEGIN:VEVENT
DTSTART;TZID=Europe/London:20221008T140000
DTEND;TZID=Europe/London:20221008T170000
DTSTAMP:20260421T050336
CREATED:20220805T161934Z
LAST-MODIFIED:20220805T161934Z
UID:713-1665237600-1665248400@earlymusicdiary.org.uk
SUMMARY:Petros Singers - Bach B Minor Mass
DESCRIPTION:An afternoon exploring Bach’s B Minor Mass.
URL:https://earlymusicdiary.org.uk/event/713/
LOCATION:St Peter’s Church\, Hammersmith\, Black Lion Lane\, London\, W6 9BE
CATEGORIES:Singers,Workshops
END:VEVENT
BEGIN:VEVENT
DTSTART;VALUE=DATE:20221008
DTEND;VALUE=DATE:20221010
DTSTAMP:20260421T050336
CREATED:20220728T071827Z
LAST-MODIFIED:20220823T104238Z
UID:166-1665187200-1665359999@earlymusicdiary.org.uk
SUMMARY:Dorset Bach Cantata Club
DESCRIPTION:Non-residential study weekend directed by Chris Brown.
URL:https://earlymusicdiary.org.uk/event/166/
LOCATION:Sturminster Newton High School\, Bath Road\, Sturminster Newton\, DT10 1DT
CATEGORIES:Courses,Singers
END:VEVENT
BEGIN:VEVENT
DTSTART;VALUE=DATE:20221008
DTEND;VALUE=DATE:20221009
DTSTAMP:20260421T050336
CREATED:20220725T164904Z
LAST-MODIFIED:20220805T162359Z
UID:165-1665187200-1665273599@earlymusicdiary.org.uk
SUMMARY:SWEMF Chamber Music Playing Day
DESCRIPTION:SWEMF’s Annual Chamber Music Playing Day.
URL:https://earlymusicdiary.org.uk/event/165/
LOCATION:Nailsea Methodist Church\, Nailsea\, BS48 2DS
CATEGORIES:Instruments,Workshops
END:VEVENT
BEGIN:VEVENT
DTSTART;VALUE=DATE:20221007
DTEND;VALUE=DATE:20221010
DTSTAMP:20260421T050336
CREATED:20220801T074500Z
LAST-MODIFIED:20220805T162403Z
UID:498-1665100800-1665359999@earlymusicdiary.org.uk
SUMMARY:Rondo Viol Academy
DESCRIPTION:Intermediate & Upper Intermediate. \nRun by Jacqui Robertson-Wade and Alison Kinder.
URL:https://earlymusicdiary.org.uk/event/498/
LOCATION:High Leigh\, Lord Street\, Hoddesdon\, Hertfordshire\, EN11 8SG
CATEGORIES:Courses,Instruments
END:VEVENT
BEGIN:VEVENT
DTSTART;VALUE=DATE:20221007
DTEND;VALUE=DATE:20221010
DTSTAMP:20260421T050336
CREATED:20220726T070851Z
LAST-MODIFIED:20220805T162414Z
UID:164-1665100800-1665359999@earlymusicdiary.org.uk
SUMMARY:Recorder Weekend with Anna Stegmann
DESCRIPTION:Work with one of the foremost teachers and performers of this instrument\, Anna Stegmann\, to explore the vibrant and varied world of the recorder; solo and consort\, ancient and modern.
URL:https://earlymusicdiary.org.uk/event/164/
LOCATION:Jackdaws Music\, Great Elm\, Frome\, Somerset\, BA11 3NY
CATEGORIES:Courses,Instruments
END:VEVENT
BEGIN:VEVENT
DTSTART;VALUE=DATE:20221007
DTEND;VALUE=DATE:20221010
DTSTAMP:20260421T050336
CREATED:20220726T070742Z
LAST-MODIFIED:20220805T162419Z
UID:163-1665100800-1665359999@earlymusicdiary.org.uk
SUMMARY:Madrigal and Partsongs
DESCRIPTION:An exploration of the riches of secular vocal music from the Renaissance to the 20th century.
URL:https://earlymusicdiary.org.uk/event/163/
LOCATION:Benslow Music\, Benslow Lane\, Hitchin\, Hertfordshire\, SG4 9RB
CATEGORIES:Courses,Singers
END:VEVENT
BEGIN:VEVENT
DTSTART;TZID=Europe/London:20221001T133000
DTEND;TZID=Europe/London:20221001T180000
DTSTAMP:20260421T050336
CREATED:20220919T104738Z
LAST-MODIFIED:20220919T110200Z
UID:1169-1664631000-1664647200@earlymusicdiary.org.uk
SUMMARY:Come and Sing Vivaldi's Gloria
DESCRIPTION:Hilary Campbell will lead the afternoon of music-making featuring the choruses from Vivaldi’s Gloria\, beautiful music from the Baroque era.
URL:https://earlymusicdiary.org.uk/event/1169/
LOCATION:Tyndale Baptist Church\, Whiteladies Road\, Redland\, Bristol\, BS8 2QG
CATEGORIES:Singers,Workshops
END:VEVENT
BEGIN:VEVENT
DTSTART;TZID=Europe/London:20221001T103000
DTEND;TZID=Europe/London:20221001T173000
DTSTAMP:20260421T050336
CREATED:20220805T163236Z
LAST-MODIFIED:20220930T160247Z
UID:719-1664620200-1664645400@earlymusicdiary.org.uk
SUMMARY:Wooburn Singers – Handel’s Coronation Anthems
DESCRIPTION:Come and Sing Handel’s Coronation Anthems.
URL:https://earlymusicdiary.org.uk/event/719/
LOCATION:The Beaconsfield School\, Wattleton Rd.\, Beaconsfield\, HP9 1SJ
CATEGORIES:Singers,Workshops
END:VEVENT
END:VCALENDAR