BEGIN:VCALENDAR
VERSION:2.0
PRODID:-//Early Music Diary - ECPv6.15.20//NONSGML v1.0//EN
CALSCALE:GREGORIAN
METHOD:PUBLISH
X-ORIGINAL-URL:https://earlymusicdiary.org.uk
X-WR-CALDESC:Events for Early Music Diary
REFRESH-INTERVAL;VALUE=DURATION:PT1H
X-Robots-Tag:noindex
X-PUBLISHED-TTL:PT1H
BEGIN:VTIMEZONE
TZID:Europe/London
BEGIN:DAYLIGHT
TZOFFSETFROM:+0000
TZOFFSETTO:+0100
TZNAME:BST
DTSTART:20230326T010000
END:DAYLIGHT
BEGIN:STANDARD
TZOFFSETFROM:+0100
TZOFFSETTO:+0000
TZNAME:GMT
DTSTART:20231029T010000
END:STANDARD
BEGIN:DAYLIGHT
TZOFFSETFROM:+0000
TZOFFSETTO:+0100
TZNAME:BST
DTSTART:20240331T010000
END:DAYLIGHT
BEGIN:STANDARD
TZOFFSETFROM:+0100
TZOFFSETTO:+0000
TZNAME:GMT
DTSTART:20241027T010000
END:STANDARD
BEGIN:DAYLIGHT
TZOFFSETFROM:+0000
TZOFFSETTO:+0100
TZNAME:BST
DTSTART:20250330T010000
END:DAYLIGHT
BEGIN:STANDARD
TZOFFSETFROM:+0100
TZOFFSETTO:+0000
TZNAME:GMT
DTSTART:20251026T010000
END:STANDARD
END:VTIMEZONE
BEGIN:VEVENT
DTSTART;VALUE=DATE:20240727
DTEND;VALUE=DATE:20240811
DTSTAMP:20260420T160828
CREATED:20240327T170556Z
LAST-MODIFIED:20240327T170628Z
UID:3815-1722038400-1723334399@earlymusicdiary.org.uk
SUMMARY:Music Summer School & Festival
DESCRIPTION:The Music Summer School and Festival will feature a range of courses for participants including Choir\, Vocal Ensembles and Chamber Choir\, Opera Scenes\, Improvisation\, Chamber Music\, Baroque Orchestra\, Wind Ensemble\, String Ensemble\, Early Music\, Composition\, Instrumental and Vocal Workshops and Masterclasses and much more.
URL:https://earlymusicdiary.org.uk/event/3815/
LOCATION:Gresham’s School\, Norfolk\, NR25 6EA
CATEGORIES:Courses,Festivals,Instruments,Singers
END:VEVENT
BEGIN:VEVENT
DTSTART;VALUE=DATE:20240728
DTEND;VALUE=DATE:20240805
DTSTAMP:20260420T160828
CREATED:20240213T142950Z
LAST-MODIFIED:20240213T142950Z
UID:3640-1722124800-1722815999@earlymusicdiary.org.uk
SUMMARY:Cambridge Early Music Renaissance Summer School
DESCRIPTION:Daisies\, pearls\, musical mysteries: Margaret of Austria and her famous Flemish scriptorium – music by Pierre de la Rue\, Josquin\, Verdelot and others. \nTutors: Clare Wilkinson (voices and course director)\, Nicholas Todd and Giles Underwood (voices)\, Alison Crum and Susanna Pell (viols).
URL:https://earlymusicdiary.org.uk/event/3640/
LOCATION:Benslow Music\, Benslow Lane\, Hitchin\, Hertfordshire\, SG4 9RB
CATEGORIES:Courses,Instruments,Singers
END:VEVENT
BEGIN:VEVENT
DTSTART;VALUE=DATE:20240803
DTEND;VALUE=DATE:20240811
DTSTAMP:20260420T160828
CREATED:20231213T170404Z
LAST-MODIFIED:20231213T170459Z
UID:3364-1722643200-1723334399@earlymusicdiary.org.uk
SUMMARY:NORVIS Summer School 2024
DESCRIPTION:The 52nd NORVIS summer school – a week-long early music summer school in County Durham.
URL:https://earlymusicdiary.org.uk/event/3364/
LOCATION:Barnard Castle School\, Newgate\, Barnard Castle\, DL12 8UN
CATEGORIES:Courses,Instruments,Singers
END:VEVENT
BEGIN:VEVENT
DTSTART;VALUE=DATE:20240804
DTEND;VALUE=DATE:20240812
DTSTAMP:20260420T160828
CREATED:20240108T154009Z
LAST-MODIFIED:20240108T154022Z
UID:3479-1722729600-1723420799@earlymusicdiary.org.uk
SUMMARY:Assisi Summer School with Rory McCleery
DESCRIPTION:Repertoire includes the Plainchant “Salve Regina”\, and related works by Josquin\, Victoria\, Mouton and Morales.
URL:https://earlymusicdiary.org.uk/event/3479/
LOCATION:Piazza del Comune\, Assisi\, Italy 06081
CATEGORIES:Courses,Singers
END:VEVENT
BEGIN:VEVENT
DTSTART;VALUE=DATE:20240805
DTEND;VALUE=DATE:20240814
DTSTAMP:20260420T160828
CREATED:20240620T110821Z
LAST-MODIFIED:20240620T110952Z
UID:3918-1722816000-1723593599@earlymusicdiary.org.uk
SUMMARY:A Cappella Choir Summer School
DESCRIPTION:This course spans 6 centuries of music\, participants can choose to join for the whole course\, or just the sections that appeal to them. \nFacilitators:  Patrick Allies\, Owain Park & Joseph Fort.
URL:https://earlymusicdiary.org.uk/event/3918/
LOCATION:Hawkwood College\, Stroud\, GL6 7QW
CATEGORIES:Courses,Singers
END:VEVENT
BEGIN:VEVENT
DTSTART;VALUE=DATE:20240809
DTEND;VALUE=DATE:20240812
DTSTAMP:20260420T160828
CREATED:20240327T163212Z
LAST-MODIFIED:20240327T163520Z
UID:3804-1723161600-1723420799@earlymusicdiary.org.uk
SUMMARY:The Language of Renaissance & Baroque Music for Recorder Players
DESCRIPTION:This is a practical course examining the relationship between language and music in the renaissance and baroque.
URL:https://earlymusicdiary.org.uk/event/3804/
LOCATION:Higham Hall\, Bassenthwaite Lake\, Cockermouth\, Cumbria\, CA13 9SH
CATEGORIES:Courses,Instruments
END:VEVENT
BEGIN:VEVENT
DTSTART;VALUE=DATE:20240811
DTEND;VALUE=DATE:20240818
DTSTAMP:20260420T160828
CREATED:20240327T163408Z
LAST-MODIFIED:20240327T163408Z
UID:3806-1723334400-1723939199@earlymusicdiary.org.uk
SUMMARY:Higham Hall Early Music Summer School
DESCRIPTION:For competent singers\, viol and recorder players\, covering music c1450-c1650.  Instruction in choral/solo singing\, viol and recorder playing\, lute\, plus vocal technique and various consorts.
URL:https://earlymusicdiary.org.uk/event/3806/
LOCATION:Higham Hall\, Bassenthwaite Lake\, Cockermouth\, Cumbria\, CA13 9SH
CATEGORIES:Courses,Instruments,Singers
END:VEVENT
BEGIN:VEVENT
DTSTART;VALUE=DATE:20240811
DTEND;VALUE=DATE:20240819
DTSTAMP:20260420T160828
CREATED:20231116T165534Z
LAST-MODIFIED:20231116T165534Z
UID:3241-1723334400-1724025599@earlymusicdiary.org.uk
SUMMARY:Baroque Week - Residential Baroque Music Summer School
DESCRIPTION:The theme for the 2024 course will be “Fairest Isle: A Musical Journey Around the British Isles” although you can play any baroque music of your choice in the chamber music groups. \nBooking opens on 1st December 2023.
URL:https://earlymusicdiary.org.uk/event/3241/
LOCATION:Queen Anne’s School\, Caversham\, Berkshire\, RG4 6DX
CATEGORIES:Courses,Instruments,Singers
END:VEVENT
BEGIN:VEVENT
DTSTART;VALUE=DATE:20240813
DTEND;VALUE=DATE:20240818
DTSTAMP:20260420T160828
CREATED:20240108T161623Z
LAST-MODIFIED:20240108T161623Z
UID:3484-1723507200-1723939199@earlymusicdiary.org.uk
SUMMARY:Lincoln Singing Holiday
DESCRIPTION:Voices from Tudor Lincolnshire: Motets for the Virgin Mary.  This course will be directed by David Allinson and will focus on English choral music of the ‘Golden Age’.
URL:https://earlymusicdiary.org.uk/event/3484/
LOCATION:Lincoln University\, LN6 7TS
CATEGORIES:Courses,Singers
END:VEVENT
BEGIN:VEVENT
DTSTART;VALUE=DATE:20240816
DTEND;VALUE=DATE:20240820
DTSTAMP:20260420T160828
CREATED:20240219T144250Z
LAST-MODIFIED:20240219T144250Z
UID:3670-1723766400-1724111999@earlymusicdiary.org.uk
SUMMARY:Baroque Buffet: A Baroque Orchestra Course on Modern Instruments
DESCRIPTION:A course for those interested in Baroque performance practice using modern instruments\, with three experienced tutors in strings\, wind and keyboard. \nTutors: Julia Bishop\, Sophie Middleditch\, David Pollock
URL:https://earlymusicdiary.org.uk/event/3670/
LOCATION:Benslow Music\, Benslow Lane\, Hitchin\, Hertfordshire\, SG4 9RB
CATEGORIES:Courses,Instruments
END:VEVENT
BEGIN:VEVENT
DTSTART;VALUE=DATE:20240817
DTEND;VALUE=DATE:20240825
DTSTAMP:20260420T160828
CREATED:20240209T110951Z
LAST-MODIFIED:20240209T110951Z
UID:3618-1723852800-1724543999@earlymusicdiary.org.uk
SUMMARY:Irish Recorder and Viol Course
DESCRIPTION:A course designed for players of recorders\, viols and other early instruments\, covering a wide repertoire from ancient to modern.  Sessions include one-to-a-part groups\, workshops\, consort songs\, trio sonatas\, choir\, large and small ensembles.  Tutors: Ibi Aziz\, Pamela Flanagan\, Caoimhe de Paor\, Philip Thorby\, Peter Wendland.
URL:https://earlymusicdiary.org.uk/event/3618/
LOCATION:An Grianán\, Co. Louth\, A92 X9TF
CATEGORIES:Courses,Instruments
END:VEVENT
BEGIN:VEVENT
DTSTART;VALUE=DATE:20240819
DTEND;VALUE=DATE:20240824
DTSTAMP:20260420T160828
CREATED:20240226T144011Z
LAST-MODIFIED:20240226T144011Z
UID:3709-1724025600-1724457599@earlymusicdiary.org.uk
SUMMARY:HISS (Historically Informed Summer School)
DESCRIPTION:International residential summer school for singers and players of early\, traditional & folk music. Opportunities for folk voices/instruments\, singers\, baroque strings\, viols\, lute/theorbo\, reeds/capped wind\, early brass\, recorders\, continuo. Highlights for 2024 include Robert Hollingworth (Guest Tutor) Benevoli Missa Tu Es Petrus\, Carissimi Jephte.
URL:https://earlymusicdiary.org.uk/event/3709/
LOCATION:Bishop Burton College\, York Road\, Bishop Burton\, HU17 8QG
CATEGORIES:Courses,Instruments,Singers
END:VEVENT
BEGIN:VEVENT
DTSTART;VALUE=DATE:20240823
DTEND;VALUE=DATE:20240826
DTSTAMP:20260420T160828
CREATED:20240715T131529Z
LAST-MODIFIED:20240715T131539Z
UID:3935-1724371200-1724630399@earlymusicdiary.org.uk
SUMMARY:Minch Fest 24
DESCRIPTION:Minch Fest showcases beautiful sacred music in its intended setting and gives young singers an experience of singing this rich legacy. Four church services will each feature the music of one composer as it was intended: as an aid to reflection\, prayer and praise. Each includes a congregational hymn. There is also a teatime concert. \nMinch Fest Director Dr Warwick Cole. \nFree Entry\, Donations for restoration of the stained glass windows of the church.
URL:https://earlymusicdiary.org.uk/event/3935/
LOCATION:Holy Trinity\, Minchinhampton\, GL6 9BP
CATEGORIES:Festivals
END:VEVENT
BEGIN:VEVENT
DTSTART;VALUE=DATE:20240830
DTEND;VALUE=DATE:20240902
DTSTAMP:20260420T160828
CREATED:20230406T095646Z
LAST-MODIFIED:20230406T095646Z
UID:2445-1724976000-1725235199@earlymusicdiary.org.uk
SUMMARY:Stylish Baroque with Theresa Caudle & Alastair Ross
DESCRIPTION:A baroque chamber music course at A415.  Theresa (violin) and Alastair (harpsichord)\, bring their wealth of knowledge to encourage and cajole you into stylish performances of repertoire from the early 17th to late 18th centuries.
URL:https://earlymusicdiary.org.uk/event/2445/
LOCATION:Jackdaws Music\, Great Elm\, Frome\, Somerset\, BA11 3NY
CATEGORIES:Courses,Instruments
END:VEVENT
BEGIN:VEVENT
DTSTART;VALUE=DATE:20240906
DTEND;VALUE=DATE:20240909
DTSTAMP:20260420T160828
CREATED:20230406T095746Z
LAST-MODIFIED:20230406T095746Z
UID:2447-1725580800-1725839999@earlymusicdiary.org.uk
SUMMARY:The City Musick with William Lyons and Richard Thomas
DESCRIPTION:Explore the rich and varied repertoire of musicians from court and city in the late 16th and early 17th centuries\, for wind and brass instruments: cornett\, sackbut\, shawm\, dulcian\, recorder (at 440) and crumhorn.
URL:https://earlymusicdiary.org.uk/event/2447/
LOCATION:Jackdaws Music\, Great Elm\, Frome\, Somerset\, BA11 3NY
CATEGORIES:Courses,Instruments
END:VEVENT
BEGIN:VEVENT
DTSTART;VALUE=DATE:20240907
DTEND;VALUE=DATE:20240908
DTSTAMP:20260420T160828
CREATED:20240207T161212Z
LAST-MODIFIED:20240307T172440Z
UID:3616-1725667200-1725753599@earlymusicdiary.org.uk
SUMMARY:TVEMF Workshop: Renaissance Scotland with Rory McCleery
DESCRIPTION:An Auld Alliance – music from Renaissance Scotland.
URL:https://earlymusicdiary.org.uk/event/3616/
LOCATION:St John’s URC\, Northwood\, Hallowell Road\, HA6 1DN
CATEGORIES:Singers,Workshops
END:VEVENT
BEGIN:VEVENT
DTSTART;VALUE=DATE:20240907
DTEND;VALUE=DATE:20240908
DTSTAMP:20260420T160828
CREATED:20240816T084555Z
LAST-MODIFIED:20240816T084555Z
UID:4033-1725667200-1725753599@earlymusicdiary.org.uk
SUMMARY:Medieval Greatest Hits
DESCRIPTION:A workshop for early instrumentalists and singers led by Emily Baines. Participants should be reasonably experienced and will have the option of participating in Emily’s lunchtime concert with Blondel in Brighton on 12 October.  Registration closes on 1 September 2024.
URL:https://earlymusicdiary.org.uk/event/4033/
LOCATION:St John’s Church\, Brighton\, BN1 6RB
CATEGORIES:Instruments,Singers,Workshops
END:VEVENT
BEGIN:VEVENT
DTSTART;VALUE=DATE:20240912
DTEND;VALUE=DATE:20240913
DTSTAMP:20260420T160828
CREATED:20240304T121713Z
LAST-MODIFIED:20240304T121746Z
UID:3740-1726099200-1726185599@earlymusicdiary.org.uk
SUMMARY:Medieval Music in the Dales Study Day
DESCRIPTION:A Study Day focusing on The Feast of Fools\, led by Leah Stuttard\, with back-up from Gill Page.
URL:https://earlymusicdiary.org.uk/event/3740/
LOCATION:Bolton Castle\, Nr Leyburn\, North Yorkshire\, DL8 4ET
CATEGORIES:Singers,Workshops
END:VEVENT
BEGIN:VEVENT
DTSTART;VALUE=DATE:20240912
DTEND;VALUE=DATE:20240916
DTSTAMP:20260420T160828
CREATED:20240219T144405Z
LAST-MODIFIED:20240219T144405Z
UID:3672-1726099200-1726444799@earlymusicdiary.org.uk
SUMMARY:Madrigal and Partsongs
DESCRIPTION:An exploration of the riches of secular vocal music from the Renaissance to the 20th century. \nTutors: James Oldfield\, Simon Gregory
URL:https://earlymusicdiary.org.uk/event/3672/
LOCATION:Benslow Music\, Benslow Lane\, Hitchin\, Hertfordshire\, SG4 9RB
CATEGORIES:Courses,Singers
END:VEVENT
BEGIN:VEVENT
DTSTART;VALUE=DATE:20240913
DTEND;VALUE=DATE:20240916
DTSTAMP:20260420T160828
CREATED:20240304T114405Z
LAST-MODIFIED:20240304T121829Z
UID:3736-1726185600-1726444799@earlymusicdiary.org.uk
SUMMARY:Medieval Music in the Dales Festival
DESCRIPTION:Medieval Music festival\, including concerts\, workshops\, tuition\, and more.
URL:https://earlymusicdiary.org.uk/event/3736/
LOCATION:Bolton Castle\, Nr Leyburn\, North Yorkshire\, DL8 4ET
CATEGORIES:Festivals,Instruments,Singers
END:VEVENT
BEGIN:VEVENT
DTSTART;VALUE=DATE:20240914
DTEND;VALUE=DATE:20240915
DTSTAMP:20260420T160828
CREATED:20240221T111634Z
LAST-MODIFIED:20240705T104134Z
UID:3690-1726272000-1726358399@earlymusicdiary.org.uk
SUMMARY:The Sixteen Choral Workshop: Tewkesbury
DESCRIPTION:The Sixteen Choral Workshops are a rare and rewarding opportunity for keen amateur singers to explore a variety of music inspired by The Sixteen’s own Choral Pilgrimage. \nThis workshop will explore Casulana: Morir non puo ‘I mio core\, and Lassus: Justorum animae.
URL:https://earlymusicdiary.org.uk/event/3690/
LOCATION:Parish Hall\, Tewkesbury Abbey\, GL20 5RZ
CATEGORIES:Singers,Workshops
END:VEVENT
BEGIN:VEVENT
DTSTART;VALUE=DATE:20240914
DTEND;VALUE=DATE:20240915
DTSTAMP:20260420T160828
CREATED:20240311T095418Z
LAST-MODIFIED:20240521T081228Z
UID:3759-1726272000-1726358399@earlymusicdiary.org.uk
SUMMARY:MEMF Workshop for Singers with Anita Datta
DESCRIPTION:Anita Datta gives a fascinating introduction to Catalonian Mateus Fletxa (1481–1553) and the music he is most well known for\, the Ensalades – works for four or five voices.
URL:https://earlymusicdiary.org.uk/event/3759/
LOCATION:St Faith and St Laurence Church\, Harborne\, Birmingham\, B17 8RD
CATEGORIES:Singers,Workshops
END:VEVENT
BEGIN:VEVENT
DTSTART;VALUE=DATE:20240914
DTEND;VALUE=DATE:20240915
DTSTAMP:20260420T160829
CREATED:20240725T145153Z
LAST-MODIFIED:20240725T145153Z
UID:3968-1726272000-1726358399@earlymusicdiary.org.uk
SUMMARY:Come & Sing: The Power & The Passion
DESCRIPTION:Experience the drama and beauty of Tomas Luis de Victoria’s Requiem and Antonio Lotti’s settings of the Crucifixus with Richmond Chamber Choir as part of a Come and Sing day\, led by their new Musical Director\, Alexander Turner.
URL:https://earlymusicdiary.org.uk/event/3968/
LOCATION:Duke Street Baptist Church\, Richmond\, TW9 1DH
CATEGORIES:Singers,Workshops
END:VEVENT
BEGIN:VEVENT
DTSTART;VALUE=DATE:20240914
DTEND;VALUE=DATE:20240915
DTSTAMP:20260420T160829
CREATED:20240813T083816Z
LAST-MODIFIED:20240813T083816Z
UID:3975-1726272000-1726358399@earlymusicdiary.org.uk
SUMMARY:EMFS Choir Meeting
DESCRIPTION:Come and sing Charpentier’s Messe de Minuit and some other ‘surprise’ French Baroque repertoire\, led by Michael Cameron-Longden.
URL:https://earlymusicdiary.org.uk/event/3975/
LOCATION:St Michael & All Saints Church\, Edinburgh\, EH3 9JH
CATEGORIES:Singers,Workshops
END:VEVENT
BEGIN:VEVENT
DTSTART;VALUE=DATE:20240915
DTEND;VALUE=DATE:20240921
DTSTAMP:20260420T160829
CREATED:20240122T143533Z
LAST-MODIFIED:20240122T143552Z
UID:3564-1726358400-1726876799@earlymusicdiary.org.uk
SUMMARY:Voices\, Viols & Recorders Association at Halsway
DESCRIPTION:An un-tutored course for experienced singers and players of early instruments.  Non-fixed ensembles of recorders and viols form the main part of the week with a variety of small singing groups depending on participants.  Evening sessions for all are conducted and include music for instruments and voices.
URL:https://earlymusicdiary.org.uk/event/3564/
LOCATION:Halsway Manor\, Halsway Lane\, Crowcombe\, Taunton\, TA4 4BD
CATEGORIES:Courses,Instruments,Singers
END:VEVENT
BEGIN:VEVENT
DTSTART;VALUE=DATE:20240920
DTEND;VALUE=DATE:20240923
DTSTAMP:20260420T160829
CREATED:20231006T112139Z
LAST-MODIFIED:20231006T112139Z
UID:3158-1726790400-1727049599@earlymusicdiary.org.uk
SUMMARY:Rondo Viol Academy
DESCRIPTION:Elementary\, Lower Intermediate\, Pre-formed Consorts.
URL:https://earlymusicdiary.org.uk/event/3158/
LOCATION:Yarnfield Park\, Stone\, ST15 0NL
CATEGORIES:Courses,Instruments
END:VEVENT
BEGIN:VEVENT
DTSTART;VALUE=DATE:20240920
DTEND;VALUE=DATE:20240923
DTSTAMP:20260420T160829
CREATED:20240326T152415Z
LAST-MODIFIED:20240814T083035Z
UID:3791-1726790400-1727049599@earlymusicdiary.org.uk
SUMMARY:Early Music in the Marches
DESCRIPTION:Friday evening concert and weekend workshop for singers and instrumentalists. \nJulia Bishop and David Hatcher will lead the two day workshop for singers and instrumentalist on music to include Charpentier’s Te Deum.
URL:https://earlymusicdiary.org.uk/event/3791/
LOCATION:Discoed\, Powys\, LD8 2NW
CATEGORIES:Courses,Instruments,Singers
END:VEVENT
BEGIN:VEVENT
DTSTART;VALUE=DATE:20240921
DTEND;VALUE=DATE:20240922
DTSTAMP:20260420T160829
CREATED:20240705T104433Z
LAST-MODIFIED:20240705T104511Z
UID:3930-1726876800-1726963199@earlymusicdiary.org.uk
SUMMARY:The Sixteen Choral Workshop: Blackburn
DESCRIPTION:The Sixteen Choral Workshops are a rare and rewarding opportunity for keen amateur singers to explore a variety of music inspired by The Sixteen’s own Choral Pilgrimage. \nThis workshop will explore Casulana: Morir non puo ‘I mio core\, and Lassus: Justorum animae.
URL:https://earlymusicdiary.org.uk/event/3930/
LOCATION:Blackburn Cathedral\, BB1 5AA
CATEGORIES:Singers,Workshops
END:VEVENT
BEGIN:VEVENT
DTSTART;VALUE=DATE:20240921
DTEND;VALUE=DATE:20240922
DTSTAMP:20260420T160829
CREATED:20240221T111724Z
LAST-MODIFIED:20240221T111724Z
UID:3691-1726876800-1726963199@earlymusicdiary.org.uk
SUMMARY:The Sixteen Choral Workshop: Blackburn
DESCRIPTION:This workshop will explore Casulana: Morir non puo ‘I mio core\, and Lassus: Justorum animae.
URL:https://earlymusicdiary.org.uk/event/3691/
LOCATION:Blackburn Cathedral\, BB1 5AA
CATEGORIES:Singers,Workshops
END:VEVENT
BEGIN:VEVENT
DTSTART;VALUE=DATE:20240921
DTEND;VALUE=DATE:20240922
DTSTAMP:20260420T160829
CREATED:20240715T132433Z
LAST-MODIFIED:20240715T132451Z
UID:3941-1726876800-1726963199@earlymusicdiary.org.uk
SUMMARY:NWEMF Workshop: Palestrina Plus with Peter Syrus
DESCRIPTION:Workshop exploring several settings by Palestrina\, each compared with that of one other sixteenth-century composer.
URL:https://earlymusicdiary.org.uk/event/3941/
LOCATION:Didsbury Baptist Church\, Beaver Rd\, Manchester\, M20 6SX
CATEGORIES:Singers,Workshops
END:VEVENT
END:VCALENDAR