BEGIN:VCALENDAR
VERSION:2.0
PRODID:-//Early Music Diary - ECPv6.15.20//NONSGML v1.0//EN
CALSCALE:GREGORIAN
METHOD:PUBLISH
X-ORIGINAL-URL:https://earlymusicdiary.org.uk
X-WR-CALDESC:Events for Early Music Diary
REFRESH-INTERVAL;VALUE=DURATION:PT1H
X-Robots-Tag:noindex
X-PUBLISHED-TTL:PT1H
BEGIN:VTIMEZONE
TZID:Europe/London
BEGIN:DAYLIGHT
TZOFFSETFROM:+0000
TZOFFSETTO:+0100
TZNAME:BST
DTSTART:20240331T010000
END:DAYLIGHT
BEGIN:STANDARD
TZOFFSETFROM:+0100
TZOFFSETTO:+0000
TZNAME:GMT
DTSTART:20241027T010000
END:STANDARD
BEGIN:DAYLIGHT
TZOFFSETFROM:+0000
TZOFFSETTO:+0100
TZNAME:BST
DTSTART:20250330T010000
END:DAYLIGHT
BEGIN:STANDARD
TZOFFSETFROM:+0100
TZOFFSETTO:+0000
TZNAME:GMT
DTSTART:20251026T010000
END:STANDARD
BEGIN:DAYLIGHT
TZOFFSETFROM:+0000
TZOFFSETTO:+0100
TZNAME:BST
DTSTART:20260329T010000
END:DAYLIGHT
BEGIN:STANDARD
TZOFFSETFROM:+0100
TZOFFSETTO:+0000
TZNAME:GMT
DTSTART:20261025T010000
END:STANDARD
END:VTIMEZONE
BEGIN:VEVENT
DTSTART;VALUE=DATE:20250322
DTEND;VALUE=DATE:20250323
DTSTAMP:20260420T180051
CREATED:20241022T112300Z
LAST-MODIFIED:20250107T143339Z
UID:4195-1742601600-1742687999@earlymusicdiary.org.uk
SUMMARY:SWEMF Workshop: Renaissance Winds with Tim Bayley
DESCRIPTION:The aim of the day is to enjoy the rich and varied sonorities of a Renaissance Wind Band.  Applications welcome from players of Renaissance wind instruments – shawms\, sackbutts\, cornetts\, curtals\, crumhorns\, recorders\, etc.
URL:https://earlymusicdiary.org.uk/event/4195/
LOCATION:Christ Church\, Cheltenham\, GL50 2JH
CATEGORIES:Instruments,Workshops
END:VEVENT
BEGIN:VEVENT
DTSTART;VALUE=DATE:20250316
DTEND;VALUE=DATE:20250317
DTSTAMP:20260420T180051
CREATED:20240624T080256Z
LAST-MODIFIED:20250107T144125Z
UID:3924-1742083200-1742169599@earlymusicdiary.org.uk
SUMMARY:TVEMF Workshop: Stadlmayr with Gawain Glenton
DESCRIPTION:Johann Stadlmayr’s polychoral music for the Habsburg Courts – a workshop for singers and renaissance instruments with Gawain Glenton. \n  \n 
URL:https://earlymusicdiary.org.uk/event/3924/
LOCATION:Chorleywood War Memorial Hall\, WD3 5LN
CATEGORIES:Instruments,Singers,Workshops
END:VEVENT
BEGIN:VEVENT
DTSTART;VALUE=DATE:20250315
DTEND;VALUE=DATE:20250316
DTSTAMP:20260420T180051
CREATED:20250124T151431Z
LAST-MODIFIED:20250124T151431Z
UID:4422-1741996800-1742083199@earlymusicdiary.org.uk
SUMMARY:Platinum Consort Bach Club Workshop
DESCRIPTION:Whether you’re new to singing Bach or a seasoned Bach Club stalwart\, these workshops offer a chance to deepen your appreciation of his genius. Directed by Scott Inglis-Kidger.
URL:https://earlymusicdiary.org.uk/event/4422/
LOCATION:St Mary’s Church\, Battersea\, London\, SW11 3NA
CATEGORIES:Singers,Workshops
END:VEVENT
BEGIN:VEVENT
DTSTART;VALUE=DATE:20250315
DTEND;VALUE=DATE:20250316
DTSTAMP:20260420T180051
CREATED:20241203T115824Z
LAST-MODIFIED:20250129T152900Z
UID:4310-1741996800-1742083199@earlymusicdiary.org.uk
SUMMARY:MEMF Workshop with David Allinson
DESCRIPTION:Hei Mihi\, Domine – Iberian Penitential Motets.  A workshop for voices with David Allinson.
URL:https://earlymusicdiary.org.uk/event/4310/
LOCATION:Collegiate Church of Saint Mary\, Stafford\, Saint Marys Place\, Stafford\, ST16 2AP
CATEGORIES:Singers,Workshops
END:VEVENT
BEGIN:VEVENT
DTSTART;VALUE=DATE:20250315
DTEND;VALUE=DATE:20250316
DTSTAMP:20260420T180051
CREATED:20241002T085551Z
LAST-MODIFIED:20241118T095647Z
UID:4172-1741996800-1742083199@earlymusicdiary.org.uk
SUMMARY:NEEMF Workshop: Henry VIII Manuscript with Richard de Winter
DESCRIPTION:Workshop for singers\, led by Richard de Winter – songs from the Henry VIII manuscript.
URL:https://earlymusicdiary.org.uk/event/4172/
LOCATION:Guiseley Methodist Church\, Leeds\, LS20 9EP
CATEGORIES:Singers,Workshops
END:VEVENT
BEGIN:VEVENT
DTSTART;VALUE=DATE:20250308
DTEND;VALUE=DATE:20250309
DTSTAMP:20260420T180051
CREATED:20250128T152853Z
LAST-MODIFIED:20250128T160120Z
UID:4454-1741392000-1741478399@earlymusicdiary.org.uk
SUMMARY:The Renaissance Singers - Josquin Workshop
DESCRIPTION:This practical workshop\, led by Tim Braithwaite\, explores how Josquin and his contemporary singer-composers actually visualised their music and the compositional techniques they employed in a musical language so very different from our own.
URL:https://earlymusicdiary.org.uk/event/4454/
LOCATION:St Stephen’s\, Rochester Row\, London\, SW1P 1LE
CATEGORIES:Singers,Workshops
END:VEVENT
BEGIN:VEVENT
DTSTART;VALUE=DATE:20250306
DTEND;VALUE=DATE:20250310
DTSTAMP:20260420T180051
CREATED:20241105T111201Z
LAST-MODIFIED:20241105T111201Z
UID:4229-1741219200-1741564799@earlymusicdiary.org.uk
SUMMARY:Benslow Lutefest
DESCRIPTION:Plenty of opportunities to play at all levels of ability. \nTutors: Jacob Heringman\, Lynda Sayce\, Matthew Spring\, Sara Stowe\, Evangelina Mascardi\, Andrea Damiani.
URL:https://earlymusicdiary.org.uk/event/4229/
LOCATION:Benslow Music\, Benslow Lane\, Hitchin\, Hertfordshire\, SG4 9RB
CATEGORIES:Courses,Instruments
END:VEVENT
BEGIN:VEVENT
DTSTART;VALUE=DATE:20250302
DTEND;VALUE=DATE:20250308
DTSTAMP:20260420T180051
CREATED:20240906T135303Z
LAST-MODIFIED:20241213T100523Z
UID:4092-1740873600-1741391999@earlymusicdiary.org.uk
SUMMARY:Morales in Granada 2025
DESCRIPTION:This course\, directed by Gabriel Díaz\, will celebrate the music of Spain’s first great composer.  It will be held in the monastery of San Bernardo\, in the shadow of the Alhambra in Granada’s Albaicín.  The central work is the mass that Morales based on Josquin’s chanson ‘Mille regretz’.
URL:https://earlymusicdiary.org.uk/event/4092/
LOCATION:Monasterio de San Bernardo\, Granada\, Spain 18010
CATEGORIES:Courses,Singers
END:VEVENT
BEGIN:VEVENT
DTSTART;VALUE=DATE:20250301
DTEND;VALUE=DATE:20250302
DTSTAMP:20260420T180051
CREATED:20241203T120831Z
LAST-MODIFIED:20250129T153420Z
UID:4313-1740787200-1740873599@earlymusicdiary.org.uk
SUMMARY:EEMF Workshop: Celano with George Parris
DESCRIPTION:Messa La Luna Piena (The ‘Full Moon’ Mass) in 8 parts by Giuseppe Corsi da Celano.  A workshop for singers and instruments with George Parris.
URL:https://earlymusicdiary.org.uk/event/4313/
LOCATION:Castle Street Methodist Church\, Cambridge\, CB3 0AH
CATEGORIES:Singers,Workshops
END:VEVENT
BEGIN:VEVENT
DTSTART;VALUE=DATE:20250301
DTEND;VALUE=DATE:20250302
DTSTAMP:20260420T180051
CREATED:20240521T080423Z
LAST-MODIFIED:20250109T143808Z
UID:3879-1740787200-1740873599@earlymusicdiary.org.uk
SUMMARY:BMEMF Workshop for Singers: Palestrina with David Allinson
DESCRIPTION:Join David Allinson for a day exploring Palestrina’s music\, in a programme which moves from the majestic to the intimate\, from the contemplative to the joyful\, and which avoids well-worn and obvious pieces.
URL:https://earlymusicdiary.org.uk/event/3879/
LOCATION:The Trinity Centre\, Shrewsbury\, SY3 9HF
CATEGORIES:Singers,Workshops
END:VEVENT
BEGIN:VEVENT
DTSTART;VALUE=DATE:20250228
DTEND;VALUE=DATE:20250303
DTSTAMP:20260420T180051
CREATED:20240327T164737Z
LAST-MODIFIED:20240327T164737Z
UID:3813-1740700800-1740959999@earlymusicdiary.org.uk
SUMMARY:Viol Consorts with members of Fretwork
DESCRIPTION:This course offers viol players the chance to explore consort repertoire from the viol’s Golden Age and to improve their technique along the way.
URL:https://earlymusicdiary.org.uk/event/3813/
LOCATION:Jackdaws Music\, Great Elm\, Frome\, Somerset\, BA11 3NY
CATEGORIES:Courses,Instruments
END:VEVENT
BEGIN:VEVENT
DTSTART;VALUE=DATE:20250224
DTEND;VALUE=DATE:20250227
DTSTAMP:20260420T180052
CREATED:20250128T151812Z
LAST-MODIFIED:20250128T151824Z
UID:4446-1740355200-1740614399@earlymusicdiary.org.uk
SUMMARY:Winter Organ Course 2025
DESCRIPTION:The 2025 winter course will focus on the works of J. Sebastian Bach’s predecessors. \nTutors: Philip Scriven\, Andrew Millington\, Peter Parshall\, Peter Lea-Cox\, Richard Godfrey.
URL:https://earlymusicdiary.org.uk/event/4446/
LOCATION:St Michael’s Church\, Lyme Regis\, Dorset\, DT7 3DB
CATEGORIES:Courses,Instruments
END:VEVENT
BEGIN:VEVENT
DTSTART;VALUE=DATE:20250223
DTEND;VALUE=DATE:20250224
DTSTAMP:20260420T180052
CREATED:20241002T103803Z
LAST-MODIFIED:20250129T165259Z
UID:4178-1740268800-1740355199@earlymusicdiary.org.uk
SUMMARY:SEMF Workshop with Peter Wendland
DESCRIPTION:Workshop for voices and instruments directed by Peter Wendland\, including works by Hassler\, Victoria\, Lassus\, Praetorius\, and Zielenski.
URL:https://earlymusicdiary.org.uk/event/4178/
LOCATION:Headcorn Village Hall\, Kent\, TN27 9NR
CATEGORIES:Instruments,Singers,Workshops
END:VEVENT
BEGIN:VEVENT
DTSTART;TZID=Europe/London:20250222T183000
DTEND;TZID=Europe/London:20250222T203000
DTSTAMP:20260420T180052
CREATED:20240906T110720Z
LAST-MODIFIED:20240906T111112Z
UID:4062-1740249000-1740256200@earlymusicdiary.org.uk
SUMMARY:London Motet & Madrigal Club Meeting
DESCRIPTION:A London-based music club who meet once a month to sing repertoire from the Elizabethan and Jacobean eras from Britain and Europe.
URL:https://earlymusicdiary.org.uk/event/4062/
LOCATION:St Michael’s\, Cornhill\, London\, EC3V 9DS
CATEGORIES:Singers,Workshops
END:VEVENT
BEGIN:VEVENT
DTSTART;VALUE=DATE:20250222
DTEND;VALUE=DATE:20250223
DTSTAMP:20260420T180052
CREATED:20241002T085316Z
LAST-MODIFIED:20250129T150925Z
UID:4170-1740182400-1740268799@earlymusicdiary.org.uk
SUMMARY:NEEMF Workshop: Purcell with Robert Hollingworth
DESCRIPTION:Henry Purcell: King Arthur – A workshop for all voices and orchestral instruments\, led by Robert Hollingworth.
URL:https://earlymusicdiary.org.uk/event/4170/
LOCATION:Clements Hall\, York\, Nunthorpe Rd\, York\, YO23 1BW
CATEGORIES:Instruments,Singers,Workshops
END:VEVENT
BEGIN:VEVENT
DTSTART;VALUE=DATE:20250222
DTEND;VALUE=DATE:20250223
DTSTAMP:20260420T180052
CREATED:20240814T084749Z
LAST-MODIFIED:20250129T111340Z
UID:4015-1740182400-1740268799@earlymusicdiary.org.uk
SUMMARY:TVEMF Workshop: Purcell with Benjamin Nicholas
DESCRIPTION:Purcell choruses from Come ye Sons of Art and Hail bright Cecilia! for singers and baroque orchestra with Benjamin Nicholas\, A=415.
URL:https://earlymusicdiary.org.uk/event/4015/
LOCATION:Keble College Chapel\, Oxford\, OX1 3PG
CATEGORIES:Instruments,Singers,Workshops
END:VEVENT
BEGIN:VEVENT
DTSTART;VALUE=DATE:20250221
DTEND;VALUE=DATE:20250224
DTSTAMP:20260420T180052
CREATED:20250124T151220Z
LAST-MODIFIED:20250124T151514Z
UID:4419-1740096000-1740355199@earlymusicdiary.org.uk
SUMMARY:The Crucifixus Trilogy Chamber Weekender
DESCRIPTION:A trilogy of Crucifixus settings by Antonio Lotti\, plus Lotti’s setting of Ad Dominum cum tribularer\, as well as the Salve Regina by his Venetian forebear\, Francesco Cavalli.  Directed by Scott Inglis-Kidger.
URL:https://earlymusicdiary.org.uk/event/4419/
LOCATION:St Barnabas\, Pimlico\, London\, SW1W 8PF
CATEGORIES:Singers,Workshops
END:VEVENT
BEGIN:VEVENT
DTSTART;VALUE=DATE:20250221
DTEND;VALUE=DATE:20250224
DTSTAMP:20260420T180052
CREATED:20240829T085327Z
LAST-MODIFIED:20241213T100702Z
UID:4044-1740096000-1740355199@earlymusicdiary.org.uk
SUMMARY:17th & 18th Century Chamber Music Workshop
DESCRIPTION:For pre-formed chamber groups (with or without singer) who should bring at least 4 pieces to work on which can be at varying stages of readiness.  Work at 415 or 440Hz\, with availability of one harpsichord playable at either pitch\, plus Higham’s transposable electric pianos. \nTutors: Katharine May and Michael Sanderson.
URL:https://earlymusicdiary.org.uk/event/4044/
LOCATION:Higham Hall\, Bassenthwaite Lake\, Cockermouth\, Cumbria\, CA13 9SH
CATEGORIES:Courses,Instruments
END:VEVENT
BEGIN:VEVENT
DTSTART;TZID=Europe/London:20250220T190000
DTEND;TZID=Europe/London:20250220T210000
DTSTAMP:20260420T180052
CREATED:20250120T113124Z
LAST-MODIFIED:20250120T113230Z
UID:4398-1740078000-1740085200@earlymusicdiary.org.uk
SUMMARY:Improvised Polyphony Workshop with Tim Braithwaite
DESCRIPTION:Drawing on historical visualisation and memorisation techniques\, this session aims to introduce the participant to the basic building blocks of improvised counterpoint. \nThe session is led by Tim Braithwaite\, director of the Cappella Pratensis\, and is open to all\, whether you sing professionally\, for fun\, or simply enjoy listening to early music.
URL:https://earlymusicdiary.org.uk/event/4398/
LOCATION:Holy Trinity\, Rotherhithe\, London\, SE16 5HF
CATEGORIES:Singers,Workshops
END:VEVENT
BEGIN:VEVENT
DTSTART;VALUE=DATE:20250215
DTEND;VALUE=DATE:20250216
DTSTAMP:20260420T180052
CREATED:20250122T153901Z
LAST-MODIFIED:20250122T153901Z
UID:4417-1739577600-1739663999@earlymusicdiary.org.uk
SUMMARY:Monteverdi Vespers Workshop
DESCRIPTION:Enjoy a rewarding day singing this sublime piece with former Music Director of Reading Bach Choir\, JanJoost van Elburg.
URL:https://earlymusicdiary.org.uk/event/4417/
LOCATION:Caversham Heights Methodist Church\, Reading\, RG4 7BG
CATEGORIES:Singers,Workshops
END:VEVENT
BEGIN:VEVENT
DTSTART;VALUE=DATE:20250215
DTEND;VALUE=DATE:20250216
DTSTAMP:20260420T180052
CREATED:20241203T115717Z
LAST-MODIFIED:20250129T152726Z
UID:4308-1739577600-1739663999@earlymusicdiary.org.uk
SUMMARY:MEMF Workshop: Tomkins with Carys Lane
DESCRIPTION:The Music of Thomas Tomkins – from both his madrigal output\, and his sacred output.  A workshop for voices with Carys Lane.
URL:https://earlymusicdiary.org.uk/event/4308/
LOCATION:Coton Centre\, Tamworth\, B79 9AA
CATEGORIES:Singers,Workshops
END:VEVENT
BEGIN:VEVENT
DTSTART;VALUE=DATE:20250215
DTEND;VALUE=DATE:20250216
DTSTAMP:20260420T180052
CREATED:20241028T094334Z
LAST-MODIFIED:20241203T113651Z
UID:4197-1739577600-1739663999@earlymusicdiary.org.uk
SUMMARY:NWEMF Workshop with Laurie Stras
DESCRIPTION:Laurie Stras of Musica Secreta leads this workshop for upper voices\, all viols\, lower pitch recorders and continuo.  The workshop will introduce you to the fascinating record of the musical lives of Florentine nuns at the end of the Renaissance.
URL:https://earlymusicdiary.org.uk/event/4197/
LOCATION:Wilmslow URC\, SK9 1PR
CATEGORIES:Instruments,Singers,Workshops
END:VEVENT
BEGIN:VEVENT
DTSTART;VALUE=DATE:20250214
DTEND;VALUE=DATE:20250218
DTSTAMP:20260420T180052
CREATED:20240829T090859Z
LAST-MODIFIED:20241213T100807Z
UID:4050-1739491200-1739836799@earlymusicdiary.org.uk
SUMMARY:PIVA – Real Roots!
DESCRIPTION:Exploring the world of late 16th-century popular music\, as heard in both court and country.
URL:https://earlymusicdiary.org.uk/event/4050/
LOCATION:Halsway Manor\, Halsway Lane\, Crowcombe\, Taunton\, TA4 4BD
CATEGORIES:Courses,Instruments
END:VEVENT
BEGIN:VEVENT
DTSTART;VALUE=DATE:20250214
DTEND;VALUE=DATE:20250217
DTSTAMP:20260420T180052
CREATED:20240920T083354Z
LAST-MODIFIED:20240920T083354Z
UID:4132-1739491200-1739750399@earlymusicdiary.org.uk
SUMMARY:Rondo Viol Academy
DESCRIPTION:Advanced.
URL:https://earlymusicdiary.org.uk/event/4132/
LOCATION:St. Katharine’s\, Henley-on-Thames\, RG9 6NN
CATEGORIES:Courses,Instruments
END:VEVENT
BEGIN:VEVENT
DTSTART;TZID=Europe/London:20250213T193000
DTEND;TZID=Europe/London:20250213T203000
DTSTAMP:20260420T180052
CREATED:20250107T145427Z
LAST-MODIFIED:20250129T165113Z
UID:4380-1739475000-1739478600@earlymusicdiary.org.uk
SUMMARY:SEMF Talk by Patrick Craig
DESCRIPTION:Palestrina 500 and the glories of Rome. \nIn this Zoom talk Patrick will celebrate the extraordinary life and career of this ever-inspiring composer who made his home in the city that forms the heart of the Catholic Church.
URL:https://earlymusicdiary.org.uk/event/4380/
LOCATION:Online
CATEGORIES:Online,Talks
END:VEVENT
BEGIN:VEVENT
DTSTART;VALUE=DATE:20250208
DTEND;VALUE=DATE:20250210
DTSTAMP:20260420T180052
CREATED:20240815T075410Z
LAST-MODIFIED:20240815T075410Z
UID:4021-1738972800-1739145599@earlymusicdiary.org.uk
SUMMARY:Dorset Bach Cantata Club
DESCRIPTION:Cantata 61 Nun komm’ der Heiden Heiland. \nCantata 182 Himmelskönig\, sei willkommen.
URL:https://earlymusicdiary.org.uk/event/4021/
LOCATION:D’Urberville Centre\, Wool\, BH20 6DL
CATEGORIES:Singers,Workshops
END:VEVENT
BEGIN:VEVENT
DTSTART;VALUE=DATE:20250207
DTEND;VALUE=DATE:20250210
DTSTAMP:20260420T180052
CREATED:20240327T164606Z
LAST-MODIFIED:20240327T164606Z
UID:3811-1738886400-1739145599@earlymusicdiary.org.uk
SUMMARY:The City Musick with William Lyons and Richard Thomas
DESCRIPTION:Explore the rich and varied repertoire of musicians from court and city in the late 16th and early 17th centuries\, for wind and brass instruments: cornett\, sackbut\, shawm\, dulcian\, recorder (at 440) and crumhorn.
URL:https://earlymusicdiary.org.uk/event/3811/
LOCATION:Jackdaws Music\, Great Elm\, Frome\, Somerset\, BA11 3NY
CATEGORIES:Courses,Instruments
END:VEVENT
BEGIN:VEVENT
DTSTART;VALUE=DATE:20250201
DTEND;VALUE=DATE:20250202
DTSTAMP:20260420T180052
CREATED:20241217T123646Z
LAST-MODIFIED:20241217T123646Z
UID:4322-1738368000-1738454399@earlymusicdiary.org.uk
SUMMARY:Open Workshop - Monteverdi Vespers of 1610
DESCRIPTION:Join Twickenham Choral for a workshop on Monteverdi’s Vespers of 1610 in preparation for their concert with His Majesty’s Sagbutts and Cornets.
URL:https://earlymusicdiary.org.uk/event/4322/
LOCATION:St Andrew’s\, Surbiton\, KT6 4DS
CATEGORIES:Singers,Workshops
END:VEVENT
BEGIN:VEVENT
DTSTART;VALUE=DATE:20250201
DTEND;VALUE=DATE:20250202
DTSTAMP:20260420T180052
CREATED:20241022T111333Z
LAST-MODIFIED:20250107T143231Z
UID:4193-1738368000-1738454399@earlymusicdiary.org.uk
SUMMARY:SWEMF Workshop with Ben England
DESCRIPTION:Purcell Rejoice in the Lord Alway and Monteverdi Beatus Vir.  Workshop with Ben England BEM\, for SATB voices and strings.  Pitch will be A=415.
URL:https://earlymusicdiary.org.uk/event/4193/
LOCATION:West Leigh Infant School\, nr Bristol\, Backwell\, BS48 3NG
CATEGORIES:Instruments,Singers,Workshops
END:VEVENT
BEGIN:VEVENT
DTSTART;VALUE=DATE:20250131
DTEND;VALUE=DATE:20250203
DTSTAMP:20260420T180052
CREATED:20240829T085753Z
LAST-MODIFIED:20241213T100739Z
UID:4048-1738281600-1738540799@earlymusicdiary.org.uk
SUMMARY:Recorder Orchestra Weekend 2025
DESCRIPTION:Recorders@Plymouth are back for their annual visit to Halsway Manor\, offering an opportunity to explore the huge diversity of recorder orchestra repertoire.
URL:https://earlymusicdiary.org.uk/event/4048/
LOCATION:Halsway Manor\, Halsway Lane\, Crowcombe\, Taunton\, TA4 4BD
CATEGORIES:Courses,Instruments
END:VEVENT
END:VCALENDAR