BEGIN:VCALENDAR
VERSION:2.0
PRODID:-//Early Music Diary - ECPv6.15.20//NONSGML v1.0//EN
CALSCALE:GREGORIAN
METHOD:PUBLISH
X-ORIGINAL-URL:https://earlymusicdiary.org.uk
X-WR-CALDESC:Events for Early Music Diary
REFRESH-INTERVAL;VALUE=DURATION:PT1H
X-Robots-Tag:noindex
X-PUBLISHED-TTL:PT1H
BEGIN:VTIMEZONE
TZID:Europe/London
BEGIN:DAYLIGHT
TZOFFSETFROM:+0000
TZOFFSETTO:+0100
TZNAME:BST
DTSTART:20230326T010000
END:DAYLIGHT
BEGIN:STANDARD
TZOFFSETFROM:+0100
TZOFFSETTO:+0000
TZNAME:GMT
DTSTART:20231029T010000
END:STANDARD
BEGIN:DAYLIGHT
TZOFFSETFROM:+0000
TZOFFSETTO:+0100
TZNAME:BST
DTSTART:20240331T010000
END:DAYLIGHT
BEGIN:STANDARD
TZOFFSETFROM:+0100
TZOFFSETTO:+0000
TZNAME:GMT
DTSTART:20241027T010000
END:STANDARD
BEGIN:DAYLIGHT
TZOFFSETFROM:+0000
TZOFFSETTO:+0100
TZNAME:BST
DTSTART:20250330T010000
END:DAYLIGHT
BEGIN:STANDARD
TZOFFSETFROM:+0100
TZOFFSETTO:+0000
TZNAME:GMT
DTSTART:20251026T010000
END:STANDARD
BEGIN:DAYLIGHT
TZOFFSETFROM:+0000
TZOFFSETTO:+0100
TZNAME:BST
DTSTART:20260329T010000
END:DAYLIGHT
BEGIN:STANDARD
TZOFFSETFROM:+0100
TZOFFSETTO:+0000
TZNAME:GMT
DTSTART:20261025T010000
END:STANDARD
END:VTIMEZONE
BEGIN:VEVENT
DTSTART;VALUE=DATE:20241116
DTEND;VALUE=DATE:20241117
DTSTAMP:20260420T172637
CREATED:20240122T142859Z
LAST-MODIFIED:20240122T144300Z
UID:3516-1731715200-1731801599@earlymusicdiary.org.uk
SUMMARY:South West Baroque Orchestra Rehearsal
DESCRIPTION:South West Baroque Orchestra is the regional period instrument orchestra in the South West.  Applicants are welcome to play for a rehearsal to try out the experience of baroque playing techniques.
URL:https://earlymusicdiary.org.uk/event/3516/
LOCATION:Culmstock Village Hall\, Devon\, EX15 3HQ
CATEGORIES:Instruments,Workshops
END:VEVENT
BEGIN:VEVENT
DTSTART;VALUE=DATE:20241116
DTEND;VALUE=DATE:20241117
DTSTAMP:20260420T172637
CREATED:20240715T132952Z
LAST-MODIFIED:20240816T084047Z
UID:3948-1731715200-1731801599@earlymusicdiary.org.uk
SUMMARY:NWEMF Workshop: Recorders with Polyphonica
DESCRIPTION:Grace Barton with Polyphonica Recorder Trio will present a workshop for recorder players exploring how to play vocal and instrumental music of Gabrieli and his European contemporaries. \nBooking now open via the link below.
URL:https://earlymusicdiary.org.uk/event/3948/
LOCATION:All Saints\, Chester\, CH2 3HZ
CATEGORIES:Instruments,Workshops
END:VEVENT
BEGIN:VEVENT
DTSTART;VALUE=DATE:20241116
DTEND;VALUE=DATE:20241117
DTSTAMP:20260420T172637
CREATED:20240814T082024Z
LAST-MODIFIED:20240814T082024Z
UID:3996-1731715200-1731801599@earlymusicdiary.org.uk
SUMMARY:NEEMF Workshop: The Borgias with Caius Lee
DESCRIPTION:The Borgias: from sinners to saints. \nJoin Caius Lee\, Director of College Music at Worcester College\, Oxford\, and Director of the Florence International Singing Programme\, for a day exploring the composers associated with this notorious dynasty.
URL:https://earlymusicdiary.org.uk/event/3996/
LOCATION:Summerhill Bowling Club\, Newcastle upon Tyne\, NE4 6EH
CATEGORIES:Singers,Workshops
END:VEVENT
BEGIN:VEVENT
DTSTART;VALUE=DATE:20241116
DTEND;VALUE=DATE:20241117
DTSTAMP:20260420T172637
CREATED:20240923T142017Z
LAST-MODIFIED:20240923T142017Z
UID:4137-1731715200-1731801599@earlymusicdiary.org.uk
SUMMARY:Come & Sing with Stile Antico
DESCRIPTION:During this event\, you will enjoy exploring sumptuous Sevillian motets written in honour of the Virgin Mary\, sacred works written by Mexican composers\, and even music in the Nahuatl language of the Aztec Empire.
URL:https://earlymusicdiary.org.uk/event/4137/
LOCATION:St Clement Danes\, London\, WC2R 1DH
CATEGORIES:Singers,Workshops
END:VEVENT
BEGIN:VEVENT
DTSTART;VALUE=DATE:20241116
DTEND;VALUE=DATE:20241117
DTSTAMP:20260420T172637
CREATED:20241022T110419Z
LAST-MODIFIED:20241022T110419Z
UID:4189-1731715200-1731801599@earlymusicdiary.org.uk
SUMMARY:EEMF Workshop: Convent Music with Laurie Stras
DESCRIPTION:Music and Ritual in a Sixteenth Century Florentine Convent with Laurie Stras. \nA workshop for upper voices with keyboard and/or viol or harp accompaniment.
URL:https://earlymusicdiary.org.uk/event/4189/
LOCATION:Swaffham Prior Village Hall\, Cambridgeshire\, CB25 0LD
CATEGORIES:Instruments,Singers,Workshops
END:VEVENT
BEGIN:VEVENT
DTSTART;VALUE=DATE:20241118
DTEND;VALUE=DATE:20241123
DTSTAMP:20260420T172637
CREATED:20240122T143758Z
LAST-MODIFIED:20240122T143758Z
UID:3567-1731888000-1732319999@earlymusicdiary.org.uk
SUMMARY:Page to Performance: Medieval Music
DESCRIPTION:Come and discover Medieval music with Mary Mohan and Jude Rees.  Delve into the world of Medieval manuscripts\, dance tunes\, beautiful sacred music and more.
URL:https://earlymusicdiary.org.uk/event/3567/
LOCATION:Halsway Manor\, Halsway Lane\, Crowcombe\, Taunton\, TA4 4BD
CATEGORIES:Courses,Instruments
END:VEVENT
BEGIN:VEVENT
DTSTART;VALUE=DATE:20241121
DTEND;VALUE=DATE:20241125
DTSTAMP:20260420T172637
CREATED:20240530T081239Z
LAST-MODIFIED:20240530T081239Z
UID:3914-1732147200-1732492799@earlymusicdiary.org.uk
SUMMARY:Consorting Viols
DESCRIPTION:Tutors: Alison Crum\, John Bryan\, Peter Wendland\, Ibi Aziz. \nThree days of viol consort playing in preformed groups of any level\, studying in depth any music chosen by the group\, coached by members of the Rose Consort of Viols.
URL:https://earlymusicdiary.org.uk/event/3914/
LOCATION:Benslow Music\, Benslow Lane\, Hitchin\, Hertfordshire\, SG4 9RB
CATEGORIES:Courses,Instruments
END:VEVENT
BEGIN:VEVENT
DTSTART;VALUE=DATE:20241123
DTEND;VALUE=DATE:20241124
DTSTAMP:20260420T172637
CREATED:20240311T110728Z
LAST-MODIFIED:20240914T110530Z
UID:3769-1732320000-1732406399@earlymusicdiary.org.uk
SUMMARY:SWEMF Workshop: Robert Parsons with David Allinson
DESCRIPTION:The reputation of Robert Parsons (c.1535–72)\, today rests almost entirely on the honeyed beauty of his Ave Maria\, with its perfect Amen. But his other sacred music is of such high quality\, and so little known\, that it will be a pleasure to explore it.
URL:https://earlymusicdiary.org.uk/event/3769/
LOCATION:St Peter’s Church\, Leckhampton\, Cheltenham\, GL53 0QJ
CATEGORIES:Singers,Workshops
END:VEVENT
BEGIN:VEVENT
DTSTART;VALUE=DATE:20241123
DTEND;VALUE=DATE:20241124
DTSTAMP:20260420T172637
CREATED:20240523T082403Z
LAST-MODIFIED:20241002T104922Z
UID:3890-1732320000-1732406399@earlymusicdiary.org.uk
SUMMARY:TVEMF Workshop for Singers with Angus Smith
DESCRIPTION:Music composed in response to loss 1454-1612\, for singers.
URL:https://earlymusicdiary.org.uk/event/3890/
LOCATION:St Mary’s\, Rickmansworth\, WD3 1JB
CATEGORIES:Singers,Workshops
END:VEVENT
BEGIN:VEVENT
DTSTART;VALUE=DATE:20241124
DTEND;VALUE=DATE:20241125
DTSTAMP:20260420T172637
CREATED:20240409T105505Z
LAST-MODIFIED:20240409T105505Z
UID:3834-1732406400-1732492799@earlymusicdiary.org.uk
SUMMARY:Nidderdale Messiah 2024
DESCRIPTION:A once a year treat for singers to come together to perform Handel’s amazing music & raise money for a local charity. \nThis year’s event will be conducted by Anthony Gray.
URL:https://earlymusicdiary.org.uk/event/3834/
LOCATION:Holy Trinity\, Knaresborough\, HG5 8BQ
CATEGORIES:Singers,Workshops
END:VEVENT
BEGIN:VEVENT
DTSTART;VALUE=DATE:20241129
DTEND;VALUE=DATE:20241130
DTSTAMP:20260420T172637
CREATED:20240327T164431Z
LAST-MODIFIED:20240327T164431Z
UID:3808-1732838400-1732924799@earlymusicdiary.org.uk
SUMMARY:Singing Handel with Jonathan Peter Kenny
DESCRIPTION:Explore and celebrate some of Handel’s wonderful arias with an aficionado of his music.
URL:https://earlymusicdiary.org.uk/event/3808/
LOCATION:Jackdaws Music\, Great Elm\, Frome\, Somerset\, BA11 3NY
CATEGORIES:Courses,Singers
END:VEVENT
BEGIN:VEVENT
DTSTART;VALUE=DATE:20241130
DTEND;VALUE=DATE:20241201
DTSTAMP:20260420T172637
CREATED:20240126T152924Z
LAST-MODIFIED:20241001T091831Z
UID:3590-1732924800-1733011199@earlymusicdiary.org.uk
SUMMARY:BMEMF Workshop: Gibbons & Hooper with Katy Silverman
DESCRIPTION:Repertoire: Gibbons\, Hooper and contemporaries\, for singers.
URL:https://earlymusicdiary.org.uk/event/3590/
LOCATION:The Bridges Centre\, Monmouth\, NP25 5AS
CATEGORIES:Singers,Workshops
END:VEVENT
BEGIN:VEVENT
DTSTART;VALUE=DATE:20241206
DTEND;VALUE=DATE:20241216
DTSTAMP:20260420T172637
CREATED:20240915T105618Z
LAST-MODIFIED:20240915T105618Z
UID:4119-1733443200-1734307199@earlymusicdiary.org.uk
SUMMARY:York Early Music Christmas Festival 2024
DESCRIPTION:A variety of concerts and other events\, including a choral workshop for all presented by Robert Hollingworth\, director of I Fagiolini.
URL:https://earlymusicdiary.org.uk/event/4119/
LOCATION:National Centre for Early Music\, York\, YO1 9TL
CATEGORIES:Singers,Workshops
END:VEVENT
BEGIN:VEVENT
DTSTART;VALUE=DATE:20241207
DTEND;VALUE=DATE:20241208
DTSTAMP:20260420T172637
CREATED:20240122T142915Z
LAST-MODIFIED:20240122T144227Z
UID:3517-1733529600-1733615999@earlymusicdiary.org.uk
SUMMARY:South West Baroque Orchestra Rehearsal
DESCRIPTION:South West Baroque Orchestra is the regional period instrument orchestra in the South West.  Applicants are welcome to play for a rehearsal to try out the experience of baroque playing techniques.
URL:https://earlymusicdiary.org.uk/event/3517/
LOCATION:Culmstock Village Hall\, Devon\, EX15 3HQ
CATEGORIES:Instruments,Workshops
END:VEVENT
BEGIN:VEVENT
DTSTART;TZID=Europe/London:20241207T183000
DTEND;TZID=Europe/London:20241207T203000
DTSTAMP:20260420T172637
CREATED:20240906T110720Z
LAST-MODIFIED:20240906T111047Z
UID:4060-1733596200-1733603400@earlymusicdiary.org.uk
SUMMARY:London Motet & Madrigal Club Meeting
DESCRIPTION:A London-based music club who meet once a month to sing repertoire from the Elizabethan and Jacobean eras from Britain and Europe.
URL:https://earlymusicdiary.org.uk/event/4060/
LOCATION:St Michael’s\, Cornhill\, London\, EC3V 9DS
CATEGORIES:Singers,Workshops
END:VEVENT
BEGIN:VEVENT
DTSTART;VALUE=DATE:20241208
DTEND;VALUE=DATE:20241209
DTSTAMP:20260420T172637
CREATED:20230831T110304Z
LAST-MODIFIED:20241118T122952Z
UID:3039-1733616000-1733702399@earlymusicdiary.org.uk
SUMMARY:TVEMF Christmas Workshop
DESCRIPTION:Lambert de Sayve mass for four choirs\, and some festive music – for voices and instruments.
URL:https://earlymusicdiary.org.uk/event/3039/
LOCATION:Amersham Community Centre\, Chiltern Avenue\, Amersham\, HP6 5AH
CATEGORIES:Instruments,Singers,Workshops
END:VEVENT
BEGIN:VEVENT
DTSTART;VALUE=DATE:20241213
DTEND;VALUE=DATE:20241216
DTSTAMP:20260420T172637
CREATED:20240122T144028Z
LAST-MODIFIED:20240122T144028Z
UID:3569-1734048000-1734307199@earlymusicdiary.org.uk
SUMMARY:Gaudete! Renaissance Music for the Festive Season
DESCRIPTION:William Lyons and Richard Thomas from The City Musick will be heading to Halsway Manor for the very first time\, bringing with them all the joys of the festive season during the Renaissance.
URL:https://earlymusicdiary.org.uk/event/3569/
LOCATION:Halsway Manor\, Halsway Lane\, Crowcombe\, Taunton\, TA4 4BD
CATEGORIES:Courses,Instruments
END:VEVENT
BEGIN:VEVENT
DTSTART;VALUE=DATE:20241213
DTEND;VALUE=DATE:20241216
DTSTAMP:20260420T172637
CREATED:20240829T085513Z
LAST-MODIFIED:20240829T085513Z
UID:4046-1734048000-1734307199@earlymusicdiary.org.uk
SUMMARY:Christmas Music with Owain Park & The Gesualdo Six
DESCRIPTION:For centuries Christmas and the surrounding seasons have inspired composers to new heights of invention. The repertoire chosen for this course will reach across the ages: from the eternal beauty of the Tudor church right up to the twenty-first century.
URL:https://earlymusicdiary.org.uk/event/4046/
LOCATION:Hawkwood College\, Stroud\, GL6 7QW
CATEGORIES:Singers,Workshops
END:VEVENT
BEGIN:VEVENT
DTSTART;VALUE=DATE:20241214
DTEND;VALUE=DATE:20241215
DTSTAMP:20260420T172637
CREATED:20240521T081401Z
LAST-MODIFIED:20241114T102802Z
UID:3888-1734134400-1734220799@earlymusicdiary.org.uk
SUMMARY:MEMF Christmas Workshop with Patrick Craig
DESCRIPTION:This workshop is for any number of voices and all instruments at pitch A=440 – strings\, including viols\, and all wind and brass.  The workshop will include a selection of different pieces for the festive season by the German composer and music theorist Michael Praetorius.
URL:https://earlymusicdiary.org.uk/event/3888/
LOCATION:Dorridge Village Hall\, Solihull\, B93 8QA
CATEGORIES:Instruments,Singers,Workshops
END:VEVENT
BEGIN:VEVENT
DTSTART;VALUE=DATE:20241214
DTEND;VALUE=DATE:20241215
DTSTAMP:20260420T172637
CREATED:20240813T091502Z
LAST-MODIFIED:20240813T091502Z
UID:3987-1734134400-1734220799@earlymusicdiary.org.uk
SUMMARY:EMF Viol Consort Cafe
DESCRIPTION:Viol players of all standards are welcome\, players will work in small groups of similar standard and experience so everyone will be catered for!  Led by Philip Redfern and Vickie Hobson.
URL:https://earlymusicdiary.org.uk/event/3987/
LOCATION:St Catherine’s Argyle Church\, Edinburgh\, EH9 1TY
CATEGORIES:Instruments,Workshops
END:VEVENT
BEGIN:VEVENT
DTSTART;VALUE=DATE:20241214
DTEND;VALUE=DATE:20241215
DTSTAMP:20260420T172637
CREATED:20240814T082550Z
LAST-MODIFIED:20240814T082613Z
UID:3999-1734134400-1734220799@earlymusicdiary.org.uk
SUMMARY:NEEMF Workshop: Medieval Christmas with Trouvere
DESCRIPTION:Five Centuries of a Medieval Christmas: a workshop for all instruments\, led by Paul Leigh and Gill Page of Trouvere. \nThe workshop will look at pieces from the eleventh through to the fifteenth centuries\, including plainchant\, paraliturgical hymns\, secular music and devotional carols from as far afield as France\, Sicily and England.
URL:https://earlymusicdiary.org.uk/event/3999/
LOCATION:Clements Hall\, York\, Nunthorpe Rd\, York\, YO23 1BW
CATEGORIES:Instruments,Workshops
END:VEVENT
BEGIN:VEVENT
DTSTART;TZID=Europe/London:20241219T100000
DTEND;TZID=Europe/London:20241225T103000
DTSTAMP:20260420T172637
CREATED:20241107T121719Z
LAST-MODIFIED:20241107T121853Z
UID:4258-1734602400-1735122600@earlymusicdiary.org.uk
SUMMARY:Pam's Carols 2024
DESCRIPTION:Join Pam Smith on Zoom for half-an-hour every morning on the run-up to Christmas for some beautiful medieval carols. You will need a treble and a tenor recorder (but feel free to play another instrument or sing if you want) and access to Zoom.  Pam will play one part and you can play the other part\, in the privacy of your own home\, on mute.  All music will be sent out as a pdf the previous evening. \nIf you wish to sign up\, please contact Jan at jan.epps57@gmail.com. \nPam is doing this to raise money for Samaritans\, you can access the fundraising page via the following link: https://samaritanscommunity.enthuse.com/pf/pams-carols-22 \n 
URL:https://earlymusicdiary.org.uk/event/4258/
LOCATION:Online
CATEGORIES:Instruments,Online,Singers,Workshops
END:VEVENT
BEGIN:VEVENT
DTSTART;VALUE=DATE:20250106
DTEND;VALUE=DATE:20250110
DTSTAMP:20260420T172637
CREATED:20241105T102410Z
LAST-MODIFIED:20241105T102437Z
UID:4218-1736121600-1736467199@earlymusicdiary.org.uk
SUMMARY:Baroque String Band
DESCRIPTION:Explore the rich repertoire of the 17th-century string band. For baroque instruments at A=415. \nTutors: Judy Tarling\, Rachel Stott\, Kinga Gaborjani.
URL:https://earlymusicdiary.org.uk/event/4218/
LOCATION:Benslow Music\, Benslow Lane\, Hitchin\, Hertfordshire\, SG4 9RB
CATEGORIES:Courses,Instruments,Workshops
END:VEVENT
BEGIN:VEVENT
DTSTART;VALUE=DATE:20250107
DTEND;VALUE=DATE:20250110
DTSTAMP:20260420T172637
CREATED:20240920T083238Z
LAST-MODIFIED:20240920T083238Z
UID:4130-1736208000-1736467199@earlymusicdiary.org.uk
SUMMARY:Rondo Viol Academy
DESCRIPTION:Elementary\, Lower Intermediate\, Pre-formed Consorts.
URL:https://earlymusicdiary.org.uk/event/4130/
LOCATION:St. Katharine’s\, Henley-on-Thames\, RG9 6NN
CATEGORIES:Courses,Instruments
END:VEVENT
BEGIN:VEVENT
DTSTART;VALUE=DATE:20250111
DTEND;VALUE=DATE:20250112
DTSTAMP:20260420T172637
CREATED:20241203T115533Z
LAST-MODIFIED:20250107T140808Z
UID:4305-1736553600-1736639999@earlymusicdiary.org.uk
SUMMARY:MEMF Workshop with Stephanie Dyer
DESCRIPTION:Tribus Miraculis – Music for a Saturday after Epiphany \nThis workshop is for all voices and instruments and Renaissance wind instruments – cornetts curtals\, recorders\, sackbuts and shawms – are particularly welcome.  String players are also warmly invited to participate plus one continuo player\, or others who come with their own instrument.  A=440.
URL:https://earlymusicdiary.org.uk/event/4305/
LOCATION:Solihull Methodist Church\, Blosssomfield Road\, Solihull\, B91 1LG
CATEGORIES:Instruments,Singers,Workshops
END:VEVENT
BEGIN:VEVENT
DTSTART;VALUE=DATE:20250118
DTEND;VALUE=DATE:20250119
DTSTAMP:20260420T172637
CREATED:20241203T121027Z
LAST-MODIFIED:20250107T143023Z
UID:4315-1737158400-1737244799@earlymusicdiary.org.uk
SUMMARY:SWEMF Workshop: Chant with Tony Berridge
DESCRIPTION:Workshop covering Gregorian 4-line and neume notation with Tony Berridge.
URL:https://earlymusicdiary.org.uk/event/4315/
LOCATION:Crewkerne Methodist Church\, TA18 8DB
CATEGORIES:Singers,Workshops
END:VEVENT
BEGIN:VEVENT
DTSTART;TZID=Europe/London:20250118T183000
DTEND;TZID=Europe/London:20250118T203000
DTSTAMP:20260420T172637
CREATED:20240906T110720Z
LAST-MODIFIED:20240906T111059Z
UID:4061-1737225000-1737232200@earlymusicdiary.org.uk
SUMMARY:London Motet & Madrigal Club Meeting
DESCRIPTION:A London-based music club who meet once a month to sing repertoire from the Elizabethan and Jacobean eras from Britain and Europe.
URL:https://earlymusicdiary.org.uk/event/4061/
LOCATION:St Michael’s\, Cornhill\, London\, EC3V 9DS
CATEGORIES:Singers,Workshops
END:VEVENT
BEGIN:VEVENT
DTSTART;VALUE=DATE:20250121
DTEND;VALUE=DATE:20250122
DTSTAMP:20260420T172637
CREATED:20241105T121229Z
LAST-MODIFIED:20241105T121337Z
UID:4242-1737417600-1737503999@earlymusicdiary.org.uk
SUMMARY:Harpsichord Clinic with John Butt
DESCRIPTION:An opportunity to work on a piece of music with an internationally renowned musician in a friendly and supportive environment.
URL:https://earlymusicdiary.org.uk/event/4242/
LOCATION:Handel Hendrix House\, London\, W1K 4HB
CATEGORIES:Instruments,Workshops
END:VEVENT
BEGIN:VEVENT
DTSTART;VALUE=DATE:20250125
DTEND;VALUE=DATE:20250126
DTSTAMP:20260420T172637
CREATED:20240725T144213Z
LAST-MODIFIED:20240725T144230Z
UID:3965-1737763200-1737849599@earlymusicdiary.org.uk
SUMMARY:Bath Bach Choir Choral Workshop: Cantata BWV 75
DESCRIPTION:Come and join members of Bath Bach Choir in singing Bach’s cantata Die Elenden sollen essen (BWV 75)\, under the direction of David Hill\, Musical Director of the Choir.
URL:https://earlymusicdiary.org.uk/event/3965/
LOCATION:St Swithin’s\, Bath\, BA1 5LY
CATEGORIES:Singers,Workshops
END:VEVENT
BEGIN:VEVENT
DTSTART;VALUE=DATE:20250125
DTEND;VALUE=DATE:20250126
DTSTAMP:20260420T172637
CREATED:20241002T085136Z
LAST-MODIFIED:20241203T114152Z
UID:4167-1737763200-1737849599@earlymusicdiary.org.uk
SUMMARY:NEEMF Workshop: Marian Music with David Allinson
DESCRIPTION:With this day of music for voices and instruments\, David Allinson explores some of the sunniest music of the Renaissance: settings of texts such as Regina Cæli and Ave Maria.
URL:https://earlymusicdiary.org.uk/event/4167/
LOCATION:St Francis Church Hall\, Newcastle\, NE7 7QH
CATEGORIES:Instruments,Singers,Workshops
END:VEVENT
END:VCALENDAR