BEGIN:VCALENDAR
VERSION:2.0
PRODID:-//Early Music Diary - ECPv6.15.20//NONSGML v1.0//EN
CALSCALE:GREGORIAN
METHOD:PUBLISH
X-ORIGINAL-URL:https://earlymusicdiary.org.uk
X-WR-CALDESC:Events for Early Music Diary
REFRESH-INTERVAL;VALUE=DURATION:PT1H
X-Robots-Tag:noindex
X-PUBLISHED-TTL:PT1H
BEGIN:VTIMEZONE
TZID:Europe/London
BEGIN:DAYLIGHT
TZOFFSETFROM:+0000
TZOFFSETTO:+0100
TZNAME:BST
DTSTART:20230326T010000
END:DAYLIGHT
BEGIN:STANDARD
TZOFFSETFROM:+0100
TZOFFSETTO:+0000
TZNAME:GMT
DTSTART:20231029T010000
END:STANDARD
BEGIN:DAYLIGHT
TZOFFSETFROM:+0000
TZOFFSETTO:+0100
TZNAME:BST
DTSTART:20240331T010000
END:DAYLIGHT
BEGIN:STANDARD
TZOFFSETFROM:+0100
TZOFFSETTO:+0000
TZNAME:GMT
DTSTART:20241027T010000
END:STANDARD
BEGIN:DAYLIGHT
TZOFFSETFROM:+0000
TZOFFSETTO:+0100
TZNAME:BST
DTSTART:20250330T010000
END:DAYLIGHT
BEGIN:STANDARD
TZOFFSETFROM:+0100
TZOFFSETTO:+0000
TZNAME:GMT
DTSTART:20251026T010000
END:STANDARD
END:VTIMEZONE
BEGIN:VEVENT
DTSTART;VALUE=DATE:20241019
DTEND;VALUE=DATE:20241020
DTSTAMP:20260420T191827
CREATED:20240122T142828Z
LAST-MODIFIED:20240122T144340Z
UID:3515-1729296000-1729382399@earlymusicdiary.org.uk
SUMMARY:South West Baroque Orchestra Rehearsal
DESCRIPTION:South West Baroque Orchestra is the regional period instrument orchestra in the South West.  Applicants are welcome to play for a rehearsal to try out the experience of baroque playing techniques.
URL:https://earlymusicdiary.org.uk/event/3515/
LOCATION:Culmstock Village Hall\, Devon\, EX15 3HQ
CATEGORIES:Instruments,Workshops
END:VEVENT
BEGIN:VEVENT
DTSTART;VALUE=DATE:20241019
DTEND;VALUE=DATE:20241020
DTSTAMP:20260420T191827
CREATED:20240409T133508Z
LAST-MODIFIED:20240409T133520Z
UID:3838-1729296000-1729382399@earlymusicdiary.org.uk
SUMMARY:Come & Sing - Handel Messiah & Oratorio Choruses
DESCRIPTION:Tim Knight will lead you through the day in his inimitable relaxed style showcasing Handel’s Messiah and oratorio choruses. \n 
URL:https://earlymusicdiary.org.uk/event/3838/
LOCATION:Preston Minster\, PR1 3BT
CATEGORIES:Singers,Workshops
END:VEVENT
BEGIN:VEVENT
DTSTART;VALUE=DATE:20241018
DTEND;VALUE=DATE:20241021
DTSTAMP:20260420T191827
CREATED:20240103T170042Z
LAST-MODIFIED:20240103T170603Z
UID:3461-1729209600-1729468799@earlymusicdiary.org.uk
SUMMARY:Chamber Singing Weekend - Viadana: Missa Defunctorum
DESCRIPTION:Sing Ludovico Grossi da Viadana’s Missa Defunctorum with Platinum Consort.
URL:https://earlymusicdiary.org.uk/event/3461/
LOCATION:St Barnabas\, Pimlico\, London\, SW1W 8PF
CATEGORIES:Courses,Singers
END:VEVENT
BEGIN:VEVENT
DTSTART;VALUE=DATE:20241014
DTEND;VALUE=DATE:20241017
DTSTAMP:20260420T191827
CREATED:20240920T083109Z
LAST-MODIFIED:20240920T083109Z
UID:4128-1728864000-1729123199@earlymusicdiary.org.uk
SUMMARY:Rondo Viol Academy
DESCRIPTION:Intermediate and Upper Intermediate.
URL:https://earlymusicdiary.org.uk/event/4128/
LOCATION:St. Katharine’s\, Henley-on-Thames\, RG9 6NN
CATEGORIES:Courses,Instruments
END:VEVENT
BEGIN:VEVENT
DTSTART;VALUE=DATE:20241012
DTEND;VALUE=DATE:20241014
DTSTAMP:20260420T191827
CREATED:20240327T161953Z
LAST-MODIFIED:20240815T075735Z
UID:3798-1728691200-1728863999@earlymusicdiary.org.uk
SUMMARY:Dorset Bach Cantata Club
DESCRIPTION:Cantata 29 Wir danken dir\, Gott. \nCantata 63 Christen\, ätzet diesen Tag. \n​
URL:https://earlymusicdiary.org.uk/event/3798/
LOCATION:Sturminster Newton High School\, Bath Road\, Sturminster Newton\, DT10 1DT
CATEGORIES:Singers,Workshops
END:VEVENT
BEGIN:VEVENT
DTSTART;VALUE=DATE:20241012
DTEND;VALUE=DATE:20241013
DTSTAMP:20260420T191827
CREATED:20240925T110540Z
LAST-MODIFIED:20240925T110540Z
UID:4146-1728691200-1728777599@earlymusicdiary.org.uk
SUMMARY:Come & Sing Purcell with James Weeks
DESCRIPTION:James Weeks leads an inspiring day exploring the brilliant\, varied and stunningly expressive church music of Henry Purcell.  This special workshop takes place in the magnificent Chapter House of Durham Cathedral\, and culminates in a unique opportunity to for participants to sing one of the workshop pieces as an Introit at the cathedral’s service of Evensong that evening.
URL:https://earlymusicdiary.org.uk/event/4146/
LOCATION:Durham Cathedral\, DH1 3EH
CATEGORIES:Singers,Workshops
END:VEVENT
BEGIN:VEVENT
DTSTART;VALUE=DATE:20241012
DTEND;VALUE=DATE:20241013
DTSTAMP:20260420T191827
CREATED:20240915T104758Z
LAST-MODIFIED:20240915T104758Z
UID:4114-1728691200-1728777599@earlymusicdiary.org.uk
SUMMARY:Bach Cantata Workshop: BWV 80 &106
DESCRIPTION:An opportunity to work on a couple of the church cantatas of J.S.Bach\, “Ein Feste Burg” and “Gottes Zeit ist die allerbeste Zeit”\, with conductor Duncan Lord and accompanist Kevin Bull.
URL:https://earlymusicdiary.org.uk/event/4114/
LOCATION:St George’s\, Folkestone\, CT20 3QA
CATEGORIES:Singers,Workshops
END:VEVENT
BEGIN:VEVENT
DTSTART;VALUE=DATE:20241012
DTEND;VALUE=DATE:20241013
DTSTAMP:20260420T191827
CREATED:20240814T083528Z
LAST-MODIFIED:20240918T142627Z
UID:4008-1728691200-1728777599@earlymusicdiary.org.uk
SUMMARY:MEMF Workshop: Purcell with Simon Harper
DESCRIPTION:This is a workshop for singers and one keyboard player\, exploring some of the sacred anthems by Henry Purcell\, regarded as one of England’s greatest composers of the Baroque period.
URL:https://earlymusicdiary.org.uk/event/4008/
LOCATION:Angel Centre\, Worcester\, WR1 3QN
CATEGORIES:Singers,Workshops
END:VEVENT
BEGIN:VEVENT
DTSTART;VALUE=DATE:20241012
DTEND;VALUE=DATE:20241013
DTSTAMP:20260420T191827
CREATED:20240813T092636Z
LAST-MODIFIED:20240813T092857Z
UID:3992-1728691200-1728777599@earlymusicdiary.org.uk
SUMMARY:Come & Sing Vivaldi's Gloria\, with James Ross
DESCRIPTION:Come and Sing Vivaldi’s Gloria\, led by James Ross with a stellar line-up of vocal and wind soloists.
URL:https://earlymusicdiary.org.uk/event/3992/
LOCATION:Inverness Cathedral\, IV3 5NN
CATEGORIES:Singers,Workshops
END:VEVENT
BEGIN:VEVENT
DTSTART;VALUE=DATE:20241012
DTEND;VALUE=DATE:20241013
DTSTAMP:20260420T191827
CREATED:20240813T083329Z
LAST-MODIFIED:20240813T083329Z
UID:3972-1728691200-1728777599@earlymusicdiary.org.uk
SUMMARY:Monteverdi Vespers with Paul McCreesh
DESCRIPTION:Monteverdi Vespers workshop\, organised by Petros Singers; led by Paul McCreesh\, with the Gabrieli Consort and Players. \n 
URL:https://earlymusicdiary.org.uk/event/3972/
LOCATION:St Peter’s Church\, Hammersmith\, Black Lion Lane\, London\, W6 9BE
CATEGORIES:Singers,Workshops
END:VEVENT
BEGIN:VEVENT
DTSTART;VALUE=DATE:20241012
DTEND;VALUE=DATE:20241013
DTSTAMP:20260420T191827
CREATED:20240705T104743Z
LAST-MODIFIED:20240705T104743Z
UID:3932-1728691200-1728777599@earlymusicdiary.org.uk
SUMMARY:The Sixteen Choral Workshop: Exeter
DESCRIPTION:The Sixteen Choral Workshops are a rare and rewarding opportunity for keen amateur singers to explore a variety of music inspired by The Sixteen’s own Choral Pilgrimage. \nThis workshop will explore Casulana: Morir non puo ‘I mio core\, and Lassus: Justorum animae.
URL:https://earlymusicdiary.org.uk/event/3932/
LOCATION:The Hall\, Exeter\, EX1 1BD
CATEGORIES:Singers,Workshops
END:VEVENT
BEGIN:VEVENT
DTSTART;VALUE=DATE:20241012
DTEND;VALUE=DATE:20241013
DTSTAMP:20260420T191827
CREATED:20240103T165217Z
LAST-MODIFIED:20240103T165217Z
UID:3459-1728691200-1728777599@earlymusicdiary.org.uk
SUMMARY:Bach Club - Cantatas BWV 45 & 46
DESCRIPTION:Choral workshop – choruses & chorales only.
URL:https://earlymusicdiary.org.uk/event/3459/
LOCATION:St Mary’s Church\, Battersea\, London\, SW11 3NA
CATEGORIES:Singers,Workshops
END:VEVENT
BEGIN:VEVENT
DTSTART;VALUE=DATE:20241011
DTEND;VALUE=DATE:20241028
DTSTAMP:20260420T191827
CREATED:20240409T095137Z
LAST-MODIFIED:20240409T095149Z
UID:3825-1728604800-1730073599@earlymusicdiary.org.uk
SUMMARY:Brighton Early Music Festival
DESCRIPTION:Workshops and Performances with the theme “Connections”.
URL:https://earlymusicdiary.org.uk/event/3825/
LOCATION:Brighton\, BN1
CATEGORIES:Festivals,Instruments,Singers,Workshops
END:VEVENT
BEGIN:VEVENT
DTSTART;VALUE=DATE:20241009
DTEND;VALUE=DATE:20241121
DTSTAMP:20260420T191827
CREATED:20240915T104347Z
LAST-MODIFIED:20240915T104347Z
UID:4112-1728432000-1732147199@earlymusicdiary.org.uk
SUMMARY:Around Sound: The Evolution Of Classical Music
DESCRIPTION:Join award-winning educator Ben England for a six-part online lecture series\, exploring the history and development of Classical Music.
URL:https://earlymusicdiary.org.uk/event/4112/
LOCATION:Online
CATEGORIES:Online,Workshops
END:VEVENT
BEGIN:VEVENT
DTSTART;VALUE=DATE:20241006
DTEND;VALUE=DATE:20241007
DTSTAMP:20260420T191827
CREATED:20240816T084821Z
LAST-MODIFIED:20240816T084843Z
UID:4038-1728172800-1728259199@earlymusicdiary.org.uk
SUMMARY:Choral workshop for all on Vivaldi's Gloria
DESCRIPTION:A workshop open to all\, including families.  Discover the joys of singing this highly accessible music. No experience needed.  Led by Christopher Monks of the Armonico Consort.  Registration closes on 29 September 2024.
URL:https://earlymusicdiary.org.uk/event/4038/
LOCATION:The Dance Space\, Brighton\, BN2 9AS
CATEGORIES:Singers,Workshops
END:VEVENT
BEGIN:VEVENT
DTSTART;VALUE=DATE:20241006
DTEND;VALUE=DATE:20241007
DTSTAMP:20260420T191827
CREATED:20240508T110914Z
LAST-MODIFIED:20240508T110914Z
UID:3873-1728172800-1728259199@earlymusicdiary.org.uk
SUMMARY:TVEMF Workshop: 15th Century Popular Songs with Leah Stuttard
DESCRIPTION:A workshop exploring the rich creative seam of the century’s most beloved songs – for voices and plucked strings.
URL:https://earlymusicdiary.org.uk/event/3873/
LOCATION:Little Chalfont Village Hall\, Amersham\, HP8 4UD
CATEGORIES:Instruments,Singers,Workshops
END:VEVENT
BEGIN:VEVENT
DTSTART;VALUE=DATE:20241005
DTEND;VALUE=DATE:20241006
DTSTAMP:20260420T191827
CREATED:20240523T090525Z
LAST-MODIFIED:20240523T090611Z
UID:3895-1728086400-1728172799@earlymusicdiary.org.uk
SUMMARY:Come & Sing JS Bach’s Christmas Oratorio
DESCRIPTION:Spend a day with the English Baroque Choir and Harry Bradford to explore one of Bach’s greatest works.
URL:https://earlymusicdiary.org.uk/event/3895/
LOCATION:St Cyprian’s\, Marylebone\, NW1 6AX
CATEGORIES:Singers,Workshops
END:VEVENT
BEGIN:VEVENT
DTSTART;VALUE=DATE:20241005
DTEND;VALUE=DATE:20241006
DTSTAMP:20260420T191827
CREATED:20240311T110626Z
LAST-MODIFIED:20240725T143510Z
UID:3767-1728086400-1728172799@earlymusicdiary.org.uk
SUMMARY:SWEMF Workshop with Philip Thorby
DESCRIPTION:Workshop for Voices and Instruments\, details TBC. \n[Note that this workshop was originally planned for 12th October\, now taking place on 5th October]. \n 
URL:https://earlymusicdiary.org.uk/event/3767/
LOCATION:St Thomas Church\, Thorverton\, EX5 5NU
CATEGORIES:Instruments,Singers,Workshops
END:VEVENT
BEGIN:VEVENT
DTSTART;VALUE=DATE:20241005
DTEND;VALUE=DATE:20241006
DTSTAMP:20260420T191827
CREATED:20240126T152731Z
LAST-MODIFIED:20240530T080257Z
UID:3588-1728086400-1728172799@earlymusicdiary.org.uk
SUMMARY:BMEMF Workshop: Canzonas with Alison Kinder
DESCRIPTION:Italian Renaissance Instrumental Canzonas\, for instrumentalists.
URL:https://earlymusicdiary.org.uk/event/3588/
LOCATION:Yarpole Parish Hall\, Yarpole\, Leominster\, HR6 0BL
CATEGORIES:Instruments,Workshops
END:VEVENT
BEGIN:VEVENT
DTSTART;TZID=Europe/London:20241004T180000
DTEND;TZID=Europe/London:20241230T200000
DTSTAMP:20260420T191827
CREATED:20240628T190037Z
LAST-MODIFIED:20231130T083517Z
UID:3298-1728064800-1735588800@earlymusicdiary.org.uk
SUMMARY:Online Early Music Forum
DESCRIPTION:Every Monday and Friday\, In your own home\, online with Jamulus software (https://jamulus.io). \nOEMF began just before lockdown\, as the COVID19 pandemic was gathering momentum\, and has continued ever since. In addition to the usual equipment (your voice and your musical talent)\, you will need a computer with Jamulus software (https://jamulus.io). Turn off Wi-Fi (please read the excellent Jamulus documentation) and connect to the internet with an ethernet cable. Turn off speakers and Bluetooth and connect an audio interface with microphone and headphones. (There is a list of suggested equiment in the documentation.) Run Jamulus and ‘Connect’ to OEMF (Genre: Classical / Folk). Introduce yourself and join in. See you there!
URL:https://earlymusicdiary.org.uk/event/3298/
LOCATION:Online
CATEGORIES:Online,Singers,Workshops
END:VEVENT
BEGIN:VEVENT
DTSTART;VALUE=DATE:20241004
DTEND;VALUE=DATE:20241007
DTSTAMP:20260420T191827
CREATED:20240915T113239Z
LAST-MODIFIED:20240915T113331Z
UID:4123-1728000000-1728259199@earlymusicdiary.org.uk
SUMMARY:Charles Burney Early Music Festival
DESCRIPTION:The Charles Burney Early Music Festival returns for a third year to celebrate the life of one of King’s Lynn’s most distinguished residents.  Events include chamber concerts\, a talk and a walk\, enabling audiences to find out more about this renowned music historian and his family.
URL:https://earlymusicdiary.org.uk/event/4123/
CATEGORIES:Festivals,Talks
END:VEVENT
BEGIN:VEVENT
DTSTART;VALUE=DATE:20241002
DTEND;VALUE=DATE:20241007
DTSTAMP:20260420T191827
CREATED:20240108T154406Z
LAST-MODIFIED:20240108T154406Z
UID:3482-1727827200-1728259199@earlymusicdiary.org.uk
SUMMARY:The Glory of Venice Singing Holiday with Andrea Brown
DESCRIPTION:A chance to sing glorious Italian choral music in a splendid church overlooking the canals of Venice.  Programme includes works by Monteverdi\, Rovetta\, Grandi\, Cavalli and Lotti.
URL:https://earlymusicdiary.org.uk/event/3482/
LOCATION:San Trovaso Church\, Venice\, Italy 30123
CATEGORIES:Courses,Singers
END:VEVENT
BEGIN:VEVENT
DTSTART;VALUE=DATE:20240930
DTEND;VALUE=DATE:20241005
DTSTAMP:20260420T191827
CREATED:20240326T152604Z
LAST-MODIFIED:20240814T082813Z
UID:3793-1727654400-1728086399@earlymusicdiary.org.uk
SUMMARY:Linarol Consort Course for Renaissance Viols and Recorders
DESCRIPTION:For experienced viol players with an interest on improving their technique on Renaissance instruments and in reading from facsimile.
URL:https://earlymusicdiary.org.uk/event/3793/
LOCATION:Holland House\, nr Pershore\, WR10 3NB
CATEGORIES:Courses,Instruments
END:VEVENT
BEGIN:VEVENT
DTSTART;VALUE=DATE:20240929
DTEND;VALUE=DATE:20240930
DTSTAMP:20260420T191827
CREATED:20240311T111933Z
LAST-MODIFIED:20240311T111933Z
UID:3778-1727568000-1727654399@earlymusicdiary.org.uk
SUMMARY:SEMF Workshop: Vivaldi with John Hancorn
DESCRIPTION:Vivaldi and contemporaries – a workshop for voices and orchestra.  Further details TBC.
URL:https://earlymusicdiary.org.uk/event/3778/
LOCATION:Headcorn Village Hall\, Kent\, TN27 9NR
CATEGORIES:Instruments,Singers,Workshops
END:VEVENT
BEGIN:VEVENT
DTSTART;VALUE=DATE:20240928
DTEND;VALUE=DATE:20240930
DTSTAMP:20260420T191827
CREATED:20240423T102614Z
LAST-MODIFIED:20240423T102614Z
UID:3858-1727481600-1727654399@earlymusicdiary.org.uk
SUMMARY:Banbury Early Music Festival
DESCRIPTION:Banbury Early Music Festival is a brand new festival for 2024 where early music fans and newcomers can come and participate in inspiring workshops\, listen to world class concerts\, leaf through a myriad of music and try out early instruments until their heart’s content! \nOrganised by three local passionate and enthusiastic early music specialists Heidi Fardell\, Dylan McCaig and Alison  Kinder\, who are co-directing this new not-for-profit event.
URL:https://earlymusicdiary.org.uk/event/3858/
LOCATION:St Mary’s Church\, Banbury\, OX16 0AA
CATEGORIES:Festivals,Singers,Workshops
END:VEVENT
BEGIN:VEVENT
DTSTART;VALUE=DATE:20240928
DTEND;VALUE=DATE:20240929
DTSTAMP:20260420T191827
CREATED:20240815T074245Z
LAST-MODIFIED:20240815T074245Z
UID:4017-1727481600-1727567999@earlymusicdiary.org.uk
SUMMARY:Come & Sing: Bach Mass in B Minor
DESCRIPTION:The Esterhazy Singers invite singers for a fun day of singing selections from Bach’s Mass in B Minor under their inspirational Music Director David Halstead.
URL:https://earlymusicdiary.org.uk/event/4017/
LOCATION:St Margaret Pattens\, City of London\, EC3M 1HS
CATEGORIES:Singers,Workshops
END:VEVENT
BEGIN:VEVENT
DTSTART;VALUE=DATE:20240928
DTEND;VALUE=DATE:20240929
DTSTAMP:20260420T191827
CREATED:20240813T091753Z
LAST-MODIFIED:20240813T091813Z
UID:3989-1727481600-1727567999@earlymusicdiary.org.uk
SUMMARY:EMFS Making Music Day & AGM
DESCRIPTION:With separate groups for singers and instrumentalists led by Michael Cameron-Longden and Lynne Hope\, the workshop will look at some French Baroque music. \nThe EMFS AGM will take place over the lunch break.
URL:https://earlymusicdiary.org.uk/event/3989/
LOCATION:Inverleith St Serf’s Church\, Edinburgh\, EH5 3BD
CATEGORIES:Instruments,Singers,Workshops
END:VEVENT
BEGIN:VEVENT
DTSTART;VALUE=DATE:20240928
DTEND;VALUE=DATE:20240929
DTSTAMP:20260420T191827
CREATED:20240530T075713Z
LAST-MODIFIED:20240530T075713Z
UID:3904-1727481600-1727567999@earlymusicdiary.org.uk
SUMMARY:NEEMF Workshop for Instruments with Andrew Fowler
DESCRIPTION:Table Music – Instrumental ensemble music from 17th Century Saxony and Moravia.  Pitch A=440 Hz.
URL:https://earlymusicdiary.org.uk/event/3904/
LOCATION:Calcutt & Forest Moor Village Hall\, HG5 8JF
CATEGORIES:Instruments,Workshops
END:VEVENT
BEGIN:VEVENT
DTSTART;VALUE=DATE:20240928
DTEND;VALUE=DATE:20240929
DTSTAMP:20260420T191827
CREATED:20240409T104934Z
LAST-MODIFIED:20240409T104934Z
UID:3832-1727481600-1727567999@earlymusicdiary.org.uk
SUMMARY:Come & Sing: Bach Mass in B Minor
DESCRIPTION:Join the Esterhazy singers for a fun day singing this popular work.
URL:https://earlymusicdiary.org.uk/event/3832/
LOCATION:St Margaret Pattens\, City of London\, EC3M 1HS
CATEGORIES:Singers,Workshops
END:VEVENT
BEGIN:VEVENT
DTSTART;VALUE=DATE:20240928
DTEND;VALUE=DATE:20240929
DTSTAMP:20260420T191827
CREATED:20240311T110459Z
LAST-MODIFIED:20240725T143402Z
UID:3765-1727481600-1727567999@earlymusicdiary.org.uk
SUMMARY:SWEMF Workshop: Song of Songs with Bruce Saunders
DESCRIPTION:The Voice of the Turtledove \nSettings of The Song of Songs by Palestrina and other composers from all over Europe.
URL:https://earlymusicdiary.org.uk/event/3765/
LOCATION:All Saints Clifton\, Bristol\, BS8 3ED
CATEGORIES:Singers,Workshops
END:VEVENT
END:VCALENDAR