BEGIN:VCALENDAR
VERSION:2.0
PRODID:-//Early Music Diary - ECPv6.15.20//NONSGML v1.0//EN
CALSCALE:GREGORIAN
METHOD:PUBLISH
X-WR-CALNAME:Early Music Diary
X-ORIGINAL-URL:https://earlymusicdiary.org.uk
X-WR-CALDESC:Events for Early Music Diary
REFRESH-INTERVAL;VALUE=DURATION:PT1H
X-Robots-Tag:noindex
X-PUBLISHED-TTL:PT1H
BEGIN:VTIMEZONE
TZID:Europe/London
BEGIN:DAYLIGHT
TZOFFSETFROM:+0000
TZOFFSETTO:+0100
TZNAME:BST
DTSTART:20240331T010000
END:DAYLIGHT
BEGIN:STANDARD
TZOFFSETFROM:+0100
TZOFFSETTO:+0000
TZNAME:GMT
DTSTART:20241027T010000
END:STANDARD
BEGIN:DAYLIGHT
TZOFFSETFROM:+0000
TZOFFSETTO:+0100
TZNAME:BST
DTSTART:20250330T010000
END:DAYLIGHT
BEGIN:STANDARD
TZOFFSETFROM:+0100
TZOFFSETTO:+0000
TZNAME:GMT
DTSTART:20251026T010000
END:STANDARD
BEGIN:DAYLIGHT
TZOFFSETFROM:+0000
TZOFFSETTO:+0100
TZNAME:BST
DTSTART:20260329T010000
END:DAYLIGHT
BEGIN:STANDARD
TZOFFSETFROM:+0100
TZOFFSETTO:+0000
TZNAME:GMT
DTSTART:20261025T010000
END:STANDARD
END:VTIMEZONE
BEGIN:VEVENT
DTSTART;VALUE=DATE:20250418
DTEND;VALUE=DATE:20250419
DTSTAMP:20260420T185856
CREATED:20241105T121355Z
LAST-MODIFIED:20241105T121355Z
UID:4243-1744934400-1745020799@earlymusicdiary.org.uk
SUMMARY:Come & Sing: Vivaldi and Handel
DESCRIPTION:Ring in the Easter Weekend by joining with fellow singers to form the chorus of Vivaldi’s Gloria and Handel’s Coronation Anthems.
URL:https://earlymusicdiary.org.uk/event/4243/
LOCATION:Holy Sepulchre\, London\, EC1A 2FD
CATEGORIES:Singers,Workshops
END:VEVENT
BEGIN:VEVENT
DTSTART;VALUE=DATE:20250421
DTEND;VALUE=DATE:20250427
DTSTAMP:20260420T185856
CREATED:20241105T111251Z
LAST-MODIFIED:20241105T111251Z
UID:4232-1745193600-1745711999@earlymusicdiary.org.uk
SUMMARY:Baroque Oratorio
DESCRIPTION:Perform Charpentier’s sacred masterpiece Messe pour MrMauroy. \nTutors: Miguel Jaloto\, Nick Shaw\, Kinga Gaborjani\, Gail Hennessy\, Judy Tarling.
URL:https://earlymusicdiary.org.uk/event/4232/
LOCATION:Benslow Music\, Benslow Lane\, Hitchin\, Hertfordshire\, SG4 9RB
CATEGORIES:Courses,Instruments,Singers
END:VEVENT
BEGIN:VEVENT
DTSTART;VALUE=DATE:20250423
DTEND;VALUE=DATE:20250424
DTSTAMP:20260420T185856
CREATED:20250210T171906Z
LAST-MODIFIED:20250210T171906Z
UID:4540-1745366400-1745452799@earlymusicdiary.org.uk
SUMMARY:A Day of Medieval Music and Dance
DESCRIPTION:Suitable for musicians and dancers who would like to learn Medieval music and dance.
URL:https://earlymusicdiary.org.uk/event/4540/
LOCATION:Higham Hall\, Bassenthwaite Lake\, Cockermouth\, Cumbria\, CA13 9SH
CATEGORIES:Instruments,Workshops
END:VEVENT
BEGIN:VEVENT
DTSTART;VALUE=DATE:20250425
DTEND;VALUE=DATE:20250428
DTSTAMP:20260420T185856
CREATED:20240923T143157Z
LAST-MODIFIED:20240923T143157Z
UID:4143-1745539200-1745798399@earlymusicdiary.org.uk
SUMMARY:Singing Weekend with Tim Knight
DESCRIPTION:Music will be taken from ‘The Oxford Book of Tudor Anthems’ and ‘The Oxford Book of English Madrigals’.
URL:https://earlymusicdiary.org.uk/event/4143/
LOCATION:Whalley Abbey\, Clitheroe\, BB7 9SS
CATEGORIES:Courses,Singers
END:VEVENT
BEGIN:VEVENT
DTSTART;VALUE=DATE:20250426
DTEND;VALUE=DATE:20250427
DTSTAMP:20260420T185856
CREATED:20250203T121724Z
LAST-MODIFIED:20250203T121724Z
UID:4507-1745625600-1745711999@earlymusicdiary.org.uk
SUMMARY:The Sixteen Choral Workshop - Rochester
DESCRIPTION:Explore a variety of music inspired by The Sixteen’s own Choral Pilgrimage.
URL:https://earlymusicdiary.org.uk/event/4507/
LOCATION:St Margaret’s\, Rochester\, Kent\, ME1 1UF
CATEGORIES:Singers,Workshops
END:VEVENT
BEGIN:VEVENT
DTSTART;VALUE=DATE:20250427
DTEND;VALUE=DATE:20250430
DTSTAMP:20260420T185856
CREATED:20250210T171937Z
LAST-MODIFIED:20250210T171937Z
UID:4541-1745712000-1745971199@earlymusicdiary.org.uk
SUMMARY:Viol and Recorder Consort Playing
DESCRIPTION:Two parallel\, friendly courses for players at any level\, though not beginners.
URL:https://earlymusicdiary.org.uk/event/4541/
LOCATION:Higham Hall\, Bassenthwaite Lake\, Cockermouth\, Cumbria\, CA13 9SH
CATEGORIES:Courses,Instruments
END:VEVENT
BEGIN:VEVENT
DTSTART;VALUE=DATE:20250427
DTEND;VALUE=DATE:20250503
DTSTAMP:20260420T185856
CREATED:20240906T135459Z
LAST-MODIFIED:20241213T100923Z
UID:4096-1745712000-1746230399@earlymusicdiary.org.uk
SUMMARY:Tenby: A Portuguese Requiem 2025
DESCRIPTION:A course directed by Patrick Craig in the historic Pembrokeshire port\, centred on the six-part Requiem of the Portuguese composer Manuel Cardoso (c. 1566-1650)\, interspersed with funerary motets by other Portuguese composers
URL:https://earlymusicdiary.org.uk/event/4096/
LOCATION:St Mary’s Church\, Tenby\, Pembrokeshire\, SA70 8AP
CATEGORIES:Courses,Singers,Workshops
END:VEVENT
BEGIN:VEVENT
DTSTART;VALUE=DATE:20250503
DTEND;VALUE=DATE:20250504
DTSTAMP:20260420T185856
CREATED:20241107T101338Z
LAST-MODIFIED:20250113T095847Z
UID:4256-1746230400-1746316799@earlymusicdiary.org.uk
SUMMARY:When in Rome - Renaissance music from the Eternal City
DESCRIPTION:A workshop for voices and instruments with Greg Skidmore (I Fagiolini) – voices\, and Sue Addison (His Majestys Sagbutts and Cornetts) – instruments. \nMusic will depend on the number of singers (especially lower voices) and instrumentalists applying and will be decided upon nearer the time. \nPitch is A=440.
URL:https://earlymusicdiary.org.uk/event/4256/
LOCATION:Swallowbeck Methodist Church\, Lincoln\, LN6 8RZ
CATEGORIES:Instruments,Singers,Workshops
END:VEVENT
BEGIN:VEVENT
DTSTART;VALUE=DATE:20250503
DTEND;VALUE=DATE:20250504
DTSTAMP:20260420T185856
CREATED:20241118T101024Z
LAST-MODIFIED:20250428T142149Z
UID:4271-1746230400-1746316799@earlymusicdiary.org.uk
SUMMARY:NEEMF Workshop: Palestrina with Nancy Hadden
DESCRIPTION:This workshop\, devised and directed by Nancy Hadden\, celebrates the 500th anniversary of Palestrina’s birth\, featuring the richly expressive sacred music of Palestrina and his Roman contemporaries\, Felice Anerio and Luca Marenzio.  For voices\, and instruments: viols\, recorders\, Renaissance flutes\, cornetts\, sackbuts\, curtals.
URL:https://earlymusicdiary.org.uk/event/4271/
LOCATION:Clements Hall\, York\, Nunthorpe Rd\, York\, YO23 1BW
CATEGORIES:Instruments,Singers,Workshops
END:VEVENT
BEGIN:VEVENT
DTSTART;VALUE=DATE:20250503
DTEND;VALUE=DATE:20250504
DTSTAMP:20260420T185856
CREATED:20250327T094711Z
LAST-MODIFIED:20250327T094711Z
UID:4640-1746230400-1746316799@earlymusicdiary.org.uk
SUMMARY:Come & Sing Benevoli's Mass
DESCRIPTION:Come and experience the thrill of singing in Benevoli’s four-choir Missa Benevola\, led by Robert Hollingworth.
URL:https://earlymusicdiary.org.uk/event/4640/
LOCATION:Ryde School\, Isle of Wight\, PO33 3BE
CATEGORIES:Singers,Workshops
END:VEVENT
BEGIN:VEVENT
DTSTART;VALUE=DATE:20250504
DTEND;VALUE=DATE:20250505
DTSTAMP:20260420T185856
CREATED:20250327T095023Z
LAST-MODIFIED:20250327T095113Z
UID:4643-1746316800-1746403199@earlymusicdiary.org.uk
SUMMARY:Baroque Orchestral Workshop with Robert Hollingworth & Naomi Burrell
DESCRIPTION:Come and experience a day with brilliant instrumental music by Henry Purcell\, led by Robert Hollingworth of I Fagiolini and the University of York\, and baroque violin specialist Naomi Burrell. \nThis is a day for modern instruments (strings\, oboes and bassoons) at modern pitch.
URL:https://earlymusicdiary.org.uk/event/4643/
LOCATION:Ryde School\, Isle of Wight\, PO33 3BE
CATEGORIES:Instruments,Workshops
END:VEVENT
BEGIN:VEVENT
DTSTART;VALUE=DATE:20250506
DTEND;VALUE=DATE:20250510
DTSTAMP:20260420T185856
CREATED:20240920T083745Z
LAST-MODIFIED:20240920T083745Z
UID:4134-1746489600-1746835199@earlymusicdiary.org.uk
SUMMARY:Rondo Viol Academy
DESCRIPTION:Intermediate and Upper Intermediate.
URL:https://earlymusicdiary.org.uk/event/4134/
LOCATION:Shepherd’s Dene\, Northumberland\, NE44 6AF
CATEGORIES:Courses,Instruments
END:VEVENT
BEGIN:VEVENT
DTSTART;VALUE=DATE:20250510
DTEND;VALUE=DATE:20250511
DTSTAMP:20260420T185856
CREATED:20241118T122457Z
LAST-MODIFIED:20250107T140215Z
UID:4275-1746835200-1746921599@earlymusicdiary.org.uk
SUMMARY:BMEMF Workshop: Odhecaton with Lizzie Gutteridge
DESCRIPTION:Workshop for instrumentalists\, followed by a short concert.  Repertoire: Harmonice Musices Odhecaton.
URL:https://earlymusicdiary.org.uk/event/4275/
LOCATION:Yarpole Parish Hall\, Yarpole\, Leominster\, HR6 0BL
CATEGORIES:Instruments,Workshops
END:VEVENT
BEGIN:VEVENT
DTSTART;VALUE=DATE:20250510
DTEND;VALUE=DATE:20250511
DTSTAMP:20260420T185856
CREATED:20241217T123249Z
LAST-MODIFIED:20241217T123249Z
UID:4318-1746835200-1746921599@earlymusicdiary.org.uk
SUMMARY:Come & Sing Bach's Mass in B Minor
DESCRIPTION:Join the Croydon Bach Choir for an exhilarating workshop under the expert guidance of Music Director\, Tim Horton. \nOpen to singers of all levels who can follow a score.
URL:https://earlymusicdiary.org.uk/event/4318/
LOCATION:St Matthew’s\, Croydon\, CR0 5NQ
CATEGORIES:Singers,Workshops
END:VEVENT
BEGIN:VEVENT
DTSTART;VALUE=DATE:20250510
DTEND;VALUE=DATE:20250511
DTSTAMP:20260420T185856
CREATED:20250107T141620Z
LAST-MODIFIED:20250414T100658Z
UID:4355-1746835200-1746921599@earlymusicdiary.org.uk
SUMMARY:MEMF Workshop with Rory McCleery
DESCRIPTION:Music of Protest from Renaissance Portugal – join popular tutor Rory McCleery for an exploration of this fascinating and beautiful repertoire\, including plangently expressive motets and mass movements by Duarte Lobo\, Manuel Cardoso and Estêvão Lopes Morago.
URL:https://earlymusicdiary.org.uk/event/4355/
LOCATION:Emmanual Church\, Loughborough\, LE11 3NW
CATEGORIES:Singers,Workshops
END:VEVENT
BEGIN:VEVENT
DTSTART;VALUE=DATE:20250510
DTEND;VALUE=DATE:20250511
DTSTAMP:20260420T185856
CREATED:20250408T105249Z
LAST-MODIFIED:20250408T105249Z
UID:4655-1746835200-1746921599@earlymusicdiary.org.uk
SUMMARY:Venetian Voices Workshop
DESCRIPTION:Dive into the polychoral grandeur of Venetian sacred music\, characterised by cori spezzati and radiant harmonies\, with Scott Inglis-Kidger (Director) and Ghislaine Morgan (Associate Musical Director).
URL:https://earlymusicdiary.org.uk/event/4655/
LOCATION:St Mary’s Church\, Battersea\, London\, SW11 3NA
CATEGORIES:Singers,Workshops
END:VEVENT
BEGIN:VEVENT
DTSTART;VALUE=DATE:20250510
DTEND;VALUE=DATE:20250511
DTSTAMP:20260420T185856
CREATED:20250428T135659Z
LAST-MODIFIED:20250428T135659Z
UID:4673-1746835200-1746921599@earlymusicdiary.org.uk
SUMMARY:EMFS Choral Workshop with Angus Smith
DESCRIPTION:‘Consumed With Sorrow’\, a workshop singing a selection of Renaissance masterpieces including works by Josquin\, Dufay\, Ockeghem\, Robert White and others\, led by Angus Smith.
URL:https://earlymusicdiary.org.uk/event/4673/
LOCATION:Inverleith St Serf’s Church\, Edinburgh\, EH5 3BD
CATEGORIES:Singers,Workshops
END:VEVENT
BEGIN:VEVENT
DTSTART;VALUE=DATE:20250510
DTEND;VALUE=DATE:20250512
DTSTAMP:20260420T185856
CREATED:20240815T075655Z
LAST-MODIFIED:20240815T075655Z
UID:4024-1746835200-1747007999@earlymusicdiary.org.uk
SUMMARY:Dorset Bach Cantata Club
DESCRIPTION:JS Bach Cantata 118: O Jesu Christ\, mein’s lebens Licht. \nJS Bach Cantata 146: Wir müssen durch viel Trübsal. \nJS Bach Motet BWV 230: Lobet den Herrn\, alle Heiden.
URL:https://earlymusicdiary.org.uk/event/4024/
LOCATION:D’Urberville Centre\, Wool\, BH20 6DL
CATEGORIES:Singers,Workshops
END:VEVENT
BEGIN:VEVENT
DTSTART;TZID=Europe/London:20250510T183000
DTEND;TZID=Europe/London:20250510T203000
DTSTAMP:20260420T185856
CREATED:20240906T110720Z
LAST-MODIFIED:20240906T111228Z
UID:4065-1746901800-1746909000@earlymusicdiary.org.uk
SUMMARY:London Motet & Madrigal Club Meeting
DESCRIPTION:A London-based music club who meet once a month to sing repertoire from the Elizabethan and Jacobean eras from Britain and Europe.
URL:https://earlymusicdiary.org.uk/event/4065/
LOCATION:St Michael’s\, Cornhill\, London\, EC3V 9DS
CATEGORIES:Singers,Workshops
END:VEVENT
BEGIN:VEVENT
DTSTART;VALUE=DATE:20250511
DTEND;VALUE=DATE:20250512
DTSTAMP:20260420T185856
CREATED:20241105T100334Z
LAST-MODIFIED:20250129T153942Z
UID:4208-1746921600-1747007999@earlymusicdiary.org.uk
SUMMARY:Benevoli Workshop with Robert Hollingworth
DESCRIPTION:A workshop for singers led by Robert Hollingworth\, on the 4-choir Missa Benevola\, by the 17th-century Franco-Italian composer Orazio Benevoli.
URL:https://earlymusicdiary.org.uk/event/4208/
LOCATION:All Saints Clifton\, Bristol\, BS8 3ED
CATEGORIES:Singers,Workshops
END:VEVENT
BEGIN:VEVENT
DTSTART;VALUE=DATE:20250517
DTEND;VALUE=DATE:20250518
DTSTAMP:20260420T185856
CREATED:20241028T101112Z
LAST-MODIFIED:20250311T151002Z
UID:4203-1747440000-1747526399@earlymusicdiary.org.uk
SUMMARY:NWEMF Workshop with Deborah Catterall
DESCRIPTION:The music of Johannes Prioris\, Palestrina and Josquin\, for voices\, viols\, lower recorders and sackbuts.  Lancaster.
URL:https://earlymusicdiary.org.uk/event/4203/
LOCATION:University of Cumbria\, Lancaster\, LA1 3JD
CATEGORIES:Instruments,Singers,Workshops
END:VEVENT
BEGIN:VEVENT
DTSTART;VALUE=DATE:20250517
DTEND;VALUE=DATE:20250518
DTSTAMP:20260420T185856
CREATED:20241118T123422Z
LAST-MODIFIED:20250324T100340Z
UID:4283-1747440000-1747526399@earlymusicdiary.org.uk
SUMMARY:TVEMF Baroque Chamber Music Day
DESCRIPTION:Baroque Chamber Music Day (A=415) with Victoria Helby\, for one-to-a-part singers as well as instrumentalists.
URL:https://earlymusicdiary.org.uk/event/4283/
LOCATION:White Hill Centre\, Chesham\, HP5 1AG
CATEGORIES:Instruments,Singers,Workshops
END:VEVENT
BEGIN:VEVENT
DTSTART;VALUE=DATE:20250517
DTEND;VALUE=DATE:20250518
DTSTAMP:20260420T185856
CREATED:20250129T165754Z
LAST-MODIFIED:20250129T165754Z
UID:4486-1747440000-1747526399@earlymusicdiary.org.uk
SUMMARY:SEMF Workshop: Purcell with Ben England
DESCRIPTION:Ben England will direct music by Purcell for singers\, strings\, and continuo at baroque pitch (A=415).
URL:https://earlymusicdiary.org.uk/event/4486/
LOCATION:Blackbridge Community Centre\, Horsham\, RH12 1RS
CATEGORIES:Instruments,Singers,Workshops
END:VEVENT
BEGIN:VEVENT
DTSTART;VALUE=DATE:20250517
DTEND;VALUE=DATE:20250518
DTSTAMP:20260420T185856
CREATED:20250203T121752Z
LAST-MODIFIED:20250203T121752Z
UID:4508-1747440000-1747526399@earlymusicdiary.org.uk
SUMMARY:The Sixteen Choral Workshop - Oxford
DESCRIPTION:Explore a variety of music inspired by The Sixteen’s own Choral Pilgrimage.
URL:https://earlymusicdiary.org.uk/event/4508/
LOCATION:St John the Evangelist\, Oxford\, OX4 1EH
CATEGORIES:Singers,Workshops
END:VEVENT
BEGIN:VEVENT
DTSTART;VALUE=DATE:20250519
DTEND;VALUE=DATE:20250523
DTSTAMP:20260420T185856
CREATED:20250113T122110Z
LAST-MODIFIED:20250113T122110Z
UID:4389-1747612800-1747958399@earlymusicdiary.org.uk
SUMMARY:Renaissance Polyphony
DESCRIPTION:Glorious renaissance polyphony for choir with historic brass. Tutors: Jeremy West and Gareth Wilson.
URL:https://earlymusicdiary.org.uk/event/4389/
LOCATION:Benslow Music\, Benslow Lane\, Hitchin\, Hertfordshire\, SG4 9RB
CATEGORIES:Courses,Instruments,Singers
END:VEVENT
BEGIN:VEVENT
DTSTART;VALUE=DATE:20250523
DTEND;VALUE=DATE:20250526
DTSTAMP:20260420T185856
CREATED:20250408T105442Z
LAST-MODIFIED:20250408T105442Z
UID:4657-1747958400-1748217599@earlymusicdiary.org.uk
SUMMARY:Sweetest Breaths: Monteverdi & Strozzi
DESCRIPTION:This Chamber Weekender\, directed by Scott Inglis-Kidger\, will marry the sacred (Monteverdi Beatus Vir) with the profane (Strozzi Silentio nocivo); two sublime works\, exploring rather different subject matter!
URL:https://earlymusicdiary.org.uk/event/4657/
LOCATION:St Barnabas\, Pimlico\, London\, SW1W 8PF
CATEGORIES:Singers,Workshops
END:VEVENT
BEGIN:VEVENT
DTSTART;VALUE=DATE:20250525
DTEND;VALUE=DATE:20250526
DTSTAMP:20260420T185856
CREATED:20250306T114711Z
LAST-MODIFIED:20250306T114711Z
UID:4582-1748131200-1748217599@earlymusicdiary.org.uk
SUMMARY:Singing Workshop: The Sistine Chapel
DESCRIPTION:Join a consort of singers from Stile Antico in a wonderful session singing music from the Sistine Chapel.
URL:https://earlymusicdiary.org.uk/event/4582/
LOCATION:Hexagan Music Centre\, Beverley\, HU17 9LP
CATEGORIES:Singers,Workshops
END:VEVENT
BEGIN:VEVENT
DTSTART;VALUE=DATE:20250525
DTEND;VALUE=DATE:20250531
DTSTAMP:20260420T185856
CREATED:20240829T091043Z
LAST-MODIFIED:20241213T100913Z
UID:4052-1748131200-1748649599@earlymusicdiary.org.uk
SUMMARY:Voices\, Viols & Recorders Association
DESCRIPTION:An un-tutored course for experienced singers and players of early instruments.  Non-fixed ensembles of recorders and viols form the main part of the week with a variety of small singing groups depending on participants.
URL:https://earlymusicdiary.org.uk/event/4052/
LOCATION:Halsway Manor\, Halsway Lane\, Crowcombe\, Taunton\, TA4 4BD
CATEGORIES:Courses,Instruments,Singers
END:VEVENT
BEGIN:VEVENT
DTSTART;VALUE=DATE:20250531
DTEND;VALUE=DATE:20250601
DTSTAMP:20260420T185856
CREATED:20250203T122114Z
LAST-MODIFIED:20250528T074008Z
UID:4514-1748649600-1748735999@earlymusicdiary.org.uk
SUMMARY:SWEMF Workshop: Weelkes and Gibbons with Tim Brown
DESCRIPTION:Weelkes and Gibbons singing workshop with Tim Brown – details TBC.
URL:https://earlymusicdiary.org.uk/event/4514/
LOCATION:St. George’s Church Hall\, Fordington\, Dorset\, DT1 1LB
CATEGORIES:Singers,Workshops
END:VEVENT
BEGIN:VEVENT
DTSTART;VALUE=DATE:20250531
DTEND;VALUE=DATE:20250601
DTSTAMP:20260420T185856
CREATED:20250311T170059Z
LAST-MODIFIED:20250428T144450Z
UID:4597-1748649600-1748735999@earlymusicdiary.org.uk
SUMMARY:EEMF Workshop: Marian Music with Patrick Craig
DESCRIPTION:Palestrina\, Anerio and Victoria Marian music for the Feast of the Visitation.  A workshop for singers with Patrick Craig.
URL:https://earlymusicdiary.org.uk/event/4597/
LOCATION:Swaffham Prior Village Hall\, Cambridgeshire\, CB25 0LD
CATEGORIES:Singers,Workshops
END:VEVENT
END:VCALENDAR