BEGIN:VCALENDAR
VERSION:2.0
PRODID:-//Early Music Diary - ECPv6.15.20//NONSGML v1.0//EN
CALSCALE:GREGORIAN
METHOD:PUBLISH
X-WR-CALNAME:Early Music Diary
X-ORIGINAL-URL:https://earlymusicdiary.org.uk
X-WR-CALDESC:Events for Early Music Diary
REFRESH-INTERVAL;VALUE=DURATION:PT1H
X-Robots-Tag:noindex
X-PUBLISHED-TTL:PT1H
BEGIN:VTIMEZONE
TZID:Europe/London
BEGIN:DAYLIGHT
TZOFFSETFROM:+0000
TZOFFSETTO:+0100
TZNAME:BST
DTSTART:20240331T010000
END:DAYLIGHT
BEGIN:STANDARD
TZOFFSETFROM:+0100
TZOFFSETTO:+0000
TZNAME:GMT
DTSTART:20241027T010000
END:STANDARD
BEGIN:DAYLIGHT
TZOFFSETFROM:+0000
TZOFFSETTO:+0100
TZNAME:BST
DTSTART:20250330T010000
END:DAYLIGHT
BEGIN:STANDARD
TZOFFSETFROM:+0100
TZOFFSETTO:+0000
TZNAME:GMT
DTSTART:20251026T010000
END:STANDARD
BEGIN:DAYLIGHT
TZOFFSETFROM:+0000
TZOFFSETTO:+0100
TZNAME:BST
DTSTART:20260329T010000
END:DAYLIGHT
BEGIN:STANDARD
TZOFFSETFROM:+0100
TZOFFSETTO:+0000
TZNAME:GMT
DTSTART:20261025T010000
END:STANDARD
END:VTIMEZONE
BEGIN:VEVENT
DTSTART;VALUE=DATE:20250911
DTEND;VALUE=DATE:20250915
DTSTAMP:20260420T200826
CREATED:20250210T172146Z
LAST-MODIFIED:20250210T172146Z
UID:4545-1757548800-1757894399@earlymusicdiary.org.uk
SUMMARY:Madrigals and Partsongs
DESCRIPTION:Chamber choir and consort singing of madrigals and Partsongs.
URL:https://earlymusicdiary.org.uk/event/4545/
LOCATION:Benslow Music\, Benslow Lane\, Hitchin\, Hertfordshire\, SG4 9RB
CATEGORIES:Courses,Singers
END:VEVENT
BEGIN:VEVENT
DTSTART;VALUE=DATE:20250912
DTEND;VALUE=DATE:20250915
DTSTAMP:20260420T200826
CREATED:20250626T143933Z
LAST-MODIFIED:20250710T150955Z
UID:4773-1757635200-1757894399@earlymusicdiary.org.uk
SUMMARY:Medieval Music in the Dales
DESCRIPTION:The Medieval Instrumentarium – celebrate instrument design\, construction\, history and – of course – playing!
URL:https://earlymusicdiary.org.uk/event/4773/
LOCATION:Bolton Castle\, Nr Leyburn\, North Yorkshire\, DL8 4ET
CATEGORIES:Festivals,Instruments,Singers,Workshops
END:VEVENT
BEGIN:VEVENT
DTSTART;VALUE=DATE:20250913
DTEND;VALUE=DATE:20250914
DTSTAMP:20260420T200826
CREATED:20241105T110936Z
LAST-MODIFIED:20250106T100450Z
UID:4214-1757721600-1757807999@earlymusicdiary.org.uk
SUMMARY:NWEMF Workshop with Rory McCleery
DESCRIPTION:The music of Lusitano and other Portuguese composers.
URL:https://earlymusicdiary.org.uk/event/4214/
LOCATION:St Agnes Church\, Liverpool\, Ullet Road\, L17 3BA
CATEGORIES:Singers,Workshops
END:VEVENT
BEGIN:VEVENT
DTSTART;VALUE=DATE:20250913
DTEND;VALUE=DATE:20250914
DTSTAMP:20260420T200826
CREATED:20250203T121838Z
LAST-MODIFIED:20250203T121838Z
UID:4510-1757721600-1757807999@earlymusicdiary.org.uk
SUMMARY:The Sixteen Choral Workshop - Tewkesbury
DESCRIPTION:Explore a variety of music inspired by The Sixteen’s own Choral Pilgrimage.
URL:https://earlymusicdiary.org.uk/event/4510/
LOCATION:Parish Hall\, Tewkesbury Abbey\, GL20 5RZ
CATEGORIES:Singers,Workshops
END:VEVENT
BEGIN:VEVENT
DTSTART;VALUE=DATE:20250913
DTEND;VALUE=DATE:20250914
DTSTAMP:20260420T200826
CREATED:20250619T134129Z
LAST-MODIFIED:20250619T134129Z
UID:4743-1757721600-1757807999@earlymusicdiary.org.uk
SUMMARY:Come & Sing St John Passion
DESCRIPTION:A chance to sing selected movements from Bach’s wonderful St John Passion – in English.  Led by musical director Hilary Campbell and accompanied by Steve Kings.
URL:https://earlymusicdiary.org.uk/event/4743/
LOCATION:All Saints Clifton\, Bristol\, BS8 3ED
CATEGORIES:Singers,Workshops
END:VEVENT
BEGIN:VEVENT
DTSTART;VALUE=DATE:20250913
DTEND;VALUE=DATE:20250914
DTSTAMP:20260420T200826
CREATED:20250903T124912Z
LAST-MODIFIED:20250903T124912Z
UID:4981-1757721600-1757807999@earlymusicdiary.org.uk
SUMMARY:Early Music Forum Scotland Choir
DESCRIPTION:The EMFS Choir will meet under the direction of Michael Cameron-Longden to start the autumn term by looking at some music by Orlando Gibbons\, in this the 400 year anniversary of his death.
URL:https://earlymusicdiary.org.uk/event/4981/
LOCATION:Polwarth Parish Church\, Edinburgh\, EH11 1LU
CATEGORIES:Singers,Workshops
END:VEVENT
BEGIN:VEVENT
DTSTART;TZID=Europe/London:20250913T103000
DTEND;TZID=Europe/London:20250913T163000
DTSTAMP:20260420T200826
CREATED:20250709T110137Z
LAST-MODIFIED:20250709T110137Z
UID:4805-1757759400-1757781000@earlymusicdiary.org.uk
SUMMARY:Come & Sing Psalms
DESCRIPTION:A day exploring settings of psalms by Callcott\, Lasso\, Quarles\, Tallis\, Tomkins & the ubiquitous Anonymous with choir director and composer David Greenwood.  The motets are settings of psalms 23\, 100 and 130. \nThis Come & Sing is one of 6 annual workshops run since 2022 and attracts enthusiastic singers from across the south west and beyond. \nThe hamlet of Briantspuddle is in the heart of Dorset countryside just a few miles from Dorchester. \nThe day costs £15\, which includes coffee and tea. BYO lunch (no village pub). \nFor more information contact David Greenwood at casterbridge.music.uk@gmail.com 07395 009 087.
URL:https://earlymusicdiary.org.uk/event/4805/
LOCATION:Briantspuddle Village Hall\, Dorset\, DT2 7HT
CATEGORIES:Singers,Workshops
END:VEVENT
BEGIN:VEVENT
DTSTART;VALUE=DATE:20250914
DTEND;VALUE=DATE:20250920
DTSTAMP:20260420T200826
CREATED:20250620T142624Z
LAST-MODIFIED:20250620T142624Z
UID:4761-1757808000-1758326399@earlymusicdiary.org.uk
SUMMARY:Voices\, Viols & Recorders Association at Halsway
DESCRIPTION:An un-tutored course for experienced singers and players of early instruments.
URL:https://earlymusicdiary.org.uk/event/4761/
LOCATION:Halsway Manor\, Halsway Lane\, Crowcombe\, Taunton\, TA4 4BD
CATEGORIES:Instruments,Workshops
END:VEVENT
BEGIN:VEVENT
DTSTART;VALUE=DATE:20250919
DTEND;VALUE=DATE:20250922
DTSTAMP:20260420T200826
CREATED:20250821T105159Z
LAST-MODIFIED:20250821T105401Z
UID:4956-1758240000-1758499199@earlymusicdiary.org.uk
SUMMARY:International Pipe and Tabor Festival
DESCRIPTION:The 2025 International Pipe and Tabor Festival with French guest artist Benjamin Melia. \nThe main events will be based near the station and the cathedral.
URL:https://earlymusicdiary.org.uk/event/4956/
LOCATION:Peterborough\, PE1 1QL
CATEGORIES:Festivals,Instruments
END:VEVENT
BEGIN:VEVENT
DTSTART;VALUE=DATE:20250919
DTEND;VALUE=DATE:20251129
DTSTAMP:20260420T200826
CREATED:20250916T094848Z
LAST-MODIFIED:20250916T094915Z
UID:5042-1758240000-1764374399@earlymusicdiary.org.uk
SUMMARY:Swansea Singers Early Music
DESCRIPTION:Meeting most Fridays at 12:15. \nContact John: j76parcw@outlook.com for further details and full address.
URL:https://earlymusicdiary.org.uk/event/5042/
LOCATION:Parc Wern\, Swansea\, SA2 0SF
CATEGORIES:Singers,Workshops
END:VEVENT
BEGIN:VEVENT
DTSTART;VALUE=DATE:20250920
DTEND;VALUE=DATE:20250921
DTSTAMP:20260420T200826
CREATED:20250203T121945Z
LAST-MODIFIED:20250203T121945Z
UID:4511-1758326400-1758412799@earlymusicdiary.org.uk
SUMMARY:The Sixteen Choral Workshop - Exeter
DESCRIPTION:Explore a variety of music inspired by The Sixteen’s own Choral Pilgrimage.
URL:https://earlymusicdiary.org.uk/event/4511/
LOCATION:St. Michael and All Angels\, Mount Dinham\, Exeter\, Devon\, EX4 4EB
CATEGORIES:Singers,Workshops
END:VEVENT
BEGIN:VEVENT
DTSTART;VALUE=DATE:20250920
DTEND;VALUE=DATE:20250921
DTSTAMP:20260420T200826
CREATED:20250903T125016Z
LAST-MODIFIED:20250903T125016Z
UID:4984-1758326400-1758412799@earlymusicdiary.org.uk
SUMMARY:EMFS Workshop: Go 4 B'roque - Viva Vivaldi 3
DESCRIPTION:All modern strings are welcome to come and play Vivaldi in the latest Go 4 B’roque event.  Spend a morning playing some of Vivaldi’s concerti for strings under the direction of Philip Redfern.
URL:https://earlymusicdiary.org.uk/event/4984/
LOCATION:Reid Memorial Church Hall\, Edinburgh\, EH9 3HY
CATEGORIES:Instruments,Workshops
END:VEVENT
BEGIN:VEVENT
DTSTART;TZID=Europe/London:20250921T143000
DTEND;TZID=Europe/London:20250921T173000
DTSTAMP:20260420T200826
CREATED:20250819T105514Z
LAST-MODIFIED:20250819T105653Z
UID:4925-1758465000-1758475800@earlymusicdiary.org.uk
SUMMARY:Open Rehearsal with The William Byrd Singers
DESCRIPTION:Experience the joy of singing with one of the North West’s best chamber choirs as they prepare for their 2025/26 programme\, rehearsing J.S.Bach’s Christmas Oratorio. \nThis event is free but please register your interest so the organisers can ensure there is enough music and cake!
URL:https://earlymusicdiary.org.uk/event/4925/
LOCATION:Christ Church\, West Didsbury\, Manchester\, M20 2ZD
CATEGORIES:Singers,Workshops
END:VEVENT
BEGIN:VEVENT
DTSTART;VALUE=DATE:20250922
DTEND;VALUE=DATE:20250927
DTSTAMP:20260420T200826
CREATED:20250314T124841Z
LAST-MODIFIED:20250314T124841Z
UID:4611-1758499200-1758931199@earlymusicdiary.org.uk
SUMMARY:Renaissance Viol and Recorder Course with Linarol Consort
DESCRIPTION:The Linarol Consort’s Renaissance Viol and Recorder course is for experienced viol and recorder players with an interest in improving their technique on Renaissance instruments and in reading from facsimile. \nTutors: David Hatcher and Alison Kinder\, assisted by Claire Horacek and Timothy Lin.
URL:https://earlymusicdiary.org.uk/event/4611/
LOCATION:Holland House\, nr Pershore\, WR10 3NB
CATEGORIES:Courses,Instruments
END:VEVENT
BEGIN:VEVENT
DTSTART;VALUE=DATE:20250927
DTEND;VALUE=DATE:20250928
DTSTAMP:20260420T200826
CREATED:20250311T154342Z
LAST-MODIFIED:20250617T085635Z
UID:4593-1758931200-1759017599@earlymusicdiary.org.uk
SUMMARY:MEMF Workshop with Philip Thorby
DESCRIPTION:Workshop for voices and instruments with Philip Thorby.  There will be a short AGM at lunchtime. \nThis workshop to mark the 540th anniversary of the death of Andrea Gabrieli\, and will explore some of his 12-part works for singers\, cornetts\, sackbuts\, recorders\, curtals\, strings & continuo and\, depending on forces\, his 16-part Gloria. \n 
URL:https://earlymusicdiary.org.uk/event/4593/
LOCATION:Solihull Methodist Church\, Blosssomfield Road\, Solihull\, B91 1LG
CATEGORIES:Instruments,Singers,Workshops
END:VEVENT
BEGIN:VEVENT
DTSTART;VALUE=DATE:20250927
DTEND;VALUE=DATE:20250928
DTSTAMP:20260420T200826
CREATED:20241002T085823Z
LAST-MODIFIED:20250617T084208Z
UID:4175-1758931200-1759017599@earlymusicdiary.org.uk
SUMMARY:NEEMF Workshop: Ludus Danielis with Trouvere
DESCRIPTION:Ludus Danielis – The Play of Daniel.  Workshop for singers and instrumentalists – flutes\, guitar-types and bowed strings of all kinds\, harp\, psaltery\, hurdy gurdy\, percussion of all kinds.  Led by Trouvere (Gill Page and Paul Leigh) and Richard de Winter. \n 
URL:https://earlymusicdiary.org.uk/event/4175/
LOCATION:Burley in Wharfedale Methodist Church\, LS29 7DT
CATEGORIES:Instruments,Singers
END:VEVENT
BEGIN:VEVENT
DTSTART;VALUE=DATE:20250927
DTEND;VALUE=DATE:20250928
DTSTAMP:20260420T200826
CREATED:20250203T122012Z
LAST-MODIFIED:20250203T122012Z
UID:4512-1758931200-1759017599@earlymusicdiary.org.uk
SUMMARY:The Sixteen Choral Workshop - Edinburgh
DESCRIPTION:Explore a variety of music inspired by The Sixteen’s own Choral Pilgrimage.
URL:https://earlymusicdiary.org.uk/event/4512/
LOCATION:Greyfriars Kirk\, Edinburgh\, EH1 2QQ
CATEGORIES:Singers,Workshops
END:VEVENT
BEGIN:VEVENT
DTSTART;VALUE=DATE:20250927
DTEND;VALUE=DATE:20250929
DTSTAMP:20260420T200826
CREATED:20250710T093745Z
LAST-MODIFIED:20250710T093745Z
UID:4812-1758931200-1759103999@earlymusicdiary.org.uk
SUMMARY:Banbury Early Music Festival
DESCRIPTION:Banbury Early Music Festival is for early music fans and newcomers alike\, to come and participate in inspiring workshops\, listen to world class concerts\, leaf through a myriad of music and try out early ​instruments until their heart’s content!
URL:https://earlymusicdiary.org.uk/event/4812/
LOCATION:St Mary’s Church\, Banbury\, OX16 0AA
CATEGORIES:Courses,Festivals,Instruments,Singers
END:VEVENT
BEGIN:VEVENT
DTSTART;VALUE=DATE:20250927
DTEND;VALUE=DATE:20250929
DTSTAMP:20260420T200826
CREATED:20250821T085801Z
LAST-MODIFIED:20250821T085832Z
UID:4943-1758931200-1759103999@earlymusicdiary.org.uk
SUMMARY:Handel in Arcadia with Platinum Consort
DESCRIPTION:An upper voices Chamber Weekender immersed in the beauty of Handel’s Italian duets.  Directed by Scott Inglis-Kidger.
URL:https://earlymusicdiary.org.uk/event/4943/
LOCATION:St Barnabas\, Pimlico\, London\, SW1W 8PF
CATEGORIES:Courses,Singers,Workshops
END:VEVENT
BEGIN:VEVENT
DTSTART;TZID=Europe/London:20250927T093000
DTEND;TZID=Europe/London:20250927T110000
DTSTAMP:20260420T200826
CREATED:20250729T083649Z
LAST-MODIFIED:20250802T144528Z
UID:4859-1758965400-1758970800@earlymusicdiary.org.uk
SUMMARY:Choral Workshop with Dylan McCaig
DESCRIPTION:Festival organiser\, early music specialist and choral conductor Dylan McCaig opens the 2025 Banbury Early Music Festival with a rich and inspiring Choral Workshop exploring the expressive depth and enduring influence of Orlando Gibbons. \nThrough the shimmering polyphony of Gibbons’ Drop\, Drop\, Slow Tears (5-Part)\, participants will uncover his unique place in English sacred music\, bridging the golden age of William Byrd and paving the way for the dramatic intensity of Henry Purcell. \nThis hands-on workshop invites singers of all backgrounds to explore and perform a stunning trio of works:\n🎵 Sing Joyfully – William Byrd\n🎵 Drop\, Drop\, Slow Tears (a 5) – Orlando Gibbons\n🎵 Remember Not\, Lord\, Our Offences – Henry Purcell \nDylan will guide participants through the stylistic and spiritual threads connecting these three masters\, offering historical insights and practical tips in an uplifting and immersive session. \nThis workshop is generously sponsored by the Thames Valley Early Music Forum.\n🎟 Book now via ticketsource.
URL:https://earlymusicdiary.org.uk/event/4859/
LOCATION:St Mary’s Church\, Banbury\, OX16 0AA
CATEGORIES:Singers,Workshops
END:VEVENT
BEGIN:VEVENT
DTSTART;TZID=Europe/London:20250927T163000
DTEND;TZID=Europe/London:20250927T180000
DTSTAMP:20260420T200826
CREATED:20250801T150829Z
LAST-MODIFIED:20250801T150908Z
UID:4904-1758990600-1758996000@earlymusicdiary.org.uk
SUMMARY:Recorder Workshop from Sarah Jeffery / Team Recorder
DESCRIPTION:Join renowned recorder player and YouTube sensation\, Sarah Jeffery (aka Team Recorder) for an inspiring recorder-focused intermediate-level workshop exploring early music by female composers. Delve into beautiful\, lesser-known repertoire in the welcoming setting of St Mary’s Church Hall\, Banbury. Limited places available! Don’t miss this unique opportunity to deepen your skills and discover the rich legacy of early female composers! \nAll of Sarah’s workshops are very kindly sponsored by the Society of Recorder Players. \nTickets for Sarah’s Saturday workshop are available here via ticketsource.
URL:https://earlymusicdiary.org.uk/event/4904/
LOCATION:St Mary’s Church\, Banbury\, OX16 0AA
CATEGORIES:Instruments,Workshops
END:VEVENT
BEGIN:VEVENT
DTSTART;TZID=Europe/London:20250928T103000
DTEND;TZID=Europe/London:20250928T120000
DTSTAMP:20260420T200826
CREATED:20250729T084900Z
LAST-MODIFIED:20250729T090547Z
UID:4864-1759055400-1759060800@earlymusicdiary.org.uk
SUMMARY:Multi-Instrumental and Vocal Workshop with Alison Kinder
DESCRIPTION:2025 marks 400 years since the death of Orlando Gibbons\, one of the finest composers of the English Renaissance\, so what better way to honour his legacy than by playing and singing his music together! \nIn this special multi-instrumental and vocal workshop led by festival founder and viol player Alison Kinder\, participants will dive into Gibbons’ poignant and witty madrigal “What Is Our Life?”\, a philosophical reflection on the theatrical nature of existence: “Our life is a play of passion\, our music the entertainment\, our graves the curtains close…” \nIn this workshop\, participants will explore the subtle beauty and rich expressivity of Gibbons’ part-writing\, (and if time allows\, venture into one of his other contemplative gems on life\, vanity\, and mortality!) \nAll instruments and voices welcome: SATB singers\, recorders (all sizes)\, violins\, viols\, double reeds\, brass. Pitch: A = 440 \nThis workshop offers a rare opportunity for singers and players to collaborate in the intimate textures of English Renaissance chamber music. \nThis event is generously sponsored by the Midlands Early Music Forum. \n Book now via ticketsource.
URL:https://earlymusicdiary.org.uk/event/4864/
LOCATION:St Mary’s Church\, Banbury\, OX16 0AA
CATEGORIES:Instruments,Singers,Workshops
END:VEVENT
BEGIN:VEVENT
DTSTART;VALUE=DATE:20250929
DTEND;VALUE=DATE:20251003
DTSTAMP:20260420T200826
CREATED:20250210T172207Z
LAST-MODIFIED:20250210T172213Z
UID:4546-1759104000-1759449599@earlymusicdiary.org.uk
SUMMARY:Purcell for Singers & Continuo
DESCRIPTION:An opportunity for singers and continuo players to explore Purcell’s solo songs and ensemble works in detail with Emily Owen and Satoko Doi-Luck.
URL:https://earlymusicdiary.org.uk/event/4546/
LOCATION:Benslow Music\, Benslow Lane\, Hitchin\, Hertfordshire\, SG4 9RB
CATEGORIES:Courses,Instruments,Singers
END:VEVENT
BEGIN:VEVENT
DTSTART;VALUE=DATE:20251001
DTEND;VALUE=DATE:20251002
DTSTAMP:20260420T200826
CREATED:20250821T090034Z
LAST-MODIFIED:20250821T090134Z
UID:4946-1759276800-1759363199@earlymusicdiary.org.uk
SUMMARY:Byrd of Paradyse with Platinum Consort
DESCRIPTION:An uplifting half-day exploration of the sacred music of William Byrd (c.1540–1623)\, one of the most influential composers of the English Renaissance.  Directed by Scott Inglis-Kidger.
URL:https://earlymusicdiary.org.uk/event/4946/
LOCATION:St Barnabas\, Pimlico\, London\, SW1W 8PF
CATEGORIES:Singers,Workshops
END:VEVENT
BEGIN:VEVENT
DTSTART;VALUE=DATE:20251004
DTEND;VALUE=DATE:20251005
DTSTAMP:20260420T200826
CREATED:20250107T144559Z
LAST-MODIFIED:20250528T083459Z
UID:4373-1759536000-1759622399@earlymusicdiary.org.uk
SUMMARY:TVEMF Workshop: Ave Maria with David Crown
DESCRIPTION:Ave Maria – from Parsons to Palestrina for singers with David Crown.
URL:https://earlymusicdiary.org.uk/event/4373/
LOCATION:St Andrew’s\, Oxford\, OX2 6UG
CATEGORIES:Singers,Workshops
END:VEVENT
BEGIN:VEVENT
DTSTART;VALUE=DATE:20251004
DTEND;VALUE=DATE:20251005
DTSTAMP:20260420T200826
CREATED:20250203T122033Z
LAST-MODIFIED:20250203T122033Z
UID:4513-1759536000-1759622399@earlymusicdiary.org.uk
SUMMARY:The Sixteen Choral Workshop - Chichester
DESCRIPTION:Explore a variety of music inspired by The Sixteen’s own Choral Pilgrimage.
URL:https://earlymusicdiary.org.uk/event/4513/
LOCATION:Chichester Cathedral\, West Sussex\, PO19 1PX
CATEGORIES:Singers,Workshops
END:VEVENT
BEGIN:VEVENT
DTSTART;VALUE=DATE:20251004
DTEND;VALUE=DATE:20251005
DTSTAMP:20260420T200826
CREATED:20250203T122227Z
LAST-MODIFIED:20250904T071228Z
UID:4517-1759536000-1759622399@earlymusicdiary.org.uk
SUMMARY:SWEMF Workshop: Polychoral Music with Stephanie Dyer
DESCRIPTION:Nun lob\, mein Seel\, den Herren.  Polychoral music for voices and instruments\, with Stephanie Dyer.
URL:https://earlymusicdiary.org.uk/event/4517/
LOCATION:Freshford Village Hall\, nr Bath\, BA2 7UR
CATEGORIES:Instruments,Singers,Workshops
END:VEVENT
BEGIN:VEVENT
DTSTART;VALUE=DATE:20251004
DTEND;VALUE=DATE:20251005
DTSTAMP:20260420T200826
CREATED:20250425T085115Z
LAST-MODIFIED:20250602T131352Z
UID:4667-1759536000-1759622399@earlymusicdiary.org.uk
SUMMARY:Spem in Alium Choral Day
DESCRIPTION:This is for experienced choral singers who can sight read on the day or prepare their part in advance\, so we can reduce note bashing to the minimum.  There will be one other piece worked on by each portion of the choir.  Expressions of interest invited here: https://5from500.co.uk/spem-in-alium/ \nMorning venue King Edward VII Upper School (across the road from:) Afternoon venue St Mark’s Church\, Broomhill (both tbc).
URL:https://earlymusicdiary.org.uk/event/4667/
LOCATION:King Edward VII Upper School\, Sheffield\, S10 2PW
CATEGORIES:Singers,Workshops
END:VEVENT
BEGIN:VEVENT
DTSTART;VALUE=DATE:20251004
DTEND;VALUE=DATE:20251005
DTSTAMP:20260420T200826
CREATED:20250903T125519Z
LAST-MODIFIED:20250903T125519Z
UID:4988-1759536000-1759622399@earlymusicdiary.org.uk
SUMMARY:EMFS Workshop: Viol Consort Café
DESCRIPTION:If you can hold your own sight reading in a consort then come and join Jo and Thomas Green for a sociable playing morning.
URL:https://earlymusicdiary.org.uk/event/4988/
LOCATION:St Catherine’s Argyle Church\, Edinburgh\, EH9 1TY
CATEGORIES:Instruments,Workshops
END:VEVENT
BEGIN:VEVENT
DTSTART;VALUE=DATE:20251005
DTEND;VALUE=DATE:20251006
DTSTAMP:20260420T200826
CREATED:20250513T110859Z
LAST-MODIFIED:20250904T074049Z
UID:4690-1759622400-1759708799@earlymusicdiary.org.uk
SUMMARY:SEMF Workshop with Emily White
DESCRIPTION:The workshop will cover a wide range of music\, from France\, Scotland\, Germany and Italy and ranging from 5 to 22 parts. \nOpen to the following instruments: Cornetts\, sackbuts\, curtals/dulcians\, recorders\, viol and violin family\, plucked continuo.
URL:https://earlymusicdiary.org.uk/event/4690/
LOCATION:Headcorn Village Hall\, Kent\, TN27 9NR
CATEGORIES:Instruments,Workshops
END:VEVENT
END:VCALENDAR