BEGIN:VCALENDAR
VERSION:2.0
PRODID:-//Early Music Diary - ECPv6.15.20//NONSGML v1.0//EN
CALSCALE:GREGORIAN
METHOD:PUBLISH
X-WR-CALNAME:Early Music Diary
X-ORIGINAL-URL:https://earlymusicdiary.org.uk
X-WR-CALDESC:Events for Early Music Diary
REFRESH-INTERVAL;VALUE=DURATION:PT1H
X-Robots-Tag:noindex
X-PUBLISHED-TTL:PT1H
BEGIN:VTIMEZONE
TZID:Europe/London
BEGIN:DAYLIGHT
TZOFFSETFROM:+0000
TZOFFSETTO:+0100
TZNAME:BST
DTSTART:20220327T010000
END:DAYLIGHT
BEGIN:STANDARD
TZOFFSETFROM:+0100
TZOFFSETTO:+0000
TZNAME:GMT
DTSTART:20221030T010000
END:STANDARD
BEGIN:DAYLIGHT
TZOFFSETFROM:+0000
TZOFFSETTO:+0100
TZNAME:BST
DTSTART:20230326T010000
END:DAYLIGHT
BEGIN:STANDARD
TZOFFSETFROM:+0100
TZOFFSETTO:+0000
TZNAME:GMT
DTSTART:20231029T010000
END:STANDARD
BEGIN:DAYLIGHT
TZOFFSETFROM:+0000
TZOFFSETTO:+0100
TZNAME:BST
DTSTART:20240331T010000
END:DAYLIGHT
BEGIN:STANDARD
TZOFFSETFROM:+0100
TZOFFSETTO:+0000
TZNAME:GMT
DTSTART:20241027T010000
END:STANDARD
END:VTIMEZONE
BEGIN:VEVENT
DTSTART;VALUE=DATE:20231028
DTEND;VALUE=DATE:20231029
DTSTAMP:20260415T143427
CREATED:20230106T091329Z
LAST-MODIFIED:20230211T101828Z
UID:1874-1698451200-1698537599@earlymusicdiary.org.uk
SUMMARY:SEMF Workshop: Weelkes with Will Dawes and Katie Bank
DESCRIPTION:Live workshop for singers on the music of Weelkes and his contemporaries\, led by Will Dawes and Katie Bank. Weelkes died on 30th November 1623.
URL:https://earlymusicdiary.org.uk/event/1874/
LOCATION:Bosham Village Hall\, Chichester\, PO18 8QF
CATEGORIES:Singers,Workshops
END:VEVENT
BEGIN:VEVENT
DTSTART;VALUE=DATE:20231027
DTEND;VALUE=DATE:20231030
DTSTAMP:20260415T143427
CREATED:20230814T073148Z
LAST-MODIFIED:20230814T073300Z
UID:2931-1698364800-1698623999@earlymusicdiary.org.uk
SUMMARY:Early Music in the Marches Weekend
DESCRIPTION:A chance for experienced singers and players with good sight-reading skills to work on a collection of some of Handel’s most thrilling choruses\, under the guidance of David Hatcher and Julia Bishop.
URL:https://earlymusicdiary.org.uk/event/2931/
LOCATION:Discoed\, Powys\, LD8 2NW
CATEGORIES:Courses,Instruments,Singers
END:VEVENT
BEGIN:VEVENT
DTSTART;VALUE=DATE:20231023
DTEND;VALUE=DATE:20231028
DTSTAMP:20260415T143427
CREATED:20230131T143404Z
LAST-MODIFIED:20230131T143404Z
UID:1980-1698019200-1698451199@earlymusicdiary.org.uk
SUMMARY:Recorder Making with Tim Cranmore
DESCRIPTION:Make your own professional wooden recorder with expert recorder maker\, Tim Cranmore.
URL:https://earlymusicdiary.org.uk/event/1980/
LOCATION:The Champion Workshop\, 6 Lintech Court\, Linton\, Cambridgeshire\, CB21 4XN
CATEGORIES:Instruments,Workshops
END:VEVENT
BEGIN:VEVENT
DTSTART;VALUE=DATE:20231022
DTEND;VALUE=DATE:20231028
DTSTAMP:20260415T143427
CREATED:20230406T155502Z
LAST-MODIFIED:20230406T155502Z
UID:2502-1697932800-1698451199@earlymusicdiary.org.uk
SUMMARY:Dartmouth Music Party with Bill Carslake
DESCRIPTION:This course\, for amateur choral singers of all ages and nationalities centres on extended pieces in honour of the Virgin Mary from the seminal Franco-Flemish school of polyphonists.
URL:https://earlymusicdiary.org.uk/event/2502/
LOCATION:St Saviour’s\, Dartmouth\, TQ6 9DL
CATEGORIES:Courses,Singers
END:VEVENT
BEGIN:VEVENT
DTSTART;VALUE=DATE:20231021
DTEND;VALUE=DATE:20231023
DTSTAMP:20260415T143427
CREATED:20230620T142329Z
LAST-MODIFIED:20230620T142329Z
UID:2722-1697846400-1698019199@earlymusicdiary.org.uk
SUMMARY:Come & Sing Handel Weekend
DESCRIPTION:Cherubim’s fourth choral weekend under rising choral conductor Harry Bradford. The weekend includes three sessions of choral training and a concert accompanied by Cherubim young musicians and the Cherubim Chamber Orchestra.
URL:https://earlymusicdiary.org.uk/event/2722/
LOCATION:Wardour Chapel\, Wiltshire\, SP3 6RR
CATEGORIES:Courses,Singers
END:VEVENT
BEGIN:VEVENT
DTSTART;VALUE=DATE:20231021
DTEND;VALUE=DATE:20231022
DTSTAMP:20260415T143427
CREATED:20230920T071451Z
LAST-MODIFIED:20230920T071451Z
UID:3097-1697846400-1697932799@earlymusicdiary.org.uk
SUMMARY:Come & Sing Choral Anthems
DESCRIPTION:Come & Sing Choral Anthems\, including works by Purcell\, Bach and Handel.
URL:https://earlymusicdiary.org.uk/event/3097/
LOCATION:St Paul’s Church\, Honiton\, EX14 1PG
CATEGORIES:Singers,Workshops
END:VEVENT
BEGIN:VEVENT
DTSTART;VALUE=DATE:20231021
DTEND;VALUE=DATE:20231022
DTSTAMP:20260415T143427
CREATED:20230906T104232Z
LAST-MODIFIED:20230906T104232Z
UID:3051-1697846400-1697932799@earlymusicdiary.org.uk
SUMMARY:Come & Sing Vivaldi Gloria
DESCRIPTION:A ‘Gloria!’ Workshop Day with Music Director of The Tan House Singers\, Lee Wiltamuth.
URL:https://earlymusicdiary.org.uk/event/3051/
LOCATION:Minsterworth Village Hall\, Gloucestershire\, GL2 8JH
CATEGORIES:Singers,Workshops
END:VEVENT
BEGIN:VEVENT
DTSTART;VALUE=DATE:20231021
DTEND;VALUE=DATE:20231022
DTSTAMP:20260415T143427
CREATED:20230815T142207Z
LAST-MODIFIED:20230815T142207Z
UID:2962-1697846400-1697932799@earlymusicdiary.org.uk
SUMMARY:Come & Sing "Best of Baroque"
DESCRIPTION:Sing well-known and glorious masterpieces by great Baroque composers\, an exciting and rewarding day of rehearsal led by Alex Kyle\, culminating in a ‘Best of Baroque’ public concert at 6pm.
URL:https://earlymusicdiary.org.uk/event/2962/
LOCATION:St Peter’s Church\, Harrogate\, HG1 1PB
CATEGORIES:Singers,Workshops
END:VEVENT
BEGIN:VEVENT
DTSTART;VALUE=DATE:20231021
DTEND;VALUE=DATE:20231022
DTSTAMP:20260415T143427
CREATED:20230814T102739Z
LAST-MODIFIED:20230814T102907Z
UID:2940-1697846400-1697932799@earlymusicdiary.org.uk
SUMMARY:Come & Sing Handel Coronation Anthems
DESCRIPTION:An all day workshop singing the Four Coronation Anthems by George Frideric Handel. \nLed by David Ballard and accompanied by Philip Adams.
URL:https://earlymusicdiary.org.uk/event/2940/
LOCATION:Lighthouse Community Church\, Sheringham\, Norfolk\, NR26 8RT
CATEGORIES:Singers,Workshops
END:VEVENT
BEGIN:VEVENT
DTSTART;VALUE=DATE:20231021
DTEND;VALUE=DATE:20231022
DTSTAMP:20260415T143427
CREATED:20230628T143406Z
LAST-MODIFIED:20230628T143433Z
UID:2730-1697846400-1697932799@earlymusicdiary.org.uk
SUMMARY:SWEMF Workshop: Schein with Peter Syrus
DESCRIPTION:‘Lob\, Ehr und Dank’ – sacred music by Johann Hermann Schein\, for singers and instruments.
URL:https://earlymusicdiary.org.uk/event/2730/
LOCATION:Leckhampton Village Hall\, Cheltenham\, GL53 0PS
CATEGORIES:Instruments,Singers,Workshops
END:VEVENT
BEGIN:VEVENT
DTSTART;VALUE=DATE:20231021
DTEND;VALUE=DATE:20231022
DTSTAMP:20260415T143427
CREATED:20230512T091343Z
LAST-MODIFIED:20230512T091535Z
UID:2650-1697846400-1697932799@earlymusicdiary.org.uk
SUMMARY:NEEMF Workshop with Robert Hollingworth
DESCRIPTION:Workshop for voices and instruments with the NEEMF AGM at lunchtime – further details TBC.
URL:https://earlymusicdiary.org.uk/event/2650/
LOCATION:Clements Hall\, York\, Nunthorpe Rd\, York\, YO23 1BW
CATEGORIES:Instruments,Singers,Workshops
END:VEVENT
BEGIN:VEVENT
DTSTART;VALUE=DATE:20231020
DTEND;VALUE=DATE:20231023
DTSTAMP:20260415T143427
CREATED:20230706T143054Z
LAST-MODIFIED:20230706T143054Z
UID:2802-1697760000-1698019199@earlymusicdiary.org.uk
SUMMARY:Rondo Viol Academy
DESCRIPTION:Intermediate and Upper Intermediate.
URL:https://earlymusicdiary.org.uk/event/2802/
LOCATION:St. Katharine’s\, Henley-on-Thames\, RG9 6NN
CATEGORIES:Courses,Instruments
END:VEVENT
BEGIN:VEVENT
DTSTART;TZID=Europe/London:20231014T183000
DTEND;TZID=Europe/London:20231014T203000
DTSTAMP:20260415T143427
CREATED:20230929T143609Z
LAST-MODIFIED:20230929T143833Z
UID:3116-1697308200-1697315400@earlymusicdiary.org.uk
SUMMARY:London Motet & Madrigal Club Meeting
DESCRIPTION:A London-based music club who meet once a month to sing repertoire from the Elizabethan and Jacobean eras from Britain and Europe.
URL:https://earlymusicdiary.org.uk/event/3116/
LOCATION:St Michael’s\, Cornhill\, London\, EC3V 9DS
CATEGORIES:Singers,Workshops
END:VEVENT
BEGIN:VEVENT
DTSTART;TZID=Europe/London:20231014T130000
DTEND;TZID=Europe/London:20231014T160000
DTSTAMP:20260415T143427
CREATED:20230322T164305Z
LAST-MODIFIED:20230322T164305Z
UID:2398-1697288400-1697299200@earlymusicdiary.org.uk
SUMMARY:The Sixteen Choral Pilgrimage Workshop
DESCRIPTION:De Monte – Peccantem me quotidie\nByrd – Cibavit eos\nClemens non Papa – Tristitia et anxietas
URL:https://earlymusicdiary.org.uk/event/2398/
LOCATION:Greyfriars Kirk\, Edinburgh\, EH1 2QQ
CATEGORIES:Singers,Workshops
END:VEVENT
BEGIN:VEVENT
DTSTART;VALUE=DATE:20231014
DTEND;VALUE=DATE:20231203
DTSTAMP:20260415T143427
CREATED:20230911T074833Z
LAST-MODIFIED:20230911T074833Z
UID:3076-1697241600-1701561599@earlymusicdiary.org.uk
SUMMARY:Overcoming Performance Anxiety
DESCRIPTION:A six-week course for all who struggle with performance nerves. You’ll learn what performance anxiety is\, why it happens\, and how you can use physical and mental tools to lessen the symptoms. \nTutor: Dr Jennifer Mackerras.
URL:https://earlymusicdiary.org.uk/event/3076/
LOCATION:Online
CATEGORIES:Courses,Instruments,Online
END:VEVENT
BEGIN:VEVENT
DTSTART;VALUE=DATE:20231014
DTEND;VALUE=DATE:20231203
DTSTAMP:20260415T143427
CREATED:20230911T073355Z
LAST-MODIFIED:20230911T074626Z
UID:3068-1697241600-1701561599@earlymusicdiary.org.uk
SUMMARY:Fundamentals of playing the early Irish harp (Course 3)
DESCRIPTION:This course will teach you the the foundational skills and knowledge you need to explore the music and traditions of the early Irish harp at post-beginner level. \nTutor: Alessia Bianchi.
URL:https://earlymusicdiary.org.uk/event/3068/
LOCATION:Online
CATEGORIES:Courses,Instruments,Online
END:VEVENT
BEGIN:VEVENT
DTSTART;VALUE=DATE:20231014
DTEND;VALUE=DATE:20231016
DTSTAMP:20260415T143427
CREATED:20230531T072945Z
LAST-MODIFIED:20230531T072945Z
UID:2680-1697241600-1697414399@earlymusicdiary.org.uk
SUMMARY:Dorset Bach Cantata Club
DESCRIPTION:A weekend of Bach under the direction of Chris Brown. The cantatas to be studied are 23\, 77 and 136. \nPlease email dorsetbach_sec@hotmail.com to register or find out more.
URL:https://earlymusicdiary.org.uk/event/2680/
LOCATION:Sturminster Newton High School\, Bath Road\, Sturminster Newton\, DT10 1DT
CATEGORIES:Courses,Singers
END:VEVENT
BEGIN:VEVENT
DTSTART;VALUE=DATE:20231014
DTEND;VALUE=DATE:20231016
DTSTAMP:20260415T143427
CREATED:20230217T104018Z
LAST-MODIFIED:20230217T104106Z
UID:2179-1697241600-1697414399@earlymusicdiary.org.uk
SUMMARY:EEMF Workshop: Francisco Valls with Patrick Craig
DESCRIPTION:Weekend workshop for singers and players exploring Missa scala Aretina for three choirs.
URL:https://earlymusicdiary.org.uk/event/2179/
LOCATION:Thaxted Parish Church\, CM6 2PE
CATEGORIES:Instruments,Singers,Workshops
END:VEVENT
BEGIN:VEVENT
DTSTART;VALUE=DATE:20231014
DTEND;VALUE=DATE:20231015
DTSTAMP:20260415T143427
CREATED:20230906T105522Z
LAST-MODIFIED:20231009T131438Z
UID:3055-1697241600-1697327999@earlymusicdiary.org.uk
SUMMARY:Come & Sing Victoria & Juan Gutiérrez de Padilla
DESCRIPTION:Come & Sing Victoria’s ‘other’ Requiem: Missa pro Defunctis\, 1553\, and the music of Juan Gutiérrez de Padilla.  A workshop with Reading Bach Choir\, directed by Daniel Mahoney.
URL:https://earlymusicdiary.org.uk/event/3055/
LOCATION:Caversham Heights Methodist Church\, Reading\, RG4 7BG
CATEGORIES:Singers,Workshops
END:VEVENT
BEGIN:VEVENT
DTSTART;VALUE=DATE:20231014
DTEND;VALUE=DATE:20231203
DTSTAMP:20260415T143427
CREATED:20230911T073920Z
LAST-MODIFIED:20230911T074358Z
UID:3071-1697241600-1701561599@earlymusicdiary.org.uk
SUMMARY:Medieval Music from around Europe for Harp
DESCRIPTION:This course is designed to open a door for you into a medieval world of single-line dance melodies and multi-voiced compositions for you to play on any kind of harp. \nTutors: Carolin Margraf and Leah Stuttard.
URL:https://earlymusicdiary.org.uk/event/3071/
LOCATION:Online
CATEGORIES:Courses,Instruments,Online
END:VEVENT
BEGIN:VEVENT
DTSTART;VALUE=DATE:20231013
DTEND;VALUE=DATE:20231016
DTSTAMP:20260415T143427
CREATED:20230831T104217Z
LAST-MODIFIED:20230831T104217Z
UID:3030-1697155200-1697414399@earlymusicdiary.org.uk
SUMMARY:Monteverdi Sestina Chamber Weekender
DESCRIPTION:This weekend is designed to challenge and stimulate experienced choral singers in a chamber setting.
URL:https://earlymusicdiary.org.uk/event/3030/
LOCATION:St Barnabas\, Pimlico\, London\, SW1W 8PF
CATEGORIES:Courses,Singers
END:VEVENT
BEGIN:VEVENT
DTSTART;VALUE=DATE:20231007
DTEND;VALUE=DATE:20231008
DTSTAMP:20260415T143427
CREATED:20230922T065338Z
LAST-MODIFIED:20230922T065359Z
UID:3105-1696636800-1696723199@earlymusicdiary.org.uk
SUMMARY:Choral Workshop with James Gilchrist
DESCRIPTION:Bach – Christmas Oratorio (extracts)\nVivaldi – Gloria (1st movement)\nFaure – Cantique de Jean Racine\nRutter – The Keelrow & What Sweeter Music (carol)
URL:https://earlymusicdiary.org.uk/event/3105/
LOCATION:St Peter’s Church\, Leckhampton\, Cheltenham\, GL53 0QJ
CATEGORIES:Singers,Workshops
END:VEVENT
BEGIN:VEVENT
DTSTART;VALUE=DATE:20231007
DTEND;VALUE=DATE:20231008
DTSTAMP:20260415T143427
CREATED:20221130T182710Z
LAST-MODIFIED:20230418T130626Z
UID:1734-1696636800-1696723199@earlymusicdiary.org.uk
SUMMARY:MEMF Workshop: Mysterious Motets with Patrick Allies
DESCRIPTION:Mysterious Motets from 1539 – workshop for voices with Patrick Allies.
URL:https://earlymusicdiary.org.uk/event/1734/
LOCATION:St Faith and St Laurence Church\, Harborne\, Birmingham\, B17 8RD
CATEGORIES:Singers,Workshops
END:VEVENT
BEGIN:VEVENT
DTSTART;TZID=Europe/London:20231002T180000
DTEND;TZID=Europe/London:20231229T200000
DTSTAMP:20260415T143427
CREATED:20231129T180751Z
LAST-MODIFIED:20231129T184244Z
UID:3286-1696269600-1703880000@earlymusicdiary.org.uk
SUMMARY:Online Early Music Forum (OEMF)
DESCRIPTION:Every Monday and Friday\, In your own home\, online with Jamulus software (https://jamulus.io). \nOEMF began just before lockdown\, as the COVID19 pandemic was gathering momentum\, and has continued ever since. In addition to the usual equipment (your voice and your musical talent)\, you will need a computer with Jamulus software (https://jamulus.io). Turn off Wi-Fi (please read the excellent Jamulus documentation) and connect to the internet with an ethernet cable. Turn off speakers and Bluetooth and connect an audio interface with microphone and headphones. (There is a list of suggested equiment in the documentation.) Run Jamulus and ‘Connect’ to OEMF (Genre: Classical / Folk). Introduce yourself and join in. See you there!
URL:https://earlymusicdiary.org.uk/event/3286/
LOCATION:Online
CATEGORIES:Online,Singers,Workshops
END:VEVENT
BEGIN:VEVENT
DTSTART;VALUE=DATE:20231001
DTEND;VALUE=DATE:20231002
DTSTAMP:20260415T143427
CREATED:20230831T105833Z
LAST-MODIFIED:20230831T105854Z
UID:3034-1696118400-1696204799@earlymusicdiary.org.uk
SUMMARY:The Good\, The Byrd and The Ugly? Workshop
DESCRIPTION:A day’s workshop for singers and instrumentalists focusing on music by William Byrd & Thomas Weelkes\, alongside music by their English contemporaries.
URL:https://earlymusicdiary.org.uk/event/3034/
LOCATION:Holy Sepulchre\, London\, EC1A 2FD
CATEGORIES:Instruments,Singers,Workshops
END:VEVENT
BEGIN:VEVENT
DTSTART;VALUE=DATE:20230930
DTEND;VALUE=DATE:20231001
DTSTAMP:20260415T143427
CREATED:20230920T065556Z
LAST-MODIFIED:20230920T065937Z
UID:3090-1696032000-1696118399@earlymusicdiary.org.uk
SUMMARY:William Byrd Singing Day
DESCRIPTION:Cantanti Camerati joins forces with Ensemble Pro Victoria\, and invites you to a special Singing Day exploring the music of William Byrd. The music will include his Mass for Four Voices and Ave Verum\, among others. \nThe day will be led by Toby Ward\, Ensemble Pro Victoria’s artistic director\, accompanied by Seb Gillot\, Cantanti Camerati’s musical director.
URL:https://earlymusicdiary.org.uk/event/3090/
LOCATION:Duke Street Baptist Church\, Richmond\, TW9 1DH
CATEGORIES:Singers,Workshops
END:VEVENT
BEGIN:VEVENT
DTSTART;VALUE=DATE:20230930
DTEND;VALUE=DATE:20231001
DTSTAMP:20260415T143427
CREATED:20230814T102315Z
LAST-MODIFIED:20230814T102315Z
UID:2935-1696032000-1696118399@earlymusicdiary.org.uk
SUMMARY:Come & Sing Messiah
DESCRIPTION:Choral workshop with Marc Murray\, culminating in a free performance at about 4.15pm.
URL:https://earlymusicdiary.org.uk/event/2935/
LOCATION:Holy Trinity\, Southport\, PR9 9DX
CATEGORIES:Singers,Workshops
END:VEVENT
BEGIN:VEVENT
DTSTART;VALUE=DATE:20230930
DTEND;VALUE=DATE:20231001
DTSTAMP:20260415T143427
CREATED:20230706T094102Z
LAST-MODIFIED:20230706T094102Z
UID:2782-1696032000-1696118399@earlymusicdiary.org.uk
SUMMARY:Come & Sing Vivaldi & Weelkes
DESCRIPTION:Come and Sing Vivaldi: Gloria\, and Weelkes: Gloria in excelsis\, with Yeovil Chamber Choir. \n 
URL:https://earlymusicdiary.org.uk/event/2782/
LOCATION:St Andrew’s Church\, Yeovil\, BA21 3PZ
CATEGORIES:Singers,Workshops
END:VEVENT
BEGIN:VEVENT
DTSTART;VALUE=DATE:20230930
DTEND;VALUE=DATE:20231001
DTSTAMP:20260415T143427
CREATED:20230705T153202Z
LAST-MODIFIED:20230705T153202Z
UID:2759-1696032000-1696118399@earlymusicdiary.org.uk
SUMMARY:Playford 400 Workshop
DESCRIPTION:A workshop for early and folk instrumentalists celebrating the 400th anniversary of composer John Playford\, playing music from The English Dancing Master.
URL:https://earlymusicdiary.org.uk/event/2759/
LOCATION:St George’s Church\, Brighton\, BN2 1ED
CATEGORIES:Instruments,Workshops
END:VEVENT
BEGIN:VEVENT
DTSTART;VALUE=DATE:20230930
DTEND;VALUE=DATE:20231001
DTSTAMP:20260415T143427
CREATED:20230624T082401Z
LAST-MODIFIED:20230707T152422Z
UID:2724-1696032000-1696118399@earlymusicdiary.org.uk
SUMMARY:Come & Sing or Play Bieber’s Requiem in F Minor
DESCRIPTION:Come and Sing Henrich Bieber’s Requiem in F Minor and Polychoral motets for choir\, trombones and strings.  A day of workshops and rehearsal leading to a concert performance in the evening.
URL:https://earlymusicdiary.org.uk/event/2724/
LOCATION:St John’s\, Ranmoor\, Sheffield\, S10 3GX
CATEGORIES:Instruments,Singers,Workshops
END:VEVENT
END:VCALENDAR