BEGIN:VCALENDAR
VERSION:2.0
PRODID:-//Early Music Diary - ECPv6.15.20//NONSGML v1.0//EN
CALSCALE:GREGORIAN
METHOD:PUBLISH
X-WR-CALNAME:Early Music Diary
X-ORIGINAL-URL:https://earlymusicdiary.org.uk
X-WR-CALDESC:Events for Early Music Diary
REFRESH-INTERVAL;VALUE=DURATION:PT1H
X-Robots-Tag:noindex
X-PUBLISHED-TTL:PT1H
BEGIN:VTIMEZONE
TZID:Europe/London
BEGIN:DAYLIGHT
TZOFFSETFROM:+0000
TZOFFSETTO:+0100
TZNAME:BST
DTSTART:20250330T010000
END:DAYLIGHT
BEGIN:STANDARD
TZOFFSETFROM:+0100
TZOFFSETTO:+0000
TZNAME:GMT
DTSTART:20251026T010000
END:STANDARD
BEGIN:DAYLIGHT
TZOFFSETFROM:+0000
TZOFFSETTO:+0100
TZNAME:BST
DTSTART:20260329T010000
END:DAYLIGHT
BEGIN:STANDARD
TZOFFSETFROM:+0100
TZOFFSETTO:+0000
TZNAME:GMT
DTSTART:20261025T010000
END:STANDARD
BEGIN:DAYLIGHT
TZOFFSETFROM:+0000
TZOFFSETTO:+0100
TZNAME:BST
DTSTART:20270328T010000
END:DAYLIGHT
BEGIN:STANDARD
TZOFFSETFROM:+0100
TZOFFSETTO:+0000
TZNAME:GMT
DTSTART:20271031T010000
END:STANDARD
END:VTIMEZONE
BEGIN:VEVENT
DTSTART;VALUE=DATE:20260523
DTEND;VALUE=DATE:20260608
DTSTAMP:20260420T230244
CREATED:20260409T101429Z
LAST-MODIFIED:20260409T102028Z
UID:5395-1779494400-1780876799@earlymusicdiary.org.uk
SUMMARY:Purbeck Art Weeks Festival 2026
DESCRIPTION:PAW Festival 2026 brings together music\, visual art\, and poetry in a vibrant programme of nine concerts\, a vocal workshop and our annual open mic poetry evening.  Featuring I Fagiolini\, Parnassus Ensemble\, Lizzie Ball\, Miloš Milivojević\, Fieri Consort\, Toby Carr\, Liza Sommers & Grace Newcombe\, Jeremy Avis\, Sam Stadlen\, Suntou Susso\, Simo Lagnawi\, Rebecca Askew\, Tim Dickinson and Hannah Ely.
URL:https://earlymusicdiary.org.uk/event/5395/
CATEGORIES:Festivals,Instruments,Singers
END:VEVENT
BEGIN:VEVENT
DTSTART;TZID=Europe/London:20260523T183000
DTEND;TZID=Europe/London:20260523T203000
DTSTAMP:20260420T230244
CREATED:20260203T122133Z
LAST-MODIFIED:20260203T122648Z
UID:5285-1779561000-1779568200@earlymusicdiary.org.uk
SUMMARY:London Motet & Madrigal Club Meeting
DESCRIPTION:A London-based music club who meet once a month to sing repertoire from the Elizabethan and Jacobean eras from Britain and Europe.
URL:https://earlymusicdiary.org.uk/event/5285/
LOCATION:St Michael’s\, Cornhill\, London\, EC3V 9DS
CATEGORIES:Singers,Workshops
END:VEVENT
BEGIN:VEVENT
DTSTART;VALUE=DATE:20260524
DTEND;VALUE=DATE:20260530
DTSTAMP:20260420T230244
CREATED:20251117T143050Z
LAST-MODIFIED:20251117T143111Z
UID:5100-1779580800-1780099199@earlymusicdiary.org.uk
SUMMARY:Voices\, Viols & Recorders Association
DESCRIPTION:An un-tutored course for experienced singers and players of early instruments. \nNon-fixed ensembles of recorders and viols form the main part of the week with a variety of small singing groups depending on participants.  Evening sessions for all are conducted and include music for instruments and voices.
URL:https://earlymusicdiary.org.uk/event/5100/
LOCATION:Halsway Manor\, Halsway Lane\, Crowcombe\, Taunton\, TA4 4BD
CATEGORIES:Courses,Instruments,Singers
END:VEVENT
BEGIN:VEVENT
DTSTART;VALUE=DATE:20260526
DTEND;VALUE=DATE:20260527
DTSTAMP:20260420T230244
CREATED:20260121T094759Z
LAST-MODIFIED:20260121T094840Z
UID:5230-1779753600-1779839999@earlymusicdiary.org.uk
SUMMARY:Come & Sing A Cappella Wonders
DESCRIPTION:Led by Ben England BEM\, these events offer a rare opportunity to delve into some of the most sublime works in the vocal canon\, including: \n\nAllegri’s Miserere\nStanford’s Bluebird\nBono/U2 (arr. Bob Chilcott) MLK\nTallis’ If Ye Love Me\nChesnokov (arr. Gowers) Let My Prayer Arise\n\nThis event will be repeated in Warrington and Wimbledon – follow link for details of all three events.
URL:https://earlymusicdiary.org.uk/event/5230/
LOCATION:St Olave’s\, York\, YO30 7DR\,
CATEGORIES:Singers,Workshops
END:VEVENT
BEGIN:VEVENT
DTSTART;VALUE=DATE:20260528
DTEND;VALUE=DATE:20260529
DTSTAMP:20260420T230244
CREATED:20260121T095157Z
LAST-MODIFIED:20260121T095231Z
UID:5236-1779926400-1780012799@earlymusicdiary.org.uk
SUMMARY:Come & Sing A Cappella Wonders
DESCRIPTION:Led by Ben England BEM\, these events offer a rare opportunity to delve into some of the most sublime works in the vocal canon\, including: \n\nAllegri’s Miserere\nStanford’s Bluebird\nBono/U2 (arr. Bob Chilcott) MLK\nTallis’ If Ye Love Me\nChesnokov (arr. Gowers) Let My Prayer Arise\n\nThis event will be repeated in York and Wimbledon – follow link for details of all three events.
URL:https://earlymusicdiary.org.uk/event/5236/
LOCATION:Church of the Ascension\, Warrington\, WA1 4ES
CATEGORIES:Singers,Workshops
END:VEVENT
BEGIN:VEVENT
DTSTART;VALUE=DATE:20260529
DTEND;VALUE=DATE:20260601
DTSTAMP:20260420T230244
CREATED:20260331T140856Z
LAST-MODIFIED:20260331T140856Z
UID:5370-1780012800-1780271999@earlymusicdiary.org.uk
SUMMARY:Saltaire Recorder Weekend
DESCRIPTION:A full weekend of music-making\, inspiration and discovery\, including concerts\, playing sessions and more.
URL:https://earlymusicdiary.org.uk/event/5370/
LOCATION:Titus Salt School\, Shipley\, BD17 5RH
CATEGORIES:Festivals,Instruments
END:VEVENT
BEGIN:VEVENT
DTSTART;VALUE=DATE:20260530
DTEND;VALUE=DATE:20260531
DTSTAMP:20260420T230244
CREATED:20251124T144846Z
LAST-MODIFIED:20251124T144846Z
UID:5126-1780099200-1780185599@earlymusicdiary.org.uk
SUMMARY:BMEMF Workshop with Emma Gibbins
DESCRIPTION:Workshop for singers with the theme ‘Faith as Treason’.
URL:https://earlymusicdiary.org.uk/event/5126/
LOCATION:Clytha House\, Abergavenny\, NP7 9BW
CATEGORIES:Singers,Workshops
END:VEVENT
BEGIN:VEVENT
DTSTART;VALUE=DATE:20260530
DTEND;VALUE=DATE:20260531
DTSTAMP:20260420T230244
CREATED:20251124T153601Z
LAST-MODIFIED:20251124T153601Z
UID:5153-1780099200-1780185599@earlymusicdiary.org.uk
SUMMARY:SWEMF Workshop with Peter Wendland
DESCRIPTION:Vocal and instrumental polychoral music with Peter Wendland.
URL:https://earlymusicdiary.org.uk/event/5153/
LOCATION:Seavington Millennium Hall\, nr Ilminster\, Somerset\, TA19 0QH
CATEGORIES:Instruments,Singers,Workshops
END:VEVENT
BEGIN:VEVENT
DTSTART;VALUE=DATE:20260530
DTEND;VALUE=DATE:20260531
DTSTAMP:20260420T230244
CREATED:20260121T095419Z
LAST-MODIFIED:20260121T095430Z
UID:5240-1780099200-1780185599@earlymusicdiary.org.uk
SUMMARY:Come & Sing A Cappella Wonders
DESCRIPTION:Led by Ben England BEM\, these events offer a rare opportunity to delve into some of the most sublime works in the vocal canon\, including: \n\nAllegri’s Miserere\nStanford’s Bluebird\nBono/U2 (arr. Bob Chilcott) MLK\nTallis’ If Ye Love Me\nChesnokov (arr. Gowers) Let My Prayer Arise\n\nThis event will be repeated in York and Warrington – follow link for details of all three events.
URL:https://earlymusicdiary.org.uk/event/5240/
LOCATION:St John The Baptist\, Wimbledon\, London\, SW19 4NZ
CATEGORIES:Singers,Workshops
END:VEVENT
BEGIN:VEVENT
DTSTART;TZID=Europe/London:20260530T110000
DTEND;TZID=Europe/London:20260530T130000
DTSTAMP:20260420T230244
CREATED:20260409T101947Z
LAST-MODIFIED:20260409T101947Z
UID:5399-1780138800-1780146000@earlymusicdiary.org.uk
SUMMARY:Purbeck Art Weeks Medieval Vocal Workshop
DESCRIPTION:Led by Grace Newcombe with Liane Sadler & Colin Heller. \nFollowing Friday’s fusion of folk and medieval sound worlds\, and ahead of her recital of medieval song\, Grace Newcombe invites singers to step inside the soundscape themselves.  This immersive workshop explores the luminous textures of 15th-century polyphony alongside 13th-century Middle English song.c Open to confident singers and the curious alike\, it’s a rare chance to experience medieval repertoire with one of today’s leading specialists.
URL:https://earlymusicdiary.org.uk/event/5399/
LOCATION:Wareham URC\, BH20 4HH
CATEGORIES:Singers,Workshops
END:VEVENT
BEGIN:VEVENT
DTSTART;VALUE=DATE:20260601
DTEND;VALUE=DATE:20260605
DTSTAMP:20260420T230244
CREATED:20250801T112724Z
LAST-MODIFIED:20250801T112724Z
UID:4882-1780272000-1780617599@earlymusicdiary.org.uk
SUMMARY:Renaissance Polyphony
DESCRIPTION:Glorious renaissance polyphony for choir with historic brass. \nTutors: Jeremy West\, Gareth Wilson.
URL:https://earlymusicdiary.org.uk/event/4882/
LOCATION:Benslow Music\, Benslow Lane\, Hitchin\, Hertfordshire\, SG4 9RB
CATEGORIES:Courses,Instruments,Singers
END:VEVENT
BEGIN:VEVENT
DTSTART;VALUE=DATE:20260606
DTEND;VALUE=DATE:20260607
DTSTAMP:20260420T230244
CREATED:20260402T154334Z
LAST-MODIFIED:20260402T154334Z
UID:5389-1780704000-1780790399@earlymusicdiary.org.uk
SUMMARY:NEEMF Workshop with Deborah Catterall
DESCRIPTION:Missa Laetatus Sum by Tomás Luis de Victoria – a workshop for voices and instruments led by Deborah Catterall.
URL:https://earlymusicdiary.org.uk/event/5389/
LOCATION:Calcutt & Forest Moor Village Hall\, HG5 8JF
CATEGORIES:Instruments,Singers,Workshops
END:VEVENT
BEGIN:VEVENT
DTSTART;VALUE=DATE:20260607
DTEND;VALUE=DATE:20260614
DTSTAMP:20260420T230244
CREATED:20251117T144004Z
LAST-MODIFIED:20251117T144004Z
UID:5105-1780790400-1781395199@earlymusicdiary.org.uk
SUMMARY:Music at Monteconero 2026
DESCRIPTION:This course is based on the music of the generation that followed Adrian Willaert and preceded Claudio Monteverdi. \nDirected by Eamonn Dougan.
URL:https://earlymusicdiary.org.uk/event/5105/
LOCATION:Monteconero\, Sirolo\, Italy 60020
CATEGORIES:Courses,Singers
END:VEVENT
BEGIN:VEVENT
DTSTART;VALUE=DATE:20260613
DTEND;VALUE=DATE:20260614
DTSTAMP:20260420T230244
CREATED:20250710T101046Z
LAST-MODIFIED:20260402T153739Z
UID:4826-1781308800-1781395199@earlymusicdiary.org.uk
SUMMARY:NWEMF Workshop with Peter Wendland
DESCRIPTION:Polychoral music by Heinrich Schütz\, workshop for voices and instruments with Peter Wendland.
URL:https://earlymusicdiary.org.uk/event/4826/
LOCATION:Lancaster Campus\, University of Cumbria\, LA1 3JD
CATEGORIES:Instruments,Singers,Workshops
END:VEVENT
BEGIN:VEVENT
DTSTART;VALUE=DATE:20260613
DTEND;VALUE=DATE:20260614
DTSTAMP:20260420T230244
CREATED:20260402T150449Z
LAST-MODIFIED:20260402T151226Z
UID:5376-1781308800-1781395199@earlymusicdiary.org.uk
SUMMARY:TVEMF Workshop with Bill Hunt
DESCRIPTION:The Pre-Restoration consort anthem: a trove of neglected English treasures\, a workshop for voices and instruments with Bill Hunt. \n​
URL:https://earlymusicdiary.org.uk/event/5376/
LOCATION:St John’s URC\, Northwood\, Hallowell Road\, HA6 1DN
CATEGORIES:Instruments,Singers,Workshops
END:VEVENT
BEGIN:VEVENT
DTSTART;TZID=Europe/London:20260613T183000
DTEND;TZID=Europe/London:20260613T203000
DTSTAMP:20260420T230244
CREATED:20260203T122243Z
LAST-MODIFIED:20260203T122544Z
UID:5286-1781375400-1781382600@earlymusicdiary.org.uk
SUMMARY:London Motet & Madrigal Club Meeting
DESCRIPTION:A London-based music club who meet once a month to sing repertoire from the Elizabethan and Jacobean eras from Britain and Europe.
URL:https://earlymusicdiary.org.uk/event/5286/
LOCATION:St Michael’s\, Cornhill\, London\, EC3V 9DS
CATEGORIES:Singers,Workshops
END:VEVENT
BEGIN:VEVENT
DTSTART;VALUE=DATE:20260618
DTEND;VALUE=DATE:20260623
DTSTAMP:20260420T230244
CREATED:20250801T112751Z
LAST-MODIFIED:20250801T112751Z
UID:4883-1781740800-1782172799@earlymusicdiary.org.uk
SUMMARY:Summer Viols
DESCRIPTION:Summer Viols\, directed by Alison Crum and Alison Kinder.
URL:https://earlymusicdiary.org.uk/event/4883/
LOCATION:Benslow Music\, Benslow Lane\, Hitchin\, Hertfordshire\, SG4 9RB
CATEGORIES:Courses,Instruments
END:VEVENT
BEGIN:VEVENT
DTSTART;VALUE=DATE:20260620
DTEND;VALUE=DATE:20260621
DTSTAMP:20260420T230244
CREATED:20250801T113441Z
LAST-MODIFIED:20250801T113441Z
UID:4902-1781913600-1781999999@earlymusicdiary.org.uk
SUMMARY:Viol Discovery Day
DESCRIPTION:In this discovery day course tutors provide an introduction to the instrument\, basic playing techniques and rich repertoire. The course also includes a ticket to the evening’s Rose Consort of Viols concert. No previous string playing experience required.
URL:https://earlymusicdiary.org.uk/event/4902/
LOCATION:Benslow Music\, Benslow Lane\, Hitchin\, Hertfordshire\, SG4 9RB
CATEGORIES:Courses,Instruments
END:VEVENT
BEGIN:VEVENT
DTSTART;VALUE=DATE:20260620
DTEND;VALUE=DATE:20260621
DTSTAMP:20260420T230244
CREATED:20251017T134914Z
LAST-MODIFIED:20251017T135129Z
UID:5068-1781913600-1781999999@earlymusicdiary.org.uk
SUMMARY:MEMF Workshop: Colossal Baroque with Stephen Bullamore
DESCRIPTION:Save the date for this Workshop for Voices and Instruments with Dr Stephen Bullamore. \nMusic\, subject to confirmation\, to include large scale works for voices\, strings\, wind and brass at pitch A=440 by Giovanni Gabrieli (Venice)\, Heinrich Schütz (Dresden)\, Orazio Benevoli (Rome)\, Heinrich Biber (Salzburg)\, M.A Charpentier (Paris).
URL:https://earlymusicdiary.org.uk/event/5068/
LOCATION:St Mary Magdalene Church\, Newark-on-Trent\, NG24 1JS
CATEGORIES:Instruments,Singers,Workshops
END:VEVENT
BEGIN:VEVENT
DTSTART;VALUE=DATE:20260620
DTEND;VALUE=DATE:20260621
DTSTAMP:20260420T230244
CREATED:20251124T153904Z
LAST-MODIFIED:20251124T153904Z
UID:5158-1781913600-1781999999@earlymusicdiary.org.uk
SUMMARY:SWEMF Workshop with Katy Silverman
DESCRIPTION:Vocal music by Edmund Hooper and his contemporaries\, with Katy Silverman.
URL:https://earlymusicdiary.org.uk/event/5158/
LOCATION:St Cuthbert’s\, Wells\, BA5 2AW
CATEGORIES:Singers,Workshops
END:VEVENT
BEGIN:VEVENT
DTSTART;VALUE=DATE:20260704
DTEND;VALUE=DATE:20260705
DTSTAMP:20260420T230244
CREATED:20251124T145630Z
LAST-MODIFIED:20251124T145630Z
UID:5134-1783123200-1783209599@earlymusicdiary.org.uk
SUMMARY:BMEMF Workshop with David Hatcher
DESCRIPTION:Workshop for singers and instrumentalists with David Hatcher\, also includes BMEMF AGM.
URL:https://earlymusicdiary.org.uk/event/5134/
LOCATION:Bishopswood Village Hall\, Herefordshire\, HR9 5QT
CATEGORIES:Instruments,Singers,Workshops
END:VEVENT
BEGIN:VEVENT
DTSTART;VALUE=DATE:20260705
DTEND;VALUE=DATE:20260711
DTSTAMP:20260420T230244
CREATED:20251117T144255Z
LAST-MODIFIED:20251117T144255Z
UID:5107-1783209600-1783727999@earlymusicdiary.org.uk
SUMMARY:Ludlow Summer School 2026
DESCRIPTION:Treasures of the Spanish Renaissance ~ the music of the golden century: Cristóbal de Morales\, Tomás Luis de Victoria\, Philippe Rogier\, Juan de Esquivel and Alonso Lobo. \nDirected by Bill Carslake.
URL:https://earlymusicdiary.org.uk/event/5107/
LOCATION:St Laurence’s Church\, Ludlow\, SY8 1AN
CATEGORIES:Courses,Singers
END:VEVENT
BEGIN:VEVENT
DTSTART;VALUE=DATE:20260706
DTEND;VALUE=DATE:20260713
DTSTAMP:20260420T230244
CREATED:20260119T111048Z
LAST-MODIFIED:20260119T111048Z
UID:5220-1783296000-1783900799@earlymusicdiary.org.uk
SUMMARY:Chalemie Summer School
DESCRIPTION:Chalemie Summer School in Early Music\, Dance\, Period Costume Making and Commedia.  Leading performers from the group will direct a series of workshops on 17th/18th century music\, song\, dance\, commedia and costume making\, with a particular emphasis on the English repertoire of this period.
URL:https://earlymusicdiary.org.uk/event/5220/
LOCATION:Uppingham School\, Oakham\, Rutland\, LE15 9QE
CATEGORIES:Courses,Instruments,Singers
END:VEVENT
BEGIN:VEVENT
DTSTART;VALUE=DATE:20260710
DTEND;VALUE=DATE:20260713
DTSTAMP:20260420T230244
CREATED:20260119T115119Z
LAST-MODIFIED:20260313T112348Z
UID:5225-1783641600-1783900799@earlymusicdiary.org.uk
SUMMARY:Country Choral Early Music Course
DESCRIPTION:This mixed-voice early music workshop marks 400 years since John Dowland with an in-depth exploration of his complete published lute-song output. \nWorking in small mixed-voice ensembles\, the weekend will focus on Dowland’s music as shared ensemble repertoire\, with attention to text\, rhetoric\, tuning\, contrapuntal clarity and ensemble contact. \n*More tenors and basses needed!*
URL:https://earlymusicdiary.org.uk/event/5225/
LOCATION:High Trenhouse\, Yorkshire Dales\, BD24 9PR
CATEGORIES:Courses,Singers
END:VEVENT
BEGIN:VEVENT
DTSTART;TZID=Europe/London:20260711T111500
DTEND;TZID=Europe/London:20260711T151500
DTSTAMP:20260420T230244
CREATED:20260203T122432Z
LAST-MODIFIED:20260204T152157Z
UID:5287-1783768500-1783782900@earlymusicdiary.org.uk
SUMMARY:London Motet & Madrigal Club Summer Meeting
DESCRIPTION:Summer Meeting with optional lunch. \nA London-based music club who meet once a month to sing repertoire from the Elizabethan and Jacobean eras from Britain and Europe.
URL:https://earlymusicdiary.org.uk/event/5287/
LOCATION:St Michael’s\, Cornhill\, London\, EC3V 9DS
CATEGORIES:Singers,Workshops
END:VEVENT
BEGIN:VEVENT
DTSTART;VALUE=DATE:20260718
DTEND;VALUE=DATE:20260719
DTSTAMP:20260420T230244
CREATED:20251124T154238Z
LAST-MODIFIED:20251124T154238Z
UID:5162-1784332800-1784419199@earlymusicdiary.org.uk
SUMMARY:SWEMF Workshop with Clare Griffel
DESCRIPTION:Workshop for voices and instruments\, with Clare Griffel.  Details TBC.
URL:https://earlymusicdiary.org.uk/event/5162/
LOCATION:Wembury Village Hall\, Plymouth\, PL9 0LF
CATEGORIES:Instruments,Singers,Workshops
END:VEVENT
BEGIN:VEVENT
DTSTART;VALUE=DATE:20260718
DTEND;VALUE=DATE:20260719
DTSTAMP:20260420T230244
CREATED:20260402T151053Z
LAST-MODIFIED:20260402T151107Z
UID:5378-1784332800-1784419199@earlymusicdiary.org.uk
SUMMARY:TVEMF Workshop: Dowland 400 with Lynda Sayce
DESCRIPTION:Dowland 400 workshop for voices\, lutes\, viols\, recorders and other appropriate softer instruments with Lynda Sayce.  Details TBC.
URL:https://earlymusicdiary.org.uk/event/5378/
CATEGORIES:Instruments,Singers,Workshops
END:VEVENT
BEGIN:VEVENT
DTSTART;VALUE=DATE:20260718
DTEND;VALUE=DATE:20260719
DTSTAMP:20260420T230244
CREATED:20260402T154531Z
LAST-MODIFIED:20260402T154531Z
UID:5391-1784332800-1784419199@earlymusicdiary.org.uk
SUMMARY:NEEMF Workshop with Ali Kinder
DESCRIPTION:Praise and Prayer – a workshop for all singers and instruments\, led by Ali Kinder.
URL:https://earlymusicdiary.org.uk/event/5391/
LOCATION:St Francis Church Hall\, Newcastle\, NE7 7QH
CATEGORIES:Instruments,Singers,Workshops
END:VEVENT
BEGIN:VEVENT
DTSTART;VALUE=DATE:20260719
DTEND;VALUE=DATE:20260725
DTSTAMP:20260420T230244
CREATED:20260126T154343Z
LAST-MODIFIED:20260126T154410Z
UID:5273-1784419200-1784937599@earlymusicdiary.org.uk
SUMMARY:Beauchamp Early Music Summer School
DESCRIPTION:Summer School for Enthusiasts of Early Music\, both instrumentalists and singers\, offering full board or daily attendance. \nSpread over 6 days the course is ably led by David Hatcher and David Allinson\, allowing participants to enjoy a high standard of music making.
URL:https://earlymusicdiary.org.uk/event/5273/
LOCATION:Malvern College\, WR14 3DF
CATEGORIES:Courses,Instruments,Singers
END:VEVENT
BEGIN:VEVENT
DTSTART;VALUE=DATE:20260719
DTEND;VALUE=DATE:20260727
DTSTAMP:20260420T230244
CREATED:20260126T151637Z
LAST-MODIFIED:20260126T151750Z
UID:5266-1784419200-1785110399@earlymusicdiary.org.uk
SUMMARY:Cambridge Early Music Renaissance Summer School
DESCRIPTION:The Song of Songs: sacred love songs by Palestrina\, Lassus\, L’Héritier\, Gombert and others. \nFor Voices and Viols. \nSpend time with like-minded musicians\, and develop your skills under the guidance of a world-class team of tutors: course director and vocal tutor Clare Wilkinson\, vocal tutors Carys Lane\, Giles Underwood and Nicholas Hurndall Smith\, and viol tutors Alison Crum and Alison Kinder.
URL:https://earlymusicdiary.org.uk/event/5266/
LOCATION:Benslow Music\, Benslow Lane\, Hitchin\, Hertfordshire\, SG4 9RB
CATEGORIES:Courses,Instruments,Singers
END:VEVENT
END:VCALENDAR