BEGIN:VCALENDAR
VERSION:2.0
PRODID:-//Early Music Diary - ECPv6.15.20//NONSGML v1.0//EN
CALSCALE:GREGORIAN
METHOD:PUBLISH
X-ORIGINAL-URL:https://earlymusicdiary.org.uk
X-WR-CALDESC:Events for Early Music Diary
REFRESH-INTERVAL;VALUE=DURATION:PT1H
X-Robots-Tag:noindex
X-PUBLISHED-TTL:PT1H
BEGIN:VTIMEZONE
TZID:Europe/London
BEGIN:DAYLIGHT
TZOFFSETFROM:+0000
TZOFFSETTO:+0100
TZNAME:BST
DTSTART:20220327T010000
END:DAYLIGHT
BEGIN:STANDARD
TZOFFSETFROM:+0100
TZOFFSETTO:+0000
TZNAME:GMT
DTSTART:20221030T010000
END:STANDARD
BEGIN:DAYLIGHT
TZOFFSETFROM:+0000
TZOFFSETTO:+0100
TZNAME:BST
DTSTART:20230326T010000
END:DAYLIGHT
BEGIN:STANDARD
TZOFFSETFROM:+0100
TZOFFSETTO:+0000
TZNAME:GMT
DTSTART:20231029T010000
END:STANDARD
BEGIN:DAYLIGHT
TZOFFSETFROM:+0000
TZOFFSETTO:+0100
TZNAME:BST
DTSTART:20240331T010000
END:DAYLIGHT
BEGIN:STANDARD
TZOFFSETFROM:+0100
TZOFFSETTO:+0000
TZNAME:GMT
DTSTART:20241027T010000
END:STANDARD
END:VTIMEZONE
BEGIN:VEVENT
DTSTART;VALUE=DATE:20230827
DTEND;VALUE=DATE:20230902
DTSTAMP:20260416T162237
CREATED:20230406T153834Z
LAST-MODIFIED:20230406T153944Z
UID:2488-1693094400-1693612799@earlymusicdiary.org.uk
SUMMARY:Josquin des Prez with Rory Wainwright Johnston
DESCRIPTION:A course for amateur choral singers of all nationalities and ages in a small town in southwest France. It sets the music of the great Josquin des Pres alongside that of his contemporaries. The course will be held in English.
URL:https://earlymusicdiary.org.uk/event/2488/
LOCATION:Gourdon-en-Quercy\, Lot\, France 46300
CATEGORIES:Courses,Singers
END:VEVENT
BEGIN:VEVENT
DTSTART;VALUE=DATE:20230821
DTEND;VALUE=DATE:20230826
DTSTAMP:20260416T162237
CREATED:20220922T160344Z
LAST-MODIFIED:20221218T123729Z
UID:1229-1692576000-1693007999@earlymusicdiary.org.uk
SUMMARY:The Historically Informed Summer School
DESCRIPTION:Exploring the Common Grounds between early music\, and its more formalised development\, and the music of the people\, embodied in traditional and folk music. \nOpen to all singers & players of wind\, string\, plucked and keyboard instruments (folk\, period & modern). Course pitch is A=440. Big recorders are especially welcome!
URL:https://earlymusicdiary.org.uk/event/1229/
LOCATION:Bishop Burton College\, York Road\, Bishop Burton\, HU17 8QG
CATEGORIES:Courses,Instruments,Singers
END:VEVENT
BEGIN:VEVENT
DTSTART;VALUE=DATE:20230821
DTEND;VALUE=DATE:20230825
DTSTAMP:20260416T162237
CREATED:20230315T184111Z
LAST-MODIFIED:20230315T184111Z
UID:2349-1692576000-1692921599@earlymusicdiary.org.uk
SUMMARY:Bach Cello Suites with Jenny Curtis
DESCRIPTION:This course is about discovering the joy and genius of the Bach suites in an open lesson/masterclass format. \nTutor: Jenny Curtis
URL:https://earlymusicdiary.org.uk/event/2349/
LOCATION:Benslow Music\, Benslow Lane\, Hitchin\, Hertfordshire\, SG4 9RB
CATEGORIES:Courses,Instruments
END:VEVENT
BEGIN:VEVENT
DTSTART;VALUE=DATE:20230820
DTEND;VALUE=DATE:20230821
DTSTAMP:20260416T162237
CREATED:20230323T162838Z
LAST-MODIFIED:20230323T163234Z
UID:2410-1692489600-1692575999@earlymusicdiary.org.uk
SUMMARY:Sing as a Member of Tenebrae
DESCRIPTION:Nigel Short and Tenebrae will hold Masterclasses for Spem in Alium by Tallis and the Allegri Miserere.  Then in the evening\, join Tenebrae for Spem in Alium and the Miserere as part of a Tenebrae concert.
URL:https://earlymusicdiary.org.uk/event/2410/
LOCATION:Rugby School\, Warwickshire\, CV22 5EH
CATEGORIES:Singers,Workshops
END:VEVENT
BEGIN:VEVENT
DTSTART;VALUE=DATE:20230819
DTEND;VALUE=DATE:20230828
DTSTAMP:20260416T162237
CREATED:20230706T074214Z
LAST-MODIFIED:20230706T074214Z
UID:2776-1692403200-1693180799@earlymusicdiary.org.uk
SUMMARY:Baroque Dance Summer School
DESCRIPTION:This non-residential course is designed for all levels from the absolute beginner to the professional dancer and concentrates on the technique\, presentation & notation of Baroque dance.
URL:https://earlymusicdiary.org.uk/event/2776/
LOCATION:Rubicon Dance Centre\, Nora Street\, Cardiff\, CF24 1ND
CATEGORIES:Courses,Workshops
END:VEVENT
BEGIN:VEVENT
DTSTART;VALUE=DATE:20230819
DTEND;VALUE=DATE:20230827
DTSTAMP:20260416T162237
CREATED:20221206T085059Z
LAST-MODIFIED:20221206T085059Z
UID:1744-1692403200-1693094399@earlymusicdiary.org.uk
SUMMARY:Irish Recorder and Viol Course
DESCRIPTION:A course designed for players of recorders\, viols and other early instruments.
URL:https://earlymusicdiary.org.uk/event/1744/
LOCATION:An Grianán\, Co. Louth\, A92 X9TF
CATEGORIES:Courses,Instruments
END:VEVENT
BEGIN:VEVENT
DTSTART;VALUE=DATE:20230819
DTEND;VALUE=DATE:20230820
DTSTAMP:20260416T162237
CREATED:20230720T074446Z
LAST-MODIFIED:20230720T074446Z
UID:2864-1692403200-1692489599@earlymusicdiary.org.uk
SUMMARY:Come & Sing Coronation Anthems
DESCRIPTION:An extended workshop exploring music written for coronations over the past five centuries\, including favourite music such as Handel’s ‘Zadok the Priest’ alongside some hidden gems by earlier and later composers.  The conductor is Nicholas Wilks\, and the organist will be Chris Nickol. \n​ \n​
URL:https://earlymusicdiary.org.uk/event/2864/
LOCATION:St John’s Episcopal Church\, Greenock\, PA16 8JJ
CATEGORIES:Singers,Workshops
END:VEVENT
BEGIN:VEVENT
DTSTART;VALUE=DATE:20230818
DTEND;VALUE=DATE:20230822
DTSTAMP:20260416T162237
CREATED:20230315T152345Z
LAST-MODIFIED:20230315T152345Z
UID:2340-1692316800-1692662399@earlymusicdiary.org.uk
SUMMARY:Baroque Buffet: Baroque on Modern Instruments
DESCRIPTION:An increasingly popular course for those interested in Baroque performance practice using modern instruments. Three experienced tutors in strings\, wind and keyboard guide the course in a friendly and relaxed atmosphere! \nTutors: Julia Bishop\, Sophie Middleditch\, David Pollock
URL:https://earlymusicdiary.org.uk/event/2340/
LOCATION:Benslow Music\, Benslow Lane\, Hitchin\, Hertfordshire\, SG4 9RB
CATEGORIES:Courses,Instruments
END:VEVENT
BEGIN:VEVENT
DTSTART;VALUE=DATE:20230813
DTEND;VALUE=DATE:20230821
DTSTAMP:20260416T162237
CREATED:20230205T114805Z
LAST-MODIFIED:20230205T115026Z
UID:2042-1691884800-1692575999@earlymusicdiary.org.uk
SUMMARY:Assisi Summer School with Rory McCleery
DESCRIPTION:This course is for more advanced singer so numbers will be capped at around 40.
URL:https://earlymusicdiary.org.uk/event/2042/
LOCATION:Piazza del Comune\, Assisi\, Italy 06081
CATEGORIES:Courses,Singers
END:VEVENT
BEGIN:VEVENT
DTSTART;VALUE=DATE:20230813
DTEND;VALUE=DATE:20230821
DTSTAMP:20260416T162237
CREATED:20221003T142917Z
LAST-MODIFIED:20221218T123436Z
UID:1291-1691884800-1692575999@earlymusicdiary.org.uk
SUMMARY:Baroque Week
DESCRIPTION:Residential Baroque Music Summer School for baroque wind\, string and continuo players and up to ten singers\, but there are also opportunities for instrumentalists to sing.
URL:https://earlymusicdiary.org.uk/event/1291/
LOCATION:Queen Anne’s School\, Caversham\, Berkshire\, RG4 6DX
CATEGORIES:Courses,Instruments,Singers
END:VEVENT
BEGIN:VEVENT
DTSTART;VALUE=DATE:20230813
DTEND;VALUE=DATE:20230820
DTSTAMP:20260416T162237
CREATED:20230427T094554Z
LAST-MODIFIED:20230427T094616Z
UID:2573-1691884800-1692489599@earlymusicdiary.org.uk
SUMMARY:Early Music Summer School
DESCRIPTION:For competent singers\, viol and recorder players\, covering music c1450-c1650. \nDeborah Catterall (Head Tutor\, Vocal)\nElizabeth Dodd (Viol\, Renaissance Dance)\nPhilip Gruar (Recorder)\nHugh Cherry (Lute)\nMichael Piraner (Recorder)
URL:https://earlymusicdiary.org.uk/event/2573/
LOCATION:Higham Hall\, Bassenthwaite Lake\, Cockermouth\, Cumbria\, CA13 9SH
CATEGORIES:Courses,Instruments,Singers
END:VEVENT
BEGIN:VEVENT
DTSTART;VALUE=DATE:20230813
DTEND;VALUE=DATE:20230814
DTSTAMP:20260416T162237
CREATED:20230720T075027Z
LAST-MODIFIED:20230720T075027Z
UID:2869-1691884800-1691971199@earlymusicdiary.org.uk
SUMMARY:Come & Sing Bach Motets
DESCRIPTION:A choral workshop enjoying a selection of Bach Motets under the guidance of Nicholas O’Neill. \nThe Motets will be “Lobet den Herrn”\, “Jesu\, meine Freude”\, “Komm and Jesu\, komm”.
URL:https://earlymusicdiary.org.uk/event/2869/
LOCATION:East Horsley Village Hall\, Surrey\, KT24 6QT
CATEGORIES:Singers,Workshops
END:VEVENT
BEGIN:VEVENT
DTSTART;VALUE=DATE:20230807
DTEND;VALUE=DATE:20230812
DTSTAMP:20260416T162237
CREATED:20230131T162059Z
LAST-MODIFIED:20230131T162221Z
UID:1999-1691366400-1691798399@earlymusicdiary.org.uk
SUMMARY:Summer Baroque Instrumental Course
DESCRIPTION:An intensive five-day course for aspiring professional baroque instrumentalists.
URL:https://earlymusicdiary.org.uk/event/1999/
LOCATION:Laidlaw Music Centre\, St Andrews\, KY16 9QF
CATEGORIES:Courses,Instruments
END:VEVENT
BEGIN:VEVENT
DTSTART;TZID=Europe/London:20230805T110000
DTEND;TZID=Europe/London:20230805T170000
DTSTAMP:20260416T162237
CREATED:20230608T075816Z
LAST-MODIFIED:20230608T075816Z
UID:2708-1691233200-1691254800@earlymusicdiary.org.uk
SUMMARY:Sing & Discover: Handel's Solomon with John Hancorn & Richard Wigmore
DESCRIPTION:Join John Hancorn and Richard Wigmore for a LIVE Sing & Discover workshop as part of Lewes Baroquefest. John and Richard will be exploring Handel’s Solomon. Learn about the culture and history and join in with the choruses. \nTickets £30.
URL:https://earlymusicdiary.org.uk/event/2708/
LOCATION:St Michael’s Church\, Lewes\, East Sussex\, BN7 1XU
CATEGORIES:Festivals,Singers,Workshops
END:VEVENT
BEGIN:VEVENT
DTSTART;VALUE=DATE:20230730
DTEND;VALUE=DATE:20230807
DTSTAMP:20260416T162237
CREATED:20230315T152220Z
LAST-MODIFIED:20230315T152220Z
UID:2338-1690675200-1691366399@earlymusicdiary.org.uk
SUMMARY:Cambridge Early Music - Renaissance Summer School
DESCRIPTION:Part of Cambridge Early Music’s Summer Schools programme\, this week will be the perfect opportunity to spend time with like-minded musicians\, and to develop your skills under the guidance of a world-class team of tutors. \nTutors: Clare Wilkinson\, Giles Underwood\, Jacob Heringman and John Bryan
URL:https://earlymusicdiary.org.uk/event/2338/
LOCATION:Benslow Music\, Benslow Lane\, Hitchin\, Hertfordshire\, SG4 9RB
CATEGORIES:Courses,Instruments,Singers
END:VEVENT
BEGIN:VEVENT
DTSTART;VALUE=DATE:20230730
DTEND;VALUE=DATE:20230806
DTSTAMP:20260416T162237
CREATED:20221118T154651Z
LAST-MODIFIED:20221123T164949Z
UID:1605-1690675200-1691279999@earlymusicdiary.org.uk
SUMMARY:Beauchamp Early Music Week
DESCRIPTION:This residential course is for singers and players of renaissance instruments and has been running for many years. \nBooking opens January 2023.
URL:https://earlymusicdiary.org.uk/event/1605/
LOCATION:Malvern College\, WR14 3DF
CATEGORIES:Courses,Instruments,Singers
END:VEVENT
BEGIN:VEVENT
DTSTART;TZID=Europe/London:20230729T160000
DTEND;TZID=Europe/London:20230729T173000
DTSTAMP:20260416T162237
CREATED:20230710T090112Z
LAST-MODIFIED:20230710T090327Z
UID:2840-1690646400-1690651800@earlymusicdiary.org.uk
SUMMARY:Banbury Young Baroque Musician Competition
DESCRIPTION:St Mary’s Church is hosting the ‘Banbury Young Baroque Musician’ Competition. A new competition related to Banbury Early Music Day. To enter\, musicians must be under 18 and must enter the competition to play a piece of music composed before 1750.
URL:https://earlymusicdiary.org.uk/event/2840/
LOCATION:St Mary’s Church\, Banbury\, OX16 0AA
CATEGORIES:Festivals
END:VEVENT
BEGIN:VEVENT
DTSTART;TZID=Europe/London:20230729T133000
DTEND;TZID=Europe/London:20230729T153000
DTSTAMP:20260416T162237
CREATED:20230710T085734Z
LAST-MODIFIED:20230710T090650Z
UID:2836-1690637400-1690644600@earlymusicdiary.org.uk
SUMMARY:Baroque Dance Class with Live Music from Ensemble La Notte
DESCRIPTION:As part of Banbury Early Music Day\, dance instructor extraordinaire\, Ann White\, and Ensemble La Notte collaborate for a masterclass in baroque dance with live music. \nEnsemble La Notte will also perform a concert earlier in the day\, further details are here: https://www.banburystmary.org.uk/event/18214058.
URL:https://earlymusicdiary.org.uk/event/2836/
LOCATION:St Mary’s Church\, Banbury\, OX16 0AA
CATEGORIES:Festivals,Workshops
END:VEVENT
BEGIN:VEVENT
DTSTART;TZID=Europe/London:20230729T100000
DTEND;TZID=Europe/London:20230729T113000
DTSTAMP:20260416T162237
CREATED:20230531T074417Z
LAST-MODIFIED:20230710T090955Z
UID:2688-1690624800-1690630200@earlymusicdiary.org.uk
SUMMARY:Motets & Madrigals\, Come and Sing Masterclass with Dylan McCaig
DESCRIPTION:Director of Music and Co-Founder of the Calder Consort\, Dylan McCaig kicks off Banbury Early Music Day with his ‘Motets & Madrigals\, Come and Sing Masterclass’\, aimed at amateur and experienced singers all ages.
URL:https://earlymusicdiary.org.uk/event/2688/
LOCATION:St Mary’s Church\, Banbury\, OX16 0AA
CATEGORIES:Singers,Workshops
END:VEVENT
BEGIN:VEVENT
DTSTART;VALUE=DATE:20230729
DTEND;VALUE=DATE:20230806
DTSTAMP:20260416T162237
CREATED:20221118T121646Z
LAST-MODIFIED:20221118T121646Z
UID:1603-1690588800-1691279999@earlymusicdiary.org.uk
SUMMARY:Dartington Summer School – Week 2
DESCRIPTION:Choir and vocal ensembles\, baroque orchestra\, recorder classes\, chamber music\, keyboard tuition\, vocal tuition and more!
URL:https://earlymusicdiary.org.uk/event/1603/
LOCATION:Dartington\, Devon\, Totnes\, TQ9 6EL
CATEGORIES:Courses,Instruments,Singers
END:VEVENT
BEGIN:VEVENT
DTSTART;VALUE=DATE:20230729
DTEND;VALUE=DATE:20230806
DTSTAMP:20260416T162237
CREATED:20220922T160609Z
LAST-MODIFIED:20221218T123213Z
UID:1231-1690588800-1691279999@earlymusicdiary.org.uk
SUMMARY:NORVIS 2023
DESCRIPTION:Summer school for recorders\, viols\, lutes and guitars\, baroque strings\, harpsichord and voices\, with repertoire from early Renaissance to late Baroque.
URL:https://earlymusicdiary.org.uk/event/1231/
LOCATION:Barnard Castle School\, Newgate\, Barnard Castle\, DL12 8UN
CATEGORIES:Courses,Instruments,Singers
END:VEVENT
BEGIN:VEVENT
DTSTART;VALUE=DATE:20230729
DTEND;VALUE=DATE:20230731
DTSTAMP:20260416T162237
CREATED:20230706T074027Z
LAST-MODIFIED:20230706T074041Z
UID:2771-1690588800-1690761599@earlymusicdiary.org.uk
SUMMARY:Baroque Dance Weekend Workshop
DESCRIPTION:This workshop will focus on The Rose Petal\, a Loure for 4\, choreographed in the Baroque style\, by Philippa\, to music by Telemann. \n 
URL:https://earlymusicdiary.org.uk/event/2771/
LOCATION:Claverton Down Community Hall\, Bath\, BA2 6DT
CATEGORIES:Courses,Workshops
END:VEVENT
BEGIN:VEVENT
DTSTART;VALUE=DATE:20230729
DTEND;VALUE=DATE:20230730
DTSTAMP:20260416T162237
CREATED:20230710T084601Z
LAST-MODIFIED:20230710T084601Z
UID:2834-1690588800-1690675199@earlymusicdiary.org.uk
SUMMARY:Banbury Early Music Day
DESCRIPTION:Banbury’s first ever Early Music Day\, including: \n\nMotets & Madrigals\, Come & Sing Masterclass.\nBaroque Dance class.\nYoung Baroque Musician competition.\nConcerts by Ensemble La Notte and Música d’Outrora.
URL:https://earlymusicdiary.org.uk/event/2834/
LOCATION:St Mary’s Church\, Banbury\, OX16 0AA
CATEGORIES:Festivals,Singers,Workshops
END:VEVENT
BEGIN:VEVENT
DTSTART;VALUE=DATE:20230729
DTEND;VALUE=DATE:20230730
DTSTAMP:20260416T162237
CREATED:20230211T101314Z
LAST-MODIFIED:20230504T142938Z
UID:2153-1690588800-1690675199@earlymusicdiary.org.uk
SUMMARY:SWEMF Workshop: Settings by Casali with Peter Leech
DESCRIPTION:Sacred Music from Eighteen Century Rome – A workshop for SATB voices and bass instruments.
URL:https://earlymusicdiary.org.uk/event/2153/
LOCATION:St Mary’s Church Hall\, Glastonbury\, BA6 9EJ
CATEGORIES:Instruments,Singers,Workshops
END:VEVENT
BEGIN:VEVENT
DTSTART;VALUE=DATE:20230723
DTEND;VALUE=DATE:20230731
DTSTAMP:20260416T162237
CREATED:20230315T183943Z
LAST-MODIFIED:20230315T183943Z
UID:2347-1690070400-1690761599@earlymusicdiary.org.uk
SUMMARY:Cambridge Early Music - Baroque Summer School
DESCRIPTION:Following on from the success of last year’s production of The Fairy Queen\, this year’s course focuses on Henry Purcell’s King Arthur: a dramatic work based around the play of the same name by John Dryden. \nTutors: Laurence Cummings\, Bojan Čičić\, Mark Caudle\, Leo Duarte and Mary Collins
URL:https://earlymusicdiary.org.uk/event/2347/
LOCATION:Benslow Music\, Benslow Lane\, Hitchin\, Hertfordshire\, SG4 9RB
CATEGORIES:Courses,Instruments,Singers
END:VEVENT
BEGIN:VEVENT
DTSTART;VALUE=DATE:20230722
DTEND;VALUE=DATE:20230730
DTSTAMP:20260416T162237
CREATED:20230322T165427Z
LAST-MODIFIED:20230322T165437Z
UID:2400-1689984000-1690675199@earlymusicdiary.org.uk
SUMMARY:Three Choirs Festival
DESCRIPTION:This year’s festival takes place in venues in and around Gloucester.
URL:https://earlymusicdiary.org.uk/event/2400/
LOCATION:Gloucester Cathedral\, GL1 2LX
CATEGORIES:Singers,Talks,Workshops
END:VEVENT
BEGIN:VEVENT
DTSTART;VALUE=DATE:20230722
DTEND;VALUE=DATE:20230730
DTSTAMP:20260416T162237
CREATED:20221118T120423Z
LAST-MODIFIED:20221118T121210Z
UID:1597-1689984000-1690675199@earlymusicdiary.org.uk
SUMMARY:Dartington Summer School - Week 1
DESCRIPTION:Vocal ensembles\, medieval music\, renaissance wind ensembles\, viol music\, chamber music\, lute tuition\, early keyboard classes\, and more!
URL:https://earlymusicdiary.org.uk/event/1597/
LOCATION:Dartington\, Devon\, Totnes\, TQ9 6EL
CATEGORIES:Courses,Instruments,Singers
END:VEVENT
BEGIN:VEVENT
DTSTART;VALUE=DATE:20230716
DTEND;VALUE=DATE:20230724
DTSTAMP:20260416T162237
CREATED:20221118T114719Z
LAST-MODIFIED:20221118T114748Z
UID:1589-1689465600-1690156799@earlymusicdiary.org.uk
SUMMARY:Edinburgh Early Music Week with Rory McCleery
DESCRIPTION:An international gathering of amateur choral singers.
URL:https://earlymusicdiary.org.uk/event/1589/
LOCATION:Old St Paul’s Church\, Edinburgh\, EH1 1DH
CATEGORIES:Courses,Singers
END:VEVENT
BEGIN:VEVENT
DTSTART;VALUE=DATE:20230716
DTEND;VALUE=DATE:20230722
DTSTAMP:20260416T162237
CREATED:20230315T152118Z
LAST-MODIFIED:20230315T183305Z
UID:2336-1689465600-1689983999@earlymusicdiary.org.uk
SUMMARY:The International Viol Summer School
DESCRIPTION:Five days of viol consort playing in a variety of group sizes with other players of an advanced level\, and opportunities to study various afternoon ‘options’ including technical sessions\, some lesser known repertoire and/or renaissance viols. \nTutors: Alison Crum\, Peter Wendland and Ibiz Aziz with John Bryan
URL:https://earlymusicdiary.org.uk/event/2336/
LOCATION:Benslow Music\, Benslow Lane\, Hitchin\, Hertfordshire\, SG4 9RB
CATEGORIES:Courses,Instruments
END:VEVENT
BEGIN:VEVENT
DTSTART;TZID=Europe/London:20230715T183000
DTEND;TZID=Europe/London:20230715T203000
DTSTAMP:20260416T162237
CREATED:20230519T090136Z
LAST-MODIFIED:20230519T090517Z
UID:2666-1689445800-1689453000@earlymusicdiary.org.uk
SUMMARY:Motets & Madrigals Workshop
DESCRIPTION:Come and sing music by Arcadelt\, Isaac\, Lassus\, Wilbye and others.
URL:https://earlymusicdiary.org.uk/event/2666/
LOCATION:St Michael’s\, Cornhill\, London\, EC3V 9DS
CATEGORIES:Singers,Workshops
END:VEVENT
END:VCALENDAR