BEGIN:VCALENDAR
VERSION:2.0
PRODID:-//Early Music Diary - ECPv6.15.20//NONSGML v1.0//EN
CALSCALE:GREGORIAN
METHOD:PUBLISH
X-WR-CALNAME:Early Music Diary
X-ORIGINAL-URL:https://earlymusicdiary.org.uk
X-WR-CALDESC:Events for Early Music Diary
REFRESH-INTERVAL;VALUE=DURATION:PT1H
X-Robots-Tag:noindex
X-PUBLISHED-TTL:PT1H
BEGIN:VTIMEZONE
TZID:Europe/London
BEGIN:DAYLIGHT
TZOFFSETFROM:+0000
TZOFFSETTO:+0100
TZNAME:BST
DTSTART:20230326T010000
END:DAYLIGHT
BEGIN:STANDARD
TZOFFSETFROM:+0100
TZOFFSETTO:+0000
TZNAME:GMT
DTSTART:20231029T010000
END:STANDARD
BEGIN:DAYLIGHT
TZOFFSETFROM:+0000
TZOFFSETTO:+0100
TZNAME:BST
DTSTART:20240331T010000
END:DAYLIGHT
BEGIN:STANDARD
TZOFFSETFROM:+0100
TZOFFSETTO:+0000
TZNAME:GMT
DTSTART:20241027T010000
END:STANDARD
BEGIN:DAYLIGHT
TZOFFSETFROM:+0000
TZOFFSETTO:+0100
TZNAME:BST
DTSTART:20250330T010000
END:DAYLIGHT
BEGIN:STANDARD
TZOFFSETFROM:+0100
TZOFFSETTO:+0000
TZNAME:GMT
DTSTART:20251026T010000
END:STANDARD
END:VTIMEZONE
BEGIN:VEVENT
DTSTART;TZID=Europe/London:20240101T180000
DTEND;TZID=Europe/London:20240329T200000
DTSTAMP:20260420T151807
CREATED:20231129T183637Z
LAST-MODIFIED:20231129T183820Z
UID:3295-1704132000-1711742400@earlymusicdiary.org.uk
SUMMARY:Online Early Music Forum
DESCRIPTION:Every Monday and Friday\, In your own home\, online with Jamulus software (https://jamulus.io). \nOEMF began just before lockdown\, as the COVID19 pandemic was gathering momentum\, and has continued ever since. In addition to the usual equipment (your voice and your musical talent)\, you will need a computer with Jamulus software (https://jamulus.io). Turn off Wi-Fi (please read the excellent Jamulus documentation) and connect to the internet with an ethernet cable. Turn off speakers and Bluetooth and connect an audio interface with microphone and headphones. (There is a list of suggested equiment in the documentation.) Run Jamulus and ‘Connect’ to OEMF (Genre: Classical / Folk). Introduce yourself and join in. See you there!
URL:https://earlymusicdiary.org.uk/event/3295/
LOCATION:Online
CATEGORIES:Online,Singers,Workshops
END:VEVENT
BEGIN:VEVENT
DTSTART;VALUE=DATE:20240110
DTEND;VALUE=DATE:20240422
DTSTAMP:20260420T151807
CREATED:20231213T171451Z
LAST-MODIFIED:20231213T171451Z
UID:3373-1704844800-1713743999@earlymusicdiary.org.uk
SUMMARY:Richmond Opera 2024
DESCRIPTION:A fully staged performance of Handel’s opera Semele with full Baroque Orchestra.  Anyone is welcome to join the chorus.
URL:https://earlymusicdiary.org.uk/event/3373/
LOCATION:Normansfield Theatre\, Teddington\, TW11 9PS
CATEGORIES:Courses,Singers
END:VEVENT
BEGIN:VEVENT
DTSTART;VALUE=DATE:20240301
DTEND;VALUE=DATE:20240304
DTSTAMP:20260420T151807
CREATED:20240103T161139Z
LAST-MODIFIED:20240103T161139Z
UID:3451-1709251200-1709510399@earlymusicdiary.org.uk
SUMMARY:Chamber Singing Weekend - When David Heard
DESCRIPTION:Chamber Singing Weekender – Gombert\, Tomkins and Weelkes.
URL:https://earlymusicdiary.org.uk/event/3451/
LOCATION:St Barnabas\, Pimlico\, London\, SW1W 8PF
CATEGORIES:Courses,Singers
END:VEVENT
BEGIN:VEVENT
DTSTART;VALUE=DATE:20240302
DTEND;VALUE=DATE:20240303
DTSTAMP:20260420T151807
CREATED:20231120T100231Z
LAST-MODIFIED:20231120T100255Z
UID:3276-1709337600-1709423999@earlymusicdiary.org.uk
SUMMARY:SWEMF Workshop: Vivaldi’s Gloria with Ben England
DESCRIPTION:Workshop with Ben England BEM for SATB voices and strings – Choruses from Vivaldi’s Gloria.  A=415Hz.
URL:https://earlymusicdiary.org.uk/event/3276/
LOCATION:West Leigh Infant School\, nr Bristol\, Backwell\, BS48 3NG
CATEGORIES:Instruments,Singers,Workshops
END:VEVENT
BEGIN:VEVENT
DTSTART;VALUE=DATE:20240302
DTEND;VALUE=DATE:20240303
DTSTAMP:20260420T151807
CREATED:20240119T163203Z
LAST-MODIFIED:20240119T163348Z
UID:3553-1709337600-1709423999@earlymusicdiary.org.uk
SUMMARY:Great Round Byrd Choral Evensong
DESCRIPTION:Rehearse and sing evensong in a single afternoon with Round Byrd. \nIncluding Purcell\, Hear my Prayer.  Gibbons 2nd evening service.  Byrd Miserere Mei.
URL:https://earlymusicdiary.org.uk/event/3553/
LOCATION:St Mary’s\, Ross-on-Wye\, Herefordshire\, HR9 5HN
CATEGORIES:Singers,Workshops
END:VEVENT
BEGIN:VEVENT
DTSTART;VALUE=DATE:20240302
DTEND;VALUE=DATE:20240303
DTSTAMP:20260420T151807
CREATED:20240122T152927Z
LAST-MODIFIED:20240122T152927Z
UID:3577-1709337600-1709423999@earlymusicdiary.org.uk
SUMMARY:Come & Sing Victoria & Morales
DESCRIPTION:Come and join Clacton Choral Society for a morning learning and singing two 16th century Spanish masterpieces “Ego sum panis vivus” by Tomas Luis de Victoria and “Peccantum me quotidie” by Cristobal de Morales.\, led by Michael Danes.
URL:https://earlymusicdiary.org.uk/event/3577/
LOCATION:St James’\, Clacton-on-Sea\, CO15 1LE
CATEGORIES:Singers,Workshops
END:VEVENT
BEGIN:VEVENT
DTSTART;VALUE=DATE:20240302
DTEND;VALUE=DATE:20240303
DTSTAMP:20260420T151807
CREATED:20240213T142141Z
LAST-MODIFIED:20240213T142141Z
UID:3632-1709337600-1709423999@earlymusicdiary.org.uk
SUMMARY:Come & Sing with Stile Antico
DESCRIPTION:Members of Stile Antico will lead and coach participants in music by Victoria\, Palestrina\, Morales and Lusitano\, in four to twelve parts.
URL:https://earlymusicdiary.org.uk/event/3632/
LOCATION:St John the Evangelist\, Oxford\, OX4 1EH
CATEGORIES:Singers,Workshops
END:VEVENT
BEGIN:VEVENT
DTSTART;VALUE=DATE:20240302
DTEND;VALUE=DATE:20240303
DTSTAMP:20260420T151807
CREATED:20240226T164547Z
LAST-MODIFIED:20240226T164547Z
UID:3717-1709337600-1709423999@earlymusicdiary.org.uk
SUMMARY:EMFS Choir Meeting: Missa l'homme armé
DESCRIPTION:Settings of sections of the Missa l’homme armé by Busnois\, Dufay\, Guerrero\, Morales\, and Palestrina. New singers are always welcome.
URL:https://earlymusicdiary.org.uk/event/3717/
LOCATION:Stockbridge Parish Church\, Edinburgh\, EH3 5BN
CATEGORIES:Singers,Workshops
END:VEVENT
BEGIN:VEVENT
DTSTART;TZID=Europe/London:20240302T170000
DTEND;TZID=Europe/London:20240316T180000
DTSTAMP:20260420T151807
CREATED:20240213T141208Z
LAST-MODIFIED:20240213T141223Z
UID:3623-1709398800-1710612000@earlymusicdiary.org.uk
SUMMARY:Sing in the Spring with Leah Stuttard
DESCRIPTION:Join Leah Stuttard to learn and sing some seasonal medieval music.  Live on Zoom plus access via private link to a video of each session. \n£10 each session or £25 for all three.  Email leah@leahstuttard.com to enrol.
URL:https://earlymusicdiary.org.uk/event/3623/
LOCATION:Online
CATEGORIES:Online,Singers,Workshops
END:VEVENT
BEGIN:VEVENT
DTSTART;VALUE=DATE:20240303
DTEND;VALUE=DATE:20240304
DTSTAMP:20260420T151807
CREATED:20240220T110707Z
LAST-MODIFIED:20240220T110707Z
UID:3680-1709424000-1709510399@earlymusicdiary.org.uk
SUMMARY:Come & Sing Casciolini Day
DESCRIPTION:Sopranos and tenors most welcome for this single day event singing Casciolini’s beautiful Missa brevis in a minor and John IV of Portugal Crux fidelis. (We could squeeze in an alto or bass if they came as part of a pair with a sop or tenor!) To register\, please contact JNMR84094@gmail.com.
URL:https://earlymusicdiary.org.uk/event/3680/
LOCATION:St Mary’s\, Harrow\, HA1 3HL
CATEGORIES:Singers,Workshops
END:VEVENT
BEGIN:VEVENT
DTSTART;VALUE=DATE:20240303
DTEND;VALUE=DATE:20240309
DTSTAMP:20260420T151807
CREATED:20230809T075546Z
LAST-MODIFIED:20230809T075928Z
UID:2913-1709424000-1709942399@earlymusicdiary.org.uk
SUMMARY:Granada Lamentations with Gabriel Díaz
DESCRIPTION:A course for choral singers held in the Monasterio de San Bernardo\, close to the Alhambra Palace in Granada. The repertoire will be based on the largely six-part Lamentations of Jeremiah by Pedro Ruimonte\, 1565-1627.
URL:https://earlymusicdiary.org.uk/event/2913/
LOCATION:Monasterio de San Bernardo\, Granada\, Spain 18010
CATEGORIES:Courses,Singers
END:VEVENT
BEGIN:VEVENT
DTSTART;VALUE=DATE:20240304
DTEND;VALUE=DATE:20240307
DTSTAMP:20260420T151807
CREATED:20231221T083652Z
LAST-MODIFIED:20231221T083806Z
UID:3403-1709510400-1709769599@earlymusicdiary.org.uk
SUMMARY:Winter Organ Course 2024
DESCRIPTION:The 2024 winter course focusses on the works of J. Sebastian Bach\, with emphasis on the chorale preludes.
URL:https://earlymusicdiary.org.uk/event/3403/
LOCATION:St Michael’s Church\, Lyme Regis\, Dorset\, DT7 3DB
CATEGORIES:Courses,Instruments
END:VEVENT
BEGIN:VEVENT
DTSTART;VALUE=DATE:20240307
DTEND;VALUE=DATE:20240311
DTSTAMP:20260420T151807
CREATED:20230816T093619Z
LAST-MODIFIED:20230816T093619Z
UID:2973-1709769600-1710115199@earlymusicdiary.org.uk
SUMMARY:Benslow LuteFest
DESCRIPTION:Plenty of opportunities to play at all levels of ability\, and to socialise with like-minded early music enthusiasts. \nTutors: Fred Jacobs\, Jacob Heringman\, Lynda Sayce\, Matthew Spring\, Sara Stowe.
URL:https://earlymusicdiary.org.uk/event/2973/
LOCATION:Benslow Music\, Benslow Lane\, Hitchin\, Hertfordshire\, SG4 9RB
CATEGORIES:Courses,Instruments
END:VEVENT
BEGIN:VEVENT
DTSTART;VALUE=DATE:20240309
DTEND;VALUE=DATE:20240310
DTSTAMP:20260420T151807
CREATED:20240207T160809Z
LAST-MODIFIED:20240207T160925Z
UID:3613-1709942400-1710028799@earlymusicdiary.org.uk
SUMMARY:EEMF Workshop for Singers with Rory McCleery
DESCRIPTION:Sebastianist Music from Renaissance Portugal.
URL:https://earlymusicdiary.org.uk/event/3613/
LOCATION:Horningsea Village Hall\, Cambridge\, CB25 9JG
CATEGORIES:Singers,Workshops
END:VEVENT
BEGIN:VEVENT
DTSTART;VALUE=DATE:20240309
DTEND;VALUE=DATE:20240310
DTSTAMP:20260420T151807
CREATED:20240226T164639Z
LAST-MODIFIED:20240226T164639Z
UID:3719-1709942400-1710028799@earlymusicdiary.org.uk
SUMMARY:EMFS Viol Consort Café
DESCRIPTION:A sociable playing morning for viol players at all levels\, working in small groups with players of similar experience\, facilitated by Vickie Hobson and Philip Redfern.
URL:https://earlymusicdiary.org.uk/event/3719/
LOCATION:St Catherine’s Argyle Church\, Edinburgh\, EH9 1TY
CATEGORIES:Instruments,Workshops
END:VEVENT
BEGIN:VEVENT
DTSTART;VALUE=DATE:20240316
DTEND;VALUE=DATE:20240317
DTSTAMP:20260420T151807
CREATED:20231116T162405Z
LAST-MODIFIED:20231207T151430Z
UID:3232-1710547200-1710633599@earlymusicdiary.org.uk
SUMMARY:NEEMF Workshop: Polychoral music from the Polish Court with Eamonn Dougan
DESCRIPTION:Polychoral Music from the Polish Court of Sigismund III. \nA workshop for voices & instruments led by Eamonn Dougan.
URL:https://earlymusicdiary.org.uk/event/3232/
LOCATION:Clements Hall\, York\, Nunthorpe Rd\, York\, YO23 1BW
CATEGORIES:Instruments,Singers,Workshops
END:VEVENT
BEGIN:VEVENT
DTSTART;VALUE=DATE:20240316
DTEND;VALUE=DATE:20240317
DTSTAMP:20260420T151807
CREATED:20231116T183820Z
LAST-MODIFIED:20231116T183835Z
UID:3255-1710547200-1710633599@earlymusicdiary.org.uk
SUMMARY:Handel and the Human Voice – A Singing Workshop
DESCRIPTION:Enthusiastic amateur singers and Handel enthusiasts are invited to join LHF Musical Director Laurence Cummings and leading Handel scholar Ruth Smith to explore just how Handel’s vocal writing is so utterly extraordinary. \nSingers will work through selected choruses from Messiah\, focusing on the marriage of text and vocal line\, examining vocal techniques and dramatic intent as well as having fun with this incredible music!
URL:https://earlymusicdiary.org.uk/event/3255/
LOCATION:Grosvenor Chapel\, London\, W1K 2PA
CATEGORIES:Singers,Workshops
END:VEVENT
BEGIN:VEVENT
DTSTART;VALUE=DATE:20240316
DTEND;VALUE=DATE:20240317
DTSTAMP:20260420T151807
CREATED:20240116T162651Z
LAST-MODIFIED:20240116T162651Z
UID:3510-1710547200-1710633599@earlymusicdiary.org.uk
SUMMARY:South West Baroque Orchestra Rehearsal
DESCRIPTION:South West Baroque Orchestra is the regional period instrument orchestra in the South West.  Applicants are welcome to play for a rehearsal to try out the experience of baroque playing techniques.
URL:https://earlymusicdiary.org.uk/event/3510/
LOCATION:Culmstock Village Hall\, Devon\, EX15 3HQ
CATEGORIES:Instruments,Workshops
END:VEVENT
BEGIN:VEVENT
DTSTART;VALUE=DATE:20240316
DTEND;VALUE=DATE:20240317
DTSTAMP:20260420T151807
CREATED:20240219T114528Z
LAST-MODIFIED:20240219T114528Z
UID:3659-1710547200-1710633599@earlymusicdiary.org.uk
SUMMARY:Come & Sing Messiah Selections
DESCRIPTION:Learn some of the choruses from Handel’s Messiah\, led by Paul Herrington.
URL:https://earlymusicdiary.org.uk/event/3659/
LOCATION:St Mary’s\, Haddenham\, Bucks\, HP17 8AE
CATEGORIES:Singers,Workshops
END:VEVENT
BEGIN:VEVENT
DTSTART;VALUE=DATE:20240316
DTEND;VALUE=DATE:20240317
DTSTAMP:20260420T151807
CREATED:20240305T105018Z
LAST-MODIFIED:20240305T105018Z
UID:3744-1710547200-1710633599@earlymusicdiary.org.uk
SUMMARY:Come & Sing Vivaldi Gloria Choruses
DESCRIPTION:Join the Pentland Singers and enjoy singing through the wonderful choruses of Vivaldi’s Gloria!
URL:https://earlymusicdiary.org.uk/event/3744/
LOCATION:St Josephs Hall\, Balerno\, Edinburgh\, EH14 7EH
CATEGORIES:Singers,Workshops
END:VEVENT
BEGIN:VEVENT
DTSTART;TZID=Europe/London:20240316T183000
DTEND;TZID=Europe/London:20240316T203000
DTSTAMP:20260420T151807
CREATED:20231006T110427Z
LAST-MODIFIED:20231006T110436Z
UID:3140-1710613800-1710621000@earlymusicdiary.org.uk
SUMMARY:London Motet & Madrigal Club Meeting
DESCRIPTION:A London-based music club who meet once a month to sing repertoire from the Elizabethan and Jacobean eras from Britain and Europe.
URL:https://earlymusicdiary.org.uk/event/3140/
LOCATION:St Michael’s\, Cornhill\, London\, EC3V 9DS
CATEGORIES:Singers,Workshops
END:VEVENT
BEGIN:VEVENT
DTSTART;VALUE=DATE:20240318
DTEND;VALUE=DATE:20240321
DTSTAMP:20260420T151807
CREATED:20231006T112028Z
LAST-MODIFIED:20231006T112028Z
UID:3156-1710720000-1710979199@earlymusicdiary.org.uk
SUMMARY:Rondo Viol Academy
DESCRIPTION:Elementary\, Lower Intermediate\, Pre-formed Consorts.
URL:https://earlymusicdiary.org.uk/event/3156/
LOCATION:St. Katharine’s\, Henley-on-Thames\, RG9 6NN
CATEGORIES:Courses,Instruments
END:VEVENT
BEGIN:VEVENT
DTSTART;VALUE=DATE:20240323
DTEND;VALUE=DATE:20240324
DTSTAMP:20260420T151807
CREATED:20230512T090124Z
LAST-MODIFIED:20240207T152929Z
UID:2640-1711152000-1711238399@earlymusicdiary.org.uk
SUMMARY:NWEMF Workshop with Lisa Colton
DESCRIPTION:‘I am troubled on every side!’: music by Tallis and his contemporaries\, for singers and instruments (A=440). \nDetails and Application Form
URL:https://earlymusicdiary.org.uk/event/2640/
LOCATION:Liverpool Parish Church\, Chapel Street\, L2 8TZ
CATEGORIES:Instruments,Singers,Workshops
END:VEVENT
BEGIN:VEVENT
DTSTART;VALUE=DATE:20240323
DTEND;VALUE=DATE:20240324
DTSTAMP:20260420T151807
CREATED:20231218T093541Z
LAST-MODIFIED:20240209T110643Z
UID:3397-1711152000-1711238399@earlymusicdiary.org.uk
SUMMARY:SWEMF Workshop: Renaissance Wind Band with Tim Bayley
DESCRIPTION:The aim of the day is to enjoy the rich and varied sonorities of a Renaissance Wind Band.
URL:https://earlymusicdiary.org.uk/event/3397/
LOCATION:Christ Church\, Cheltenham\, GL50 2JH
CATEGORIES:Instruments,Workshops
END:VEVENT
BEGIN:VEVENT
DTSTART;VALUE=DATE:20240323
DTEND;VALUE=DATE:20240324
DTSTAMP:20260420T151807
CREATED:20240117T163433Z
LAST-MODIFIED:20240207T155443Z
UID:3545-1711152000-1711238399@earlymusicdiary.org.uk
SUMMARY:EMFS Choral Workshop with David Allinson
DESCRIPTION:In Monte Oliveti – motets by Lassus\, Victoria\, Weelkes\, Guerrero and others – a Choral workshop on early music for Palm Sunday.
URL:https://earlymusicdiary.org.uk/event/3545/
LOCATION:Inverleith St Serf’s Church\, Edinburgh\, EH5 3BD
CATEGORIES:Singers,Workshops
END:VEVENT
BEGIN:VEVENT
DTSTART;VALUE=DATE:20240323
DTEND;VALUE=DATE:20240324
DTSTAMP:20260420T151807
CREATED:20240219T113746Z
LAST-MODIFIED:20240219T113811Z
UID:3647-1711152000-1711238399@earlymusicdiary.org.uk
SUMMARY:Come & Sing Messiah Choruses
DESCRIPTION:Come and enjoy learning some of the popular choruses from Handel’s Messiah\, led by the former King Singers members Phillip Lawson.
URL:https://earlymusicdiary.org.uk/event/3647/
LOCATION:Christ Church\, Chineham\, Hampshire\, RG24 8LT
CATEGORIES:Singers,Workshops
END:VEVENT
BEGIN:VEVENT
DTSTART;VALUE=DATE:20240323
DTEND;VALUE=DATE:20240325
DTSTAMP:20260420T151807
CREATED:20240304T114738Z
LAST-MODIFIED:20240304T114738Z
UID:3738-1711152000-1711324799@earlymusicdiary.org.uk
SUMMARY:Medieval Music in the Dales Online
DESCRIPTION:Includes videos of performances from the 2023 live festival\, plus a vocal workshop and visit to Dodd Lutherie.
URL:https://earlymusicdiary.org.uk/event/3738/
LOCATION:Online
CATEGORIES:Festivals,Instruments,Online,Singers
END:VEVENT
BEGIN:VEVENT
DTSTART;VALUE=DATE:20240329
DTEND;VALUE=DATE:20240330
DTSTAMP:20260420T151807
CREATED:20240219T153001Z
LAST-MODIFIED:20240219T153001Z
UID:3675-1711670400-1711756799@earlymusicdiary.org.uk
SUMMARY:Come & Sing Handel's Messiah
DESCRIPTION:Ring in the Easter Weekend by joining with fellow singers to form the chorus of Handel’s triumphant masterpiece\, led by conductor Matthew Kofi Waldren.
URL:https://earlymusicdiary.org.uk/event/3675/
LOCATION:Holy Sepulchre\, London\, EC1A 2FD
CATEGORIES:Singers,Workshops
END:VEVENT
END:VCALENDAR